Back to Multiple platform build/check report for BioC 3.12
A[B]CDEFGHIJKLMNOPQRSTUVWXYZ

INSTALL report for BioNet on nebbiolo1

This page was generated on 2020-10-14 11:11:45 -0400 (Wed, 14 Oct 2020).

TO THE DEVELOPERS/MAINTAINERS OF THE BioNet PACKAGE: Please make sure to use the following settings in order to reproduce any error or warning you see on this page.
Package 175/1930HostnameOS / ArchINSTALLBUILDCHECKBUILD BIN
BioNet 1.49.3
Marcus Dittrich
Snapshot Date: 2020-10-13 14:40:34 -0400 (Tue, 13 Oct 2020)
URL: https://git.bioconductor.org/packages/BioNet
Branch: master
Last Commit: 7df8eb7
Last Changed Date: 2020-10-05 13:35:23 -0400 (Mon, 05 Oct 2020)
malbec1 Linux (Ubuntu 18.04.4 LTS) / x86_64  OK  OK  OK UNNEEDED, same version exists in internal repository
nebbiolo1 Linux (Ubuntu 20.04.1 LTS) / x86_64 [ OK ] OK  OK 
tokay1 Windows Server 2012 R2 Standard / x64  OK  OK  OK  OK UNNEEDED, same version exists in internal repository
riesling1 Windows Server 2019 Standard / x64  OK  OK  OK  OK 
merida1 macOS 10.14.6 Mojave / x86_64  OK  OK  OK  OK UNNEEDED, same version exists in internal repository

Summary

Package: BioNet
Version: 1.49.3
Command: /home/biocbuild/bbs-3.12-bioc/R/bin/R CMD INSTALL BioNet
StartedAt: 2020-10-13 16:24:17 -0400 (Tue, 13 Oct 2020)
EndedAt: 2020-10-13 16:25:27 -0400 (Tue, 13 Oct 2020)
EllapsedTime: 69.3 seconds
RetCode: 0
Status:  OK 

Command output

##############################################################################
##############################################################################
###
### Running command:
###
###   /home/biocbuild/bbs-3.12-bioc/R/bin/R CMD INSTALL BioNet
###
##############################################################################
##############################################################################


* installing to library ‘/home/biocbuild/bbs-3.12-bioc/R/library’
* installing *source* package ‘BioNet’ ...
** using staged installation
** R
** data
** inst
** byte-compile and prepare package for lazy loading
** help
*** installing help indices
** building package indices
** installing vignettes
** testing if installed package can be loaded from temporary location
** testing if installed package can be loaded from final location
** testing if installed package keeps a record of temporary installation path
* DONE (BioNet)