Back to Multiple platform build/check report for BioC 3.12
A[B]CDEFGHIJKLMNOPQRSTUVWXYZ

CHECK report for BioNet on nebbiolo1

This page was generated on 2021-03-02 12:14:36 -0500 (Tue, 02 Mar 2021).

To the developers/maintainers of the BioNet package:
Please make sure to use the following settings in order to reproduce any error or warning you see on this page.
Package 182/1974HostnameOS / ArchINSTALLBUILDCHECKBUILD BIN
BioNet 1.50.0
Marcus Dittrich
Snapshot Date: 2021-03-01 14:52:38 -0500 (Mon, 01 Mar 2021)
URL: https://git.bioconductor.org/packages/BioNet
Branch: RELEASE_3_12
Last Commit: a4e5179
Last Changed Date: 2020-10-27 10:38:44 -0500 (Tue, 27 Oct 2020)
malbec1Linux (Ubuntu 18.04.5 LTS) / x86_64  OK    OK    OK  UNNEEDED, same version exists in internal repository
nebbiolo1Linux (Ubuntu 20.04.2 LTS) / x86_64  OK    OK    OK  
tokay1Windows Server 2012 R2 Standard / x64  OK    OK    OK    OK  UNNEEDED, same version exists in internal repository
merida1macOS 10.14.6 Mojave / x86_64  OK    OK    OK    OK  UNNEEDED, same version exists in internal repository

Summary

Package: BioNet
Version: 1.50.0
Command: /home/biocbuild/bbs-3.12-bioc/R/bin/R CMD check --install=check:BioNet.install-out.txt --library=/home/biocbuild/bbs-3.12-bioc/R/library --no-vignettes --timings BioNet_1.50.0.tar.gz
StartedAt: 2021-03-01 20:22:05 -0500 (Mon, 01 Mar 2021)
EndedAt: 2021-03-01 20:27:12 -0500 (Mon, 01 Mar 2021)
EllapsedTime: 307.2 seconds
RetCode: 0
Status:   OK  
CheckDir: BioNet.Rcheck
Warnings: 0

Command output

##############################################################################
##############################################################################
###
### Running command:
###
###   /home/biocbuild/bbs-3.12-bioc/R/bin/R CMD check --install=check:BioNet.install-out.txt --library=/home/biocbuild/bbs-3.12-bioc/R/library --no-vignettes --timings BioNet_1.50.0.tar.gz
###
##############################################################################
##############################################################################


* using log directory ‘/home/biocbuild/bbs-3.12-bioc/meat/BioNet.Rcheck’
* using R version 4.0.4 (2021-02-15)
* using platform: x86_64-pc-linux-gnu (64-bit)
* using session charset: UTF-8
* using option ‘--no-vignettes’
* checking for file ‘BioNet/DESCRIPTION’ ... OK
* checking extension type ... Package
* this is package ‘BioNet’ version ‘1.50.0’
* checking package namespace information ... OK
* checking package dependencies ... OK
* checking if this is a source package ... OK
* checking if there is a namespace ... OK
* checking for hidden files and directories ... OK
* checking for portable file names ... OK
* checking for sufficient/correct file permissions ... OK
* checking whether package ‘BioNet’ can be installed ... OK
* checking installed package size ... OK
* checking package directory ... OK
* checking ‘build’ directory ... OK
* checking DESCRIPTION meta-information ... OK
* checking top-level files ... OK
* checking for left-over files ... OK
* checking index information ... OK
* checking package subdirectories ... OK
* checking R files for non-ASCII characters ... OK
* checking R files for syntax errors ... OK
* checking whether the package can be loaded ... OK
* checking whether the package can be loaded with stated dependencies ... OK
* checking whether the package can be unloaded cleanly ... OK
* checking whether the namespace can be loaded with stated dependencies ... OK
* checking whether the namespace can be unloaded cleanly ... OK
* checking dependencies in R code ... NOTE
Packages in Depends field not imported from:
  ‘RBGL’ ‘graph’
  These packages need to be imported from (in the NAMESPACE file)
  for when this namespace is loaded but not attached.
* checking S3 generic/method consistency ... OK
* checking replacement functions ... OK
* checking foreign function calls ... OK
* checking R code for possible problems ... NOTE
.XGMML.edges: no visible global function definition for ‘is’
.XGMML.nodes: no visible global function definition for ‘is’
.add.edge.attrs: no visible global function definition for ‘read.table’
.add.node.attrs: no visible global function definition for ‘read.table’
.affyID2ppiID: no visible global function definition for ‘is’
.affyID2ppiID: no visible global function definition for ‘nodeData’
.graph.eda: no visible global function definition for ‘is’
.graph.eda: no visible global function definition for ‘write.table’
.graph.noa: no visible global function definition for ‘is’
.graph.noa: no visible global function definition for ‘write.table’
.graph.sif: no visible global function definition for ‘write.table’
.graph.table: no visible global function definition for ‘write.table’
.node.color: no visible global function definition for
  ‘colorRampPalette’
.saveGraph.net: no visible global function definition for ‘nodes’
.saveGraph.net: no visible global function definition for ‘write.table’
.saveGraph.net: no visible global function definition for ‘isDirected’
.saveGraph.net: no visible global function definition for ‘eWV’
.saveGraph.net: no visible global function definition for ‘edgeMatrix’
.saveGraph.tab: no visible global function definition for ‘edgeNames’
.saveGraph.tgf: no visible global function definition for ‘write.table’
.saveGraph.tgf: no visible global function definition for ‘nodes’
.saveGraph.tgf: no visible global function definition for ‘eWV’
.saveGraph.tgf: no visible global function definition for ‘edgeMatrix’
.subNetwork0: no visible global function definition for ‘is’
.subNetwork0: no visible global function definition for ‘na.omit’
.subNetwork0: no visible global function definition for ‘subGraph’
.subNetwork0: no visible global function definition for ‘nodes’
.subNetwork1: no visible global function definition for ‘is’
.subNetwork1: no visible global function definition for ‘na.omit’
.subNetwork1: no visible global function definition for ‘adj’
.subNetwork1: no visible global function definition for ‘subGraph’
.subNetwork1: no visible global function definition for ‘nodes’
aggrPvals: no visible global function definition for ‘pbeta’
aggrPvals: no visible global function definition for ‘hist’
aggrPvals: no visible global function definition for ‘par’
bumOptim: no visible global function definition for ‘runif’
bumOptim: no visible global function definition for ‘optim’
compareNetworks: no visible global function definition for ‘is’
compareNetworks: no visible global function definition for ‘hist’
compareNetworks: no visible global function definition for ‘points’
compareNetworks: no visible global function definition for ‘legend’
consensusScores: no visible global function definition for ‘is’
consensusScores : <anonymous>: no visible global function definition
  for ‘nodes’
consensusScores: no visible global function definition for ‘numNodes’
consensusScores: no visible global function definition for ‘nodes’
consensusScores: no visible global function definition for ‘numEdges’
fitBumModel: no visible global function definition for ‘par’
fitBumModel: no visible global function definition for ‘hist’
getCompScores: no visible global function definition for ‘is’
getCompScores: no visible global function definition for ‘connComp’
getEdgeList: no visible global function definition for ‘is’
getEdgeList: no visible global function definition for ‘edgeMatrix’
getEdgeList: no visible global function definition for ‘nodes’
hist.bum: no visible global function definition for ‘hist’
hist.bum: no visible global function definition for ‘lines’
hist.bum: no visible global function definition for ‘abline’
hist.bum: no visible global function definition for ‘axis’
largestComp: no visible global function definition for ‘is’
largestComp: no visible global function definition for ‘connectedComp’
largestComp: no visible global function definition for ‘subGraph’
largestScoreComp: no visible global function definition for ‘is’
largestScoreComp: no visible global function definition for ‘na.omit’
largestScoreComp: no visible global function definition for ‘nodes’
largestScoreComp: no visible global function definition for ‘subGraph’
loadNetwork.sif: no visible global function definition for ‘read.table’
loadNetwork.tab: no visible global function definition for ‘new’
loadNetwork.tab: no visible global function definition for ‘addEdge’
makeNetwork: no visible global function definition for ‘new’
makeNetwork: no visible global function definition for ‘addEdge’
permutateNodes: no visible global function definition for ‘is’
permutateNodes: no visible global function definition for ‘nodes<-’
permutateNodes: no visible global function definition for ‘nodes’
plot.bum: no visible binding for global variable ‘uniroot’
plot.bum: no visible global function definition for ‘lines’
plot3dModule: no visible global function definition for ‘is’
plot3dModule: no visible global function definition for ‘rgl.open’
plot3dModule: no visible global function definition for ‘par3d’
plot3dModule: no visible global function definition for ‘rgl.texts’
plot3dModule: no visible global function definition for ‘rgl.bg’
plotLLSurface: no visible binding for global variable ‘heat.colors’
plotLLSurface: no visible global function definition for
  ‘filled.contour’
plotLLSurface: no visible global function definition for ‘axis’
plotLLSurface: no visible global function definition for ‘abline’
plotLLSurface: no visible global function definition for ‘strheight’
plotLLSurface: no visible global function definition for ‘points’
plotLLSurface: no visible global function definition for ‘text’
plotModule: no visible global function definition for ‘is’
readHeinzGraph: no visible global function definition for ‘is’
readHeinzGraph: no visible global function definition for ‘read.table’
readHeinzTree: no visible global function definition for ‘read.table’
readHeinzTree: no visible global function definition for ‘is’
readHeinzTree: no visible global function definition for ‘edgeNames’
readHeinzTree: no visible global function definition for ‘removeEdge’
resamplingPvalues: no visible global function definition for
  ‘rowttests’
resamplingPvalues: no visible binding for global variable ‘var’
resamplingPvalues: no visible global function definition for ‘pt’
rmSelfLoops: no visible global function definition for ‘is’
rmSelfLoops: no visible global function definition for ‘edgeNames’
rmSelfLoops: no visible global function definition for ‘numEdges’
rmSelfLoops: no visible global function definition for ‘removeEdge’
runFastHeinz: no visible global function definition for ‘is’
save3dModule: no visible global function definition for ‘rgl.bg’
save3dModule: no visible global function definition for
  ‘rgl.postscript’
saveNetwork: no visible global function definition for ‘is’
scoreNodes: no visible global function definition for ‘is’
scoreNodes: no visible global function definition for ‘nodes’
sortedEdgeList: no visible global function definition for ‘is’
sortedEdgeList: no visible global function definition for ‘isDirected’
writeHeinz: no visible global function definition for ‘is’
writeHeinzEdges: no visible global function definition for ‘is’
writeHeinzEdges: no visible global function definition for
  ‘write.table’
writeHeinzNodes: no visible global function definition for ‘is’
writeHeinzNodes: no visible global function definition for
  ‘write.table’
Undefined global functions or variables:
  abline addEdge adj axis colorRampPalette connComp connectedComp eWV
  edgeMatrix edgeNames filled.contour heat.colors hist is isDirected
  legend lines na.omit new nodeData nodes nodes<- numEdges numNodes
  optim par par3d pbeta points pt read.table removeEdge rgl.bg rgl.open
  rgl.postscript rgl.texts rowttests runif strheight subGraph text
  uniroot var write.table
Consider adding
  importFrom("grDevices", "colorRampPalette", "heat.colors")
  importFrom("graphics", "abline", "axis", "filled.contour", "hist",
             "legend", "lines", "par", "points", "strheight", "text")
  importFrom("methods", "is", "new")
  importFrom("stats", "na.omit", "optim", "pbeta", "pt", "runif",
             "uniroot", "var")
  importFrom("utils", "read.table", "write.table")
to your NAMESPACE file (and ensure that your DESCRIPTION Imports field
contains 'methods').
* checking Rd files ... OK
* checking Rd metadata ... OK
* checking Rd cross-references ... OK
* checking for missing documentation entries ... OK
* checking for code/documentation mismatches ... OK
* checking Rd \usage sections ... OK
* checking Rd contents ... OK
* checking for unstated dependencies in examples ... OK
* checking contents of ‘data’ directory ... OK
* checking data for non-ASCII characters ... OK
* checking data for ASCII and uncompressed saves ... OK
* checking files in ‘vignettes’ ... OK
* checking examples ... OK
Examples with CPU (user + system) or elapsed time > 5s
              user system elapsed
runFastHeinz 9.602  0.316   9.918
* checking for unstated dependencies in vignettes ... OK
* checking package vignettes in ‘inst/doc’ ... OK
* checking running R code from vignettes ... SKIPPED
* checking re-building of vignette outputs ... SKIPPED
* checking PDF version of manual ... OK
* DONE

Status: 2 NOTEs
See
  ‘/home/biocbuild/bbs-3.12-bioc/meat/BioNet.Rcheck/00check.log’
for details.



Installation output

BioNet.Rcheck/00install.out

##############################################################################
##############################################################################
###
### Running command:
###
###   /home/biocbuild/bbs-3.12-bioc/R/bin/R CMD INSTALL BioNet
###
##############################################################################
##############################################################################


* installing to library ‘/home/biocbuild/bbs-3.12-bioc/R/library’
* installing *source* package ‘BioNet’ ...
** using staged installation
** R
** data
** inst
** byte-compile and prepare package for lazy loading
** help
*** installing help indices
** building package indices
** installing vignettes
** testing if installed package can be loaded from temporary location
** testing if installed package can be loaded from final location
** testing if installed package keeps a record of temporary installation path
* DONE (BioNet)

Tests output


Example timings

BioNet.Rcheck/BioNet-Ex.timings

nameusersystemelapsed
aggrPvals0.2970.1680.465
bumOptim0.1460.0160.161
compareNetworks0.4140.0110.426
consensusScores0.2350.0000.235
fbum0.0000.0000.001
fbumLL0.1990.0040.203
fdrThreshold0.1590.0000.159
fitBumModel0.5050.0040.508
getCompScores1.1400.0241.164
getEdgeList0.4010.0000.401
hist.bum0.1850.0000.185
largestComp1.4950.0081.503
largestScoreComp2.7950.0482.843
loadNetwork.sif000
makeNetwork0.0070.0010.008
mapByVar000
permutateNodes3.4330.0193.453
piUpper0.1630.0000.163
plot.bum0.5380.0040.543
plot3dModule1.5610.0041.565
plotLLSurface0.2000.0000.199
plotModule1.6530.0081.660
print.bum0.1640.0040.167
pvaluesExample0.0020.0030.006
readHeinzGraph0.2190.0040.222
readHeinzTree0.2180.0040.221
resamplingPvalues2.8280.0682.896
rmSelfLoops0.0270.0000.027
runFastHeinz9.6020.3169.918
save3dModule1.0380.0961.135
saveNetwork0.6890.0120.701
scanFDR0.2110.0000.211
scoreFunction0.2030.0960.298
scoreNodes1.5320.1601.692
scoreOffset0.1550.0000.155
sortedEdgeList2.0450.0032.049
subNetwork0.0220.0000.022
summary.bum0.1470.0000.147
writeHeinz1.3870.0121.399
writeHeinzEdges1.7460.0001.746
writeHeinzNodes1.2460.0081.254