Back to Multiple platform build/check report for BioC 3.12
A[B]CDEFGHIJKLMNOPQRSTUVWXYZ

INSTALL report for BiRewire on nebbiolo1

This page was generated on 2021-03-03 12:11:38 -0500 (Wed, 03 Mar 2021).

To the developers/maintainers of the BiRewire package:
Please make sure to use the following settings in order to reproduce any error or warning you see on this page.
Package 191/1974HostnameOS / ArchINSTALLBUILDCHECKBUILD BIN
BiRewire 3.22.0
Andrea Gobbi
Snapshot Date: 2021-03-02 14:50:31 -0500 (Tue, 02 Mar 2021)
URL: https://git.bioconductor.org/packages/BiRewire
Branch: RELEASE_3_12
Last Commit: 161ba9f
Last Changed Date: 2020-10-27 10:52:46 -0500 (Tue, 27 Oct 2020)
malbec1Linux (Ubuntu 18.04.5 LTS) / x86_64  OK    OK    WARNINGS  UNNEEDED, same version exists in internal repository
nebbiolo1Linux (Ubuntu 20.04.2 LTS) / x86_64  OK    OK    WARNINGS  
tokay1Windows Server 2012 R2 Standard / x64  OK    OK    WARNINGS    OK  UNNEEDED, same version exists in internal repository
merida1macOS 10.14.6 Mojave / x86_64  OK    OK    OK    OK  UNNEEDED, same version exists in internal repository

Summary

Package: BiRewire
Version: 3.22.0
Command: /home/biocbuild/bbs-3.12-bioc/R/bin/R CMD INSTALL BiRewire
StartedAt: 2021-03-02 16:11:27 -0500 (Tue, 02 Mar 2021)
EndedAt: 2021-03-02 16:12:39 -0500 (Tue, 02 Mar 2021)
EllapsedTime: 72.1 seconds
RetCode: 0
Status:   OK  

Command output

##############################################################################
##############################################################################
###
### Running command:
###
###   /home/biocbuild/bbs-3.12-bioc/R/bin/R CMD INSTALL BiRewire
###
##############################################################################
##############################################################################


* installing to library ‘/home/biocbuild/bbs-3.12-bioc/R/library’
* installing *source* package ‘BiRewire’ ...
** using staged installation
** libs
gcc -I"/home/biocbuild/bbs-3.12-bioc/R/include" -DNDEBUG   -I/usr/local/include   -fpic  -g -O2  -Wall -c BiRewire.c -o BiRewire.o
BiRewire.c: In function ‘rewire_sparse’:
BiRewire.c:1066:16: warning: suggest parentheses around comparison in operand of ‘&’ [-Wparentheses]
 1066 |   if( a!=c && b!=d & a!=d && c!=b && (( ad==1 && cb==1 )|| (ac==1 && bd==1) )) {
      |               ~^~~
BiRewire.c: In function ‘rewire_sparse_ex’:
BiRewire.c:1149:16: warning: suggest parentheses around comparison in operand of ‘&’ [-Wparentheses]
 1149 |   if( a!=c && b!=d & a!=d && c!=b && (( ad==1 && cb==1 )|| (ac==1 && bd==1) )) {
      |               ~^~~
gcc -I"/home/biocbuild/bbs-3.12-bioc/R/include" -DNDEBUG   -I/usr/local/include   -fpic  -g -O2  -Wall -c interface.c -o interface.o
gcc -shared -L/home/biocbuild/bbs-3.12-bioc/R/lib -L/usr/local/lib -o BiRewire.so BiRewire.o interface.o -L/home/biocbuild/bbs-3.12-bioc/R/lib -lR
installing to /home/biocbuild/bbs-3.12-bioc/R/library/00LOCK-BiRewire/00new/BiRewire/libs
** R
** data
** inst
** byte-compile and prepare package for lazy loading
** help
*** installing help indices
** building package indices
** installing vignettes
** testing if installed package can be loaded from temporary location
** checking absolute paths in shared objects and dynamic libraries
** testing if installed package can be loaded from final location
** testing if installed package keeps a record of temporary installation path
* DONE (BiRewire)