Back to Multiple platform build/check report for BioC 3.12
A[B]CDEFGHIJKLMNOPQRSTUVWXYZ

BUILD report for BiRewire on nebbiolo1

This page was generated on 2021-03-03 12:11:38 -0500 (Wed, 03 Mar 2021).

To the developers/maintainers of the BiRewire package:
Please make sure to use the following settings in order to reproduce any error or warning you see on this page.
Package 191/1974HostnameOS / ArchINSTALLBUILDCHECKBUILD BIN
BiRewire 3.22.0
Andrea Gobbi
Snapshot Date: 2021-03-02 14:50:31 -0500 (Tue, 02 Mar 2021)
URL: https://git.bioconductor.org/packages/BiRewire
Branch: RELEASE_3_12
Last Commit: 161ba9f
Last Changed Date: 2020-10-27 10:52:46 -0500 (Tue, 27 Oct 2020)
malbec1Linux (Ubuntu 18.04.5 LTS) / x86_64  OK    OK    WARNINGS  UNNEEDED, same version exists in internal repository
nebbiolo1Linux (Ubuntu 20.04.2 LTS) / x86_64  OK    OK    WARNINGS  
tokay1Windows Server 2012 R2 Standard / x64  OK    OK    WARNINGS    OK  UNNEEDED, same version exists in internal repository
merida1macOS 10.14.6 Mojave / x86_64  OK    OK    OK    OK  UNNEEDED, same version exists in internal repository

Summary

Package: BiRewire
Version: 3.22.0
Command: /home/biocbuild/bbs-3.12-bioc/R/bin/R CMD build --keep-empty-dirs --no-resave-data BiRewire
StartedAt: 2021-03-02 17:46:50 -0500 (Tue, 02 Mar 2021)
EndedAt: 2021-03-02 17:47:42 -0500 (Tue, 02 Mar 2021)
EllapsedTime: 51.9 seconds
RetCode: 0
Status:   OK  
PackageFile: BiRewire_3.22.0.tar.gz
PackageFileSize: 622 KiB

Command output

##############################################################################
##############################################################################
###
### Running command:
###
###   /home/biocbuild/bbs-3.12-bioc/R/bin/R CMD build --keep-empty-dirs --no-resave-data BiRewire
###
##############################################################################
##############################################################################


* checking for file ‘BiRewire/DESCRIPTION’ ... OK
* preparing ‘BiRewire’:
* checking DESCRIPTION meta-information ... OK
* cleaning src
* installing the package to build vignettes
* creating vignettes ... OK
* cleaning src
* checking for LF line-endings in source and make files and shell scripts
* checking for empty or unneeded directories
* looking to see if a ‘data/datalist’ file should be added
* building ‘BiRewire_3.22.0.tar.gz’