Back to Multiple platform build/check report for BioC 3.12
A[B]CDEFGHIJKLMNOPQRSTUVWXYZ

INSTALL report for BiGGR on merida1

This page was generated on 2020-08-06 12:17:54 -0400 (Thu, 06 Aug 2020).

TO THE DEVELOPERS/MAINTAINERS OF THE BiGGR PACKAGE: Please make sure to use the following settings in order to reproduce any error or warning you see on this page.
Package 139/1882HostnameOS / ArchINSTALLBUILDCHECKBUILD BIN
BiGGR 1.25.0
Anand K. Gavai
Snapshot Date: 2020-08-05 14:50:59 -0400 (Wed, 05 Aug 2020)
URL: https://git.bioconductor.org/packages/BiGGR
Branch: master
Last Commit: eb731df
Last Changed Date: 2020-04-27 14:36:11 -0400 (Mon, 27 Apr 2020)
malbec1 Linux (Ubuntu 18.04.4 LTS) / x86_64  OK  OK  WARNINGS UNNEEDED, same version exists in internal repository
tokay1 Windows Server 2012 R2 Standard / x64  OK  OK  WARNINGS  OK UNNEEDED, same version exists in internal repository
merida1 macOS 10.14.6 Mojave / x86_64 [ ERROR ] ERROR  skipped  skipped 

Summary

Package: BiGGR
Version: 1.25.0
Command: /Library/Frameworks/R.framework/Versions/Current/Resources/bin/R CMD INSTALL BiGGR
StartedAt: 2020-08-05 17:04:41 -0400 (Wed, 05 Aug 2020)
EndedAt: 2020-08-05 17:05:17 -0400 (Wed, 05 Aug 2020)
EllapsedTime: 35.6 seconds
RetCode: 1
Status:  ERROR 

Command output

##############################################################################
##############################################################################
###
### Running command:
###
###   /Library/Frameworks/R.framework/Versions/Current/Resources/bin/R CMD INSTALL BiGGR
###
##############################################################################
##############################################################################


* installing to library ‘/Library/Frameworks/R.framework/Versions/4.0/Resources/library’
ERROR: dependency ‘rsbml’ is not available for package ‘BiGGR’
* removing ‘/Library/Frameworks/R.framework/Versions/4.0/Resources/library/BiGGR’