Back to Multiple platform build/check report for BioC 3.12
A[B]CDEFGHIJKLMNOPQRSTUVWXYZ

BUILD report for BgeeDB on nebbiolo1

This page was generated on 2020-09-19 10:17:30 -0400 (Sat, 19 Sep 2020).

TO THE DEVELOPERS/MAINTAINERS OF THE BgeeDB PACKAGE: Please make sure to use the following settings in order to reproduce any error or warning you see on this page.
Package 134/1912HostnameOS / ArchINSTALLBUILDCHECKBUILD BIN
BgeeDB 2.15.4
Julien Wollbrett , Julien Roux , Andrea Komljenovic , Frederic Bastian
Snapshot Date: 2020-09-18 14:43:25 -0400 (Fri, 18 Sep 2020)
URL: https://git.bioconductor.org/packages/BgeeDB
Branch: master
Last Commit: 0541e44
Last Changed Date: 2020-06-02 05:16:26 -0400 (Tue, 02 Jun 2020)
malbec1 Linux (Ubuntu 18.04.4 LTS) / x86_64  OK  OK  OK UNNEEDED, same version exists in internal repository
nebbiolo1 Linux (Ubuntu 20.04.1 LTS) / x86_64  OK [ OK ] OK 
tokay1 Windows Server 2012 R2 Standard / x64  OK  OK  OK  OK UNNEEDED, same version exists in internal repository
riesling1 Windows Server 2019 Standard / x64  OK  OK  OK  OK 
merida1 macOS 10.14.6 Mojave / x86_64  OK  OK  OK  OK UNNEEDED, same version exists in internal repository

Summary

Package: BgeeDB
Version: 2.15.4
Command: /home/biocbuild/bbs-3.12-bioc/R/bin/R CMD build --keep-empty-dirs --no-resave-data BgeeDB
StartedAt: 2020-09-18 18:37:17 -0400 (Fri, 18 Sep 2020)
EndedAt: 2020-09-18 18:43:05 -0400 (Fri, 18 Sep 2020)
EllapsedTime: 347.4 seconds
RetCode: 0
Status:  OK 
PackageFile: BgeeDB_2.15.4.tar.gz
PackageFileSize: 92.83 KiB

Command output

##############################################################################
##############################################################################
###
### Running command:
###
###   /home/biocbuild/bbs-3.12-bioc/R/bin/R CMD build --keep-empty-dirs --no-resave-data BgeeDB
###
##############################################################################
##############################################################################


* checking for file ‘BgeeDB/DESCRIPTION’ ... OK
* preparing ‘BgeeDB’:
* checking DESCRIPTION meta-information ... OK
* installing the package to build vignettes
* creating vignettes ... OK
* checking for LF line-endings in source and make files and shell scripts
* checking for empty or unneeded directories
* looking to see if a ‘data/datalist’ file should be added
* building ‘BgeeDB_2.15.4.tar.gz’