Back to Multiple platform build/check report for BioC 3.12
A[B]CDEFGHIJKLMNOPQRSTUVWXYZ

INSTALL report for BasicSTARRseq on nebbiolo1

This page was generated on 2020-09-19 10:17:26 -0400 (Sat, 19 Sep 2020).

TO THE DEVELOPERS/MAINTAINERS OF THE BasicSTARRseq PACKAGE: Please make sure to use the following settings in order to reproduce any error or warning you see on this page.
Package 114/1912HostnameOS / ArchINSTALLBUILDCHECKBUILD BIN
BasicSTARRseq 1.17.0
Annika Buerger
Snapshot Date: 2020-09-18 14:43:25 -0400 (Fri, 18 Sep 2020)
URL: https://git.bioconductor.org/packages/BasicSTARRseq
Branch: master
Last Commit: 555c748
Last Changed Date: 2020-04-27 14:54:20 -0400 (Mon, 27 Apr 2020)
malbec1 Linux (Ubuntu 18.04.4 LTS) / x86_64  OK  OK  OK UNNEEDED, same version exists in internal repository
nebbiolo1 Linux (Ubuntu 20.04.1 LTS) / x86_64 [ OK ] OK  OK 
tokay1 Windows Server 2012 R2 Standard / x64  OK  OK  OK  OK UNNEEDED, same version exists in internal repository
riesling1 Windows Server 2019 Standard / x64  OK  OK  OK  OK 
merida1 macOS 10.14.6 Mojave / x86_64  OK  OK  OK  OK UNNEEDED, same version exists in internal repository

Summary

Package: BasicSTARRseq
Version: 1.17.0
Command: /home/biocbuild/bbs-3.12-bioc/R/bin/R CMD INSTALL BasicSTARRseq
StartedAt: 2020-09-18 16:44:52 -0400 (Fri, 18 Sep 2020)
EndedAt: 2020-09-18 16:45:57 -0400 (Fri, 18 Sep 2020)
EllapsedTime: 65.5 seconds
RetCode: 0
Status:  OK 

Command output

##############################################################################
##############################################################################
###
### Running command:
###
###   /home/biocbuild/bbs-3.12-bioc/R/bin/R CMD INSTALL BasicSTARRseq
###
##############################################################################
##############################################################################


* installing to library ‘/home/biocbuild/bbs-3.12-bioc/R/library’
* installing *source* package ‘BasicSTARRseq’ ...
** using staged installation
** R
** inst
** byte-compile and prepare package for lazy loading
Creating a new generic function for ‘sample’ in package ‘BasicSTARRseq’
** help
*** installing help indices
** building package indices
** installing vignettes
** testing if installed package can be loaded from temporary location
** testing if installed package can be loaded from final location
** testing if installed package keeps a record of temporary installation path
* DONE (BasicSTARRseq)