The requested URL /checkResults/3.12/bioc-LATEST/BUSpaRse/nebbiolo1-install.html was not found on this server.