Back to Multiple platform build/check report for BioC 3.12
A[B]CDEFGHIJKLMNOPQRSTUVWXYZ

BUILD report for BUMHMM on nebbiolo1

This page was generated on 2020-10-21 12:08:09 -0400 (Wed, 21 Oct 2020).

TO THE DEVELOPERS/MAINTAINERS OF THE BUMHMM PACKAGE: Please make sure to use the following settings in order to reproduce any error or warning you see on this page.
Package 211/1939HostnameOS / ArchINSTALLBUILDCHECKBUILD BIN
BUMHMM 1.13.0
Alina Selega
Snapshot Date: 2020-10-20 14:40:34 -0400 (Tue, 20 Oct 2020)
URL: https://git.bioconductor.org/packages/BUMHMM
Branch: master
Last Commit: 97962c1
Last Changed Date: 2020-09-18 12:27:59 -0400 (Fri, 18 Sep 2020)
malbec1 Linux (Ubuntu 18.04.4 LTS) / x86_64  OK  OK  OK UNNEEDED, same version exists in internal repository
nebbiolo1 Linux (Ubuntu 20.04.1 LTS) / x86_64  OK [ OK ] OK 
tokay1 Windows Server 2012 R2 Standard / x64  OK  OK  OK  OK UNNEEDED, same version exists in internal repository
riesling1 Windows Server 2019 Standard / x64  OK  OK  OK  OK 
merida1 macOS 10.14.6 Mojave / x86_64  OK  OK  OK  OK UNNEEDED, same version exists in internal repository

Summary

Package: BUMHMM
Version: 1.13.0
Command: /home/biocbuild/bbs-3.12-bioc/R/bin/R CMD build --keep-empty-dirs --no-resave-data BUMHMM
StartedAt: 2020-10-20 17:43:44 -0400 (Tue, 20 Oct 2020)
EndedAt: 2020-10-20 17:44:50 -0400 (Tue, 20 Oct 2020)
EllapsedTime: 65.8 seconds
RetCode: 0
Status:  OK 
PackageFile: BUMHMM_1.13.0.tar.gz
PackageFileSize: 727.1 KiB

Command output

##############################################################################
##############################################################################
###
### Running command:
###
###   /home/biocbuild/bbs-3.12-bioc/R/bin/R CMD build --keep-empty-dirs --no-resave-data BUMHMM
###
##############################################################################
##############################################################################


* checking for file ‘BUMHMM/DESCRIPTION’ ... OK
* preparing ‘BUMHMM’:
* checking DESCRIPTION meta-information ... OK
* installing the package to build vignettes
* creating vignettes ... OK
* checking for LF line-endings in source and make files and shell scripts
* checking for empty or unneeded directories
* building ‘BUMHMM_1.13.0.tar.gz’