Back to Multiple platform build/check report for BioC 3.12
A[B]CDEFGHIJKLMNOPQRSTUVWXYZ

BUILD report for BDMMAcorrect on nebbiolo1

This page was generated on 2020-09-20 10:14:21 -0400 (Sun, 20 Sep 2020).

TO THE DEVELOPERS/MAINTAINERS OF THE BDMMAcorrect PACKAGE: Please make sure to use the following settings in order to reproduce any error or warning you see on this page.
Package 125/1912HostnameOS / ArchINSTALLBUILDCHECKBUILD BIN
BDMMAcorrect 1.7.0
ZHENWEI DAI
Snapshot Date: 2020-09-19 14:40:23 -0400 (Sat, 19 Sep 2020)
URL: https://git.bioconductor.org/packages/BDMMAcorrect
Branch: master
Last Commit: a783c25
Last Changed Date: 2020-04-27 15:21:40 -0400 (Mon, 27 Apr 2020)
malbec1 Linux (Ubuntu 18.04.4 LTS) / x86_64  OK  OK  OK UNNEEDED, same version exists in internal repository
nebbiolo1 Linux (Ubuntu 20.04.1 LTS) / x86_64  OK [ OK ] OK 
tokay1 Windows Server 2012 R2 Standard / x64  OK  OK  OK  OK UNNEEDED, same version exists in internal repository
riesling1 Windows Server 2019 Standard / x64  OK  OK  OK  OK 
merida1 macOS 10.14.6 Mojave / x86_64  OK  OK  OK  OK UNNEEDED, same version exists in internal repository

Summary

Package: BDMMAcorrect
Version: 1.7.0
Command: /home/biocbuild/bbs-3.12-bioc/R/bin/R CMD build --keep-empty-dirs --no-resave-data BDMMAcorrect
StartedAt: 2020-09-19 19:04:51 -0400 (Sat, 19 Sep 2020)
EndedAt: 2020-09-19 19:08:47 -0400 (Sat, 19 Sep 2020)
EllapsedTime: 235.7 seconds
RetCode: 0
Status:  OK 
PackageFile: BDMMAcorrect_1.7.0.tar.gz
PackageFileSize: 399.5 KiB

Command output

##############################################################################
##############################################################################
###
### Running command:
###
###   /home/biocbuild/bbs-3.12-bioc/R/bin/R CMD build --keep-empty-dirs --no-resave-data BDMMAcorrect
###
##############################################################################
##############################################################################


* checking for file ‘BDMMAcorrect/DESCRIPTION’ ... OK
* preparing ‘BDMMAcorrect’:
* checking DESCRIPTION meta-information ... OK
* cleaning src
* installing the package to build vignettes
* creating vignettes ... OK
* cleaning src
* checking for LF line-endings in source and make files and shell scripts
* checking for empty or unneeded directories
* building ‘BDMMAcorrect_1.7.0.tar.gz’