Back to Multiple platform build/check report for BioC 3.12
A[B]CDEFGHIJKLMNOPQRSTUVWXYZ

INSTALL report for BCRANK on nebbiolo1

This page was generated on 2020-10-18 12:27:38 -0400 (Sun, 18 Oct 2020).

TO THE DEVELOPERS/MAINTAINERS OF THE BCRANK PACKAGE: Please make sure to use the following settings in order to reproduce any error or warning you see on this page.
Package 123/1874HostnameOS / ArchINSTALLBUILDCHECKBUILD BIN
BCRANK 1.51.0
Adam Ameur
Snapshot Date: 2020-10-17 14:41:49 -0400 (Sat, 17 Oct 2020)
URL: https://git.bioconductor.org/packages/BCRANK
Branch: master
Last Commit: 35c15f3
Last Changed Date: 2020-04-27 14:16:34 -0400 (Mon, 27 Apr 2020)
malbec1 Linux (Ubuntu 18.04.4 LTS) / x86_64  OK  OK  OK UNNEEDED, same version exists in internal repository
nebbiolo1 Linux (Ubuntu 20.04.1 LTS) / x86_64 [ OK ] OK  OK 
tokay1 Windows Server 2012 R2 Standard / x64  OK  OK  OK  OK UNNEEDED, same version exists in internal repository
riesling1 Windows Server 2019 Standard / x64  OK  OK  OK  OK 
merida1 macOS 10.14.6 Mojave / x86_64  OK  OK  OK  OK UNNEEDED, same version exists in internal repository

Summary

Package: BCRANK
Version: 1.51.0
Command: /home/biocbuild/bbs-3.12-bioc/R/bin/R CMD INSTALL BCRANK
StartedAt: 2020-10-17 16:27:09 -0400 (Sat, 17 Oct 2020)
EndedAt: 2020-10-17 16:28:13 -0400 (Sat, 17 Oct 2020)
EllapsedTime: 63.6 seconds
RetCode: 0
Status:  OK 

Command output

##############################################################################
##############################################################################
###
### Running command:
###
###   /home/biocbuild/bbs-3.12-bioc/R/bin/R CMD INSTALL BCRANK
###
##############################################################################
##############################################################################


* installing to library ‘/home/biocbuild/bbs-3.12-bioc/R/library’
* installing *source* package ‘BCRANK’ ...
** using staged installation
** libs
gcc -I"/home/biocbuild/bbs-3.12-bioc/R/include" -DNDEBUG   -I/usr/local/include   -fpic  -g -O2  -Wall -c init.c -o init.o
gcc -I"/home/biocbuild/bbs-3.12-bioc/R/include" -DNDEBUG   -I/usr/local/include   -fpic  -g -O2  -Wall -c match_consensus.c -o match_consensus.o
gcc -shared -L/home/biocbuild/bbs-3.12-bioc/R/lib -L/usr/local/lib -o BCRANK.so init.o match_consensus.o -L/home/biocbuild/bbs-3.12-bioc/R/lib -lR
installing to /home/biocbuild/bbs-3.12-bioc/R/library/00LOCK-BCRANK/00new/BCRANK/libs
** R
** data
** inst
** byte-compile and prepare package for lazy loading
** help
*** installing help indices
** building package indices
** installing vignettes
** testing if installed package can be loaded from temporary location
** checking absolute paths in shared objects and dynamic libraries
** testing if installed package can be loaded from final location
** testing if installed package keeps a record of temporary installation path
* DONE (BCRANK)