Back to Multiple platform build/check report for BioC 3.12
A[B]CDEFGHIJKLMNOPQRSTUVWXYZ

CHECK report for BASiCS on riesling1

This page was generated on 2020-10-23 11:07:55 -0400 (Fri, 23 Oct 2020).

TO THE DEVELOPERS/MAINTAINERS OF THE BASiCS PACKAGE: Please make sure to use the following settings in order to reproduce any error or warning you see on this page.
Package 116/1952HostnameOS / ArchINSTALLBUILDCHECKBUILD BIN
BASiCS 2.1.16
Catalina Vallejos
Snapshot Date: 2020-10-22 14:43:18 -0400 (Thu, 22 Oct 2020)
URL: https://git.bioconductor.org/packages/BASiCS
Branch: master
Last Commit: effdd00
Last Changed Date: 2020-10-22 09:34:41 -0400 (Thu, 22 Oct 2020)
malbec1 Linux (Ubuntu 18.04.4 LTS) / x86_64  OK  OK  OK YES, new version is higher than in internal repository
nebbiolo1 Linux (Ubuntu 20.04.1 LTS) / x86_64  OK  OK  OK 
tokay1 Windows Server 2012 R2 Standard / x64  OK  OK  OK  OK YES, new version is higher than in internal repository
riesling1 Windows Server 2019 Standard / x64  OK  OK [ OK ] OK 
merida1 macOS 10.14.6 Mojave / x86_64  OK  OK  OK  OK YES, new version is higher than in internal repository

Summary

Package: BASiCS
Version: 2.1.16
Command: D:\biocbuild\bbs-3.12-bioc\R\bin\R.exe CMD check --force-multiarch --install=check:BASiCS.install-out.txt --library=D:\biocbuild\bbs-3.12-bioc\R\library --no-vignettes --timings BASiCS_2.1.16.tar.gz
StartedAt: 2020-10-22 19:47:04 -0400 (Thu, 22 Oct 2020)
EndedAt: 2020-10-22 19:56:38 -0400 (Thu, 22 Oct 2020)
EllapsedTime: 573.9 seconds
RetCode: 0
Status:  OK  
CheckDir: BASiCS.Rcheck
Warnings: 0

Command output

##############################################################################
##############################################################################
###
### Running command:
###
###   D:\biocbuild\bbs-3.12-bioc\R\bin\R.exe CMD check --force-multiarch --install=check:BASiCS.install-out.txt --library=D:\biocbuild\bbs-3.12-bioc\R\library --no-vignettes --timings BASiCS_2.1.16.tar.gz
###
##############################################################################
##############################################################################


* using log directory 'D:/biocbuild/bbs-3.12-bioc/meat/BASiCS.Rcheck'
* using R version 4.0.3 (2020-10-10)
* using platform: x86_64-w64-mingw32 (64-bit)
* using session charset: ISO8859-1
* using option '--no-vignettes'
* checking for file 'BASiCS/DESCRIPTION' ... OK
* checking extension type ... Package
* this is package 'BASiCS' version '2.1.16'
* package encoding: UTF-8
* checking package namespace information ... OK
* checking package dependencies ... OK
* checking if this is a source package ... OK
* checking if there is a namespace ... OK
* checking for hidden files and directories ... OK
* checking for portable file names ... OK
* checking whether package 'BASiCS' can be installed ... OK
* checking installed package size ... NOTE
  installed size is  6.2Mb
  sub-directories of 1Mb or more:
    data   2.0Mb
    libs   3.0Mb
* checking package directory ... OK
* checking 'build' directory ... OK
* checking DESCRIPTION meta-information ... OK
* checking top-level files ... OK
* checking for left-over files ... OK
* checking index information ... OK
* checking package subdirectories ... OK
* checking R files for non-ASCII characters ... OK
* checking R files for syntax errors ... OK
* loading checks for arch 'i386'
** checking whether the package can be loaded ... OK
** checking whether the package can be loaded with stated dependencies ... OK
** checking whether the package can be unloaded cleanly ... OK
** checking whether the namespace can be loaded with stated dependencies ... OK
** checking whether the namespace can be unloaded cleanly ... OK
* loading checks for arch 'x64'
** checking whether the package can be loaded ... OK
** checking whether the package can be loaded with stated dependencies ... OK
** checking whether the package can be unloaded cleanly ... OK
** checking whether the namespace can be loaded with stated dependencies ... OK
** checking whether the namespace can be unloaded cleanly ... OK
* checking dependencies in R code ... OK
* checking S3 generic/method consistency ... OK
* checking replacement functions ... OK
* checking foreign function calls ... OK
* checking R code for possible problems ... OK
* checking Rd files ... OK
* checking Rd metadata ... OK
* checking Rd cross-references ... OK
* checking for missing documentation entries ... OK
* checking for code/documentation mismatches ... OK
* checking Rd \usage sections ... OK
* checking Rd contents ... OK
* checking for unstated dependencies in examples ... OK
* checking contents of 'data' directory ... OK
* checking data for non-ASCII characters ... OK
* checking data for ASCII and uncompressed saves ... OK
* checking line endings in C/C++/Fortran sources/headers ... OK
* checking line endings in Makefiles ... OK
* checking compilation flags in Makevars ... OK
* checking for GNU extensions in Makefiles ... OK
* checking for portable use of $(BLAS_LIBS) and $(LAPACK_LIBS) ... OK
* checking use of PKG_*FLAGS in Makefiles ... OK
* checking compiled code ... NOTE
Note: information on .o files for i386 is not available
Note: information on .o files for x64 is not available
File 'D:/biocbuild/bbs-3.12-bioc/R/library/BASiCS/libs/i386/BASiCS.dll':
  Found '_exit', possibly from '_exit' (C)
  Found 'abort', possibly from 'abort' (C), 'runtime' (Fortran)
  Found 'exit', possibly from 'exit' (C), 'stop' (Fortran)
  Found 'printf', possibly from 'printf' (C)
File 'D:/biocbuild/bbs-3.12-bioc/R/library/BASiCS/libs/x64/BASiCS.dll':
  Found '_exit', possibly from '_exit' (C)
  Found 'abort', possibly from 'abort' (C), 'runtime' (Fortran)
  Found 'exit', possibly from 'exit' (C), 'stop' (Fortran)
  Found 'printf', possibly from 'printf' (C)

Compiled code should not call entry points which might terminate R nor
write to stdout/stderr instead of to the console, nor use Fortran I/O
nor system RNGs. The detected symbols are linked into the code but
might come from libraries and not actually be called.

See 'Writing portable packages' in the 'Writing R Extensions' manual.
* checking files in 'vignettes' ... OK
* checking examples ...
** running examples for arch 'i386' ... OK
Examples with CPU (user + system) or elapsed time > 5s
                        user system elapsed
BASiCS_DivideAndConquer 1.42   0.04   11.08
** running examples for arch 'x64' ... OK
Examples with CPU (user + system) or elapsed time > 5s
                        user system elapsed
BASiCS_DivideAndConquer 1.83   0.02   12.11
* checking for unstated dependencies in 'tests' ... OK
* checking tests ...
** running tests for arch 'i386' ...
  Running 'testthat.R'
 OK
** running tests for arch 'x64' ...
  Running 'testthat.R'
 OK
* checking for unstated dependencies in vignettes ... OK
* checking package vignettes in 'inst/doc' ... OK
* checking running R code from vignettes ... SKIPPED
* checking re-building of vignette outputs ... SKIPPED
* checking PDF version of manual ... OK
* DONE

Status: 2 NOTEs
See
  'D:/biocbuild/bbs-3.12-bioc/meat/BASiCS.Rcheck/00check.log'
for details.



Installation output

BASiCS.Rcheck/00install.out

##############################################################################
##############################################################################
###
### Running command:
###
###   C:\cygwin\bin\curl.exe -O http://172.29.0.3/BBS/3.12/bioc/src/contrib/BASiCS_2.1.16.tar.gz && rm -rf BASiCS.buildbin-libdir && mkdir BASiCS.buildbin-libdir && D:\biocbuild\bbs-3.12-bioc\R\bin\R.exe CMD INSTALL --merge-multiarch --build --library=BASiCS.buildbin-libdir BASiCS_2.1.16.tar.gz && D:\biocbuild\bbs-3.12-bioc\R\bin\R.exe CMD INSTALL BASiCS_2.1.16.zip && rm BASiCS_2.1.16.tar.gz BASiCS_2.1.16.zip
###
##############################################################################
##############################################################################


  % Total    % Received % Xferd  Average Speed   Time    Time     Time  Current
                                 Dload  Upload   Total   Spent    Left  Speed

  0     0    0     0    0     0      0      0 --:--:-- --:--:-- --:--:--     0
100 2420k  100 2420k    0     0   9.9M      0 --:--:-- --:--:-- --:--:--  9.9M

install for i386

* installing *source* package 'BASiCS' ...
** using staged installation
** libs
"C:/rtools40/mingw32/bin/"g++  -std=gnu++11 -I"D:/biocbuild/bbs-3.12-bioc/R/include" -DNDEBUG  -I'D:/biocbuild/bbs-3.12-bioc/R/library/Rcpp/include' -I'D:/biocbuild/bbs-3.12-bioc/R/library/RcppArmadillo/include'   -I"C:/extsoft/include"  -fopenmp   -O2 -Wall  -mfpmath=sse -msse2 -mstackrealign -c BASiCS.cpp -o BASiCS.o
"C:/rtools40/mingw32/bin/"g++  -std=gnu++11 -I"D:/biocbuild/bbs-3.12-bioc/R/include" -DNDEBUG  -I'D:/biocbuild/bbs-3.12-bioc/R/library/Rcpp/include' -I'D:/biocbuild/bbs-3.12-bioc/R/library/RcppArmadillo/include'   -I"C:/extsoft/include"  -fopenmp   -O2 -Wall  -mfpmath=sse -msse2 -mstackrealign -c RcppExports.cpp -o RcppExports.o
C:/rtools40/mingw32/bin/g++ -shared -s -static-libgcc -o BASiCS.dll tmp.def BASiCS.o RcppExports.o -LD:/biocbuild/bbs-3.12-bioc/R/bin/i386 -lRlapack -LD:/biocbuild/bbs-3.12-bioc/R/bin/i386 -lRblas -lgfortran -lm -lquadmath -fopenmp -LC:/extsoft/lib/i386 -LC:/extsoft/lib -LD:/biocbuild/bbs-3.12-bioc/R/bin/i386 -lR
installing to D:/biocbuild/bbs-3.12-bioc/meat/BASiCS.buildbin-libdir/00LOCK-BASiCS/00new/BASiCS/libs/i386
** R
** data
*** moving datasets to lazyload DB
** inst
** byte-compile and prepare package for lazy loading
** help
*** installing help indices
  converting help for package 'BASiCS'
    finding HTML links ... done
    BASiCS-defunct                          html  
    BASiCS_Chain-methods                    html  
    BASiCS_Chain                            html  
    BASiCS_CorrectOffset                    html  
    BASiCS_DenoisedCounts                   html  
    finding level-2 HTML links ... done

    BASiCS_DenoisedRates                    html  
    BASiCS_DetectVG                         html  
    BASiCS_DiagHist                         html  
    BASiCS_DiagPlot                         html  
    BASiCS_DivideAndConquer                 html  
    BASiCS_Draw                             html  
    BASiCS_EffectiveSize                    html  
    BASiCS_Filter                           html  
    BASiCS_LoadChain                        html  
    BASiCS_MCMC                             html  
    BASiCS_MockSCE                          html  
    BASiCS_PlotDE                           html  
    BASiCS_PlotOffset                       html  
    BASiCS_PlotVG                           html  
    BASiCS_PriorParam                       html  
    BASiCS_Result                           html  
    BASiCS_ResultDE                         html  
    BASiCS_ResultVG                         html  
    BASiCS_ResultsDE                        html  
    BASiCS_ShowFit                          html  
    BASiCS_Sim                              html  
    BASiCS_Summary-methods                  html  
    BASiCS_Summary                          html  
    BASiCS_TestDE                           html  
    BASiCS_VarThresholdSearchHVG_LVG        html  
    BASiCS_VarianceDecomp                   html  
    ChainRNA                                html  
    ChainRNAReg                             html  
    ChainSC                                 html  
    ChainSCReg                              html  
    Summary-BASiCS_Chain-method             html  
    as.data.frame-methods                   html  
    dim-BASiCS_Chain-method                 html  
    dimnames-BASiCS_Chain-method            html  
    displayChainBASiCS-BASiCS_Chain-method
                                            html  
    displaySummaryBASiCS-BASiCS_Summary-method
                                            html  
    dot-generateSubsets                     html  
    format-methods                          html  
    makeExampleBASiCS_Data                  html  
    newBASiCS_Chain                         html  
    newBASiCS_Data                          html  
    plot-BASiCS_Chain-method                html  
    plot-BASiCS_Summary-method              html  
    rowData                                 html  
    show-BASiCS_ResultDE-method             html  
    show-BASiCS_ResultVG-method             html  
    show-BASiCS_ResultsDE-method            html  
    subset-BASiCS_Chain-method              html  
    subset-methods                          html  
** building package indices
** installing vignettes
** testing if installed package can be loaded from temporary location
** testing if installed package can be loaded from final location
** testing if installed package keeps a record of temporary installation path

install for x64

* installing *source* package 'BASiCS' ...
** libs
"C:/rtools40/mingw64/bin/"g++  -std=gnu++11 -I"D:/biocbuild/bbs-3.12-bioc/R/include" -DNDEBUG  -I'D:/biocbuild/bbs-3.12-bioc/R/library/Rcpp/include' -I'D:/biocbuild/bbs-3.12-bioc/R/library/RcppArmadillo/include'   -I"C:/extsoft/include"  -fopenmp   -O2 -Wall  -mfpmath=sse -msse2 -mstackrealign -c BASiCS.cpp -o BASiCS.o
"C:/rtools40/mingw64/bin/"g++  -std=gnu++11 -I"D:/biocbuild/bbs-3.12-bioc/R/include" -DNDEBUG  -I'D:/biocbuild/bbs-3.12-bioc/R/library/Rcpp/include' -I'D:/biocbuild/bbs-3.12-bioc/R/library/RcppArmadillo/include'   -I"C:/extsoft/include"  -fopenmp   -O2 -Wall  -mfpmath=sse -msse2 -mstackrealign -c RcppExports.cpp -o RcppExports.o
C:/rtools40/mingw64/bin/g++ -shared -s -static-libgcc -o BASiCS.dll tmp.def BASiCS.o RcppExports.o -LD:/biocbuild/bbs-3.12-bioc/R/bin/x64 -lRlapack -LD:/biocbuild/bbs-3.12-bioc/R/bin/x64 -lRblas -lgfortran -lm -lquadmath -fopenmp -LC:/extsoft/lib/x64 -LC:/extsoft/lib -LD:/biocbuild/bbs-3.12-bioc/R/bin/x64 -lR
installing to D:/biocbuild/bbs-3.12-bioc/meat/BASiCS.buildbin-libdir/BASiCS/libs/x64
** testing if installed package can be loaded
* MD5 sums
packaged installation of 'BASiCS' as BASiCS_2.1.16.zip
* DONE (BASiCS)
* installing to library 'D:/biocbuild/bbs-3.12-bioc/R/library'
package 'BASiCS' successfully unpacked and MD5 sums checked

Tests output

BASiCS.Rcheck/tests_i386/testthat.Rout


R version 4.0.3 (2020-10-10) -- "Bunny-Wunnies Freak Out"
Copyright (C) 2020 The R Foundation for Statistical Computing
Platform: i386-w64-mingw32/i386 (32-bit)

R is free software and comes with ABSOLUTELY NO WARRANTY.
You are welcome to redistribute it under certain conditions.
Type 'license()' or 'licence()' for distribution details.

R is a collaborative project with many contributors.
Type 'contributors()' for more information and
'citation()' on how to cite R or R packages in publications.

Type 'demo()' for some demos, 'help()' for on-line help, or
'help.start()' for an HTML browser interface to help.
Type 'q()' to quit R.

> library(testthat)
> library(BASiCS)
Loading required package: SingleCellExperiment
Loading required package: SummarizedExperiment
Loading required package: MatrixGenerics
Loading required package: matrixStats

Attaching package: 'MatrixGenerics'

The following objects are masked from 'package:matrixStats':

    colAlls, colAnyNAs, colAnys, colAvgsPerRowSet, colCollapse,
    colCounts, colCummaxs, colCummins, colCumprods, colCumsums,
    colDiffs, colIQRDiffs, colIQRs, colLogSumExps, colMadDiffs,
    colMads, colMaxs, colMeans2, colMedians, colMins, colOrderStats,
    colProds, colQuantiles, colRanges, colRanks, colSdDiffs, colSds,
    colSums2, colTabulates, colVarDiffs, colVars, colWeightedMads,
    colWeightedMeans, colWeightedMedians, colWeightedSds,
    colWeightedVars, rowAlls, rowAnyNAs, rowAnys, rowAvgsPerColSet,
    rowCollapse, rowCounts, rowCummaxs, rowCummins, rowCumprods,
    rowCumsums, rowDiffs, rowIQRDiffs, rowIQRs, rowLogSumExps,
    rowMadDiffs, rowMads, rowMaxs, rowMeans2, rowMedians, rowMins,
    rowOrderStats, rowProds, rowQuantiles, rowRanges, rowRanks,
    rowSdDiffs, rowSds, rowSums2, rowTabulates, rowVarDiffs, rowVars,
    rowWeightedMads, rowWeightedMeans, rowWeightedMedians,
    rowWeightedSds, rowWeightedVars

Loading required package: GenomicRanges
Loading required package: stats4
Loading required package: BiocGenerics
Loading required package: parallel

Attaching package: 'BiocGenerics'

The following objects are masked from 'package:parallel':

    clusterApply, clusterApplyLB, clusterCall, clusterEvalQ,
    clusterExport, clusterMap, parApply, parCapply, parLapply,
    parLapplyLB, parRapply, parSapply, parSapplyLB

The following objects are masked from 'package:stats':

    IQR, mad, sd, var, xtabs

The following objects are masked from 'package:base':

    Filter, Find, Map, Position, Reduce, anyDuplicated, append,
    as.data.frame, basename, cbind, colnames, dirname, do.call,
    duplicated, eval, evalq, get, grep, grepl, intersect, is.unsorted,
    lapply, mapply, match, mget, order, paste, pmax, pmax.int, pmin,
    pmin.int, rank, rbind, rownames, sapply, setdiff, sort, table,
    tapply, union, unique, unsplit, which.max, which.min

Loading required package: S4Vectors

Attaching package: 'S4Vectors'

The following object is masked from 'package:base':

    expand.grid

Loading required package: IRanges

Attaching package: 'IRanges'

The following object is masked from 'package:grDevices':

    windows

Loading required package: GenomeInfoDb
Loading required package: Biobase
Welcome to Bioconductor

    Vignettes contain introductory material; view with
    'browseVignettes()'. To cite Bioconductor, see
    'citation("Biobase")', and for packages 'citation("pkgname")'.


Attaching package: 'Biobase'

The following object is masked from 'package:MatrixGenerics':

    rowMedians

The following objects are masked from 'package:matrixStats':

    anyMissing, rowMedians

    Welcome to 'BASiCS'. If you used 'BASiCS' before its release in
    Bioconductor, please visit:
    https://github.com/catavallejos/BASiCS/wiki.
> 
> test_check("BASiCS")
== testthat results  ===========================================================
[ OK: 398 | SKIPPED: 0 | WARNINGS: 0 | FAILED: 0 ]
> 
> proc.time()
   user  system elapsed 
 104.67    0.93  105.84 

BASiCS.Rcheck/tests_x64/testthat.Rout


R version 4.0.3 (2020-10-10) -- "Bunny-Wunnies Freak Out"
Copyright (C) 2020 The R Foundation for Statistical Computing
Platform: x86_64-w64-mingw32/x64 (64-bit)

R is free software and comes with ABSOLUTELY NO WARRANTY.
You are welcome to redistribute it under certain conditions.
Type 'license()' or 'licence()' for distribution details.

R is a collaborative project with many contributors.
Type 'contributors()' for more information and
'citation()' on how to cite R or R packages in publications.

Type 'demo()' for some demos, 'help()' for on-line help, or
'help.start()' for an HTML browser interface to help.
Type 'q()' to quit R.

> library(testthat)
> library(BASiCS)
Loading required package: SingleCellExperiment
Loading required package: SummarizedExperiment
Loading required package: MatrixGenerics
Loading required package: matrixStats

Attaching package: 'MatrixGenerics'

The following objects are masked from 'package:matrixStats':

    colAlls, colAnyNAs, colAnys, colAvgsPerRowSet, colCollapse,
    colCounts, colCummaxs, colCummins, colCumprods, colCumsums,
    colDiffs, colIQRDiffs, colIQRs, colLogSumExps, colMadDiffs,
    colMads, colMaxs, colMeans2, colMedians, colMins, colOrderStats,
    colProds, colQuantiles, colRanges, colRanks, colSdDiffs, colSds,
    colSums2, colTabulates, colVarDiffs, colVars, colWeightedMads,
    colWeightedMeans, colWeightedMedians, colWeightedSds,
    colWeightedVars, rowAlls, rowAnyNAs, rowAnys, rowAvgsPerColSet,
    rowCollapse, rowCounts, rowCummaxs, rowCummins, rowCumprods,
    rowCumsums, rowDiffs, rowIQRDiffs, rowIQRs, rowLogSumExps,
    rowMadDiffs, rowMads, rowMaxs, rowMeans2, rowMedians, rowMins,
    rowOrderStats, rowProds, rowQuantiles, rowRanges, rowRanks,
    rowSdDiffs, rowSds, rowSums2, rowTabulates, rowVarDiffs, rowVars,
    rowWeightedMads, rowWeightedMeans, rowWeightedMedians,
    rowWeightedSds, rowWeightedVars

Loading required package: GenomicRanges
Loading required package: stats4
Loading required package: BiocGenerics
Loading required package: parallel

Attaching package: 'BiocGenerics'

The following objects are masked from 'package:parallel':

    clusterApply, clusterApplyLB, clusterCall, clusterEvalQ,
    clusterExport, clusterMap, parApply, parCapply, parLapply,
    parLapplyLB, parRapply, parSapply, parSapplyLB

The following objects are masked from 'package:stats':

    IQR, mad, sd, var, xtabs

The following objects are masked from 'package:base':

    Filter, Find, Map, Position, Reduce, anyDuplicated, append,
    as.data.frame, basename, cbind, colnames, dirname, do.call,
    duplicated, eval, evalq, get, grep, grepl, intersect, is.unsorted,
    lapply, mapply, match, mget, order, paste, pmax, pmax.int, pmin,
    pmin.int, rank, rbind, rownames, sapply, setdiff, sort, table,
    tapply, union, unique, unsplit, which.max, which.min

Loading required package: S4Vectors

Attaching package: 'S4Vectors'

The following object is masked from 'package:base':

    expand.grid

Loading required package: IRanges

Attaching package: 'IRanges'

The following object is masked from 'package:grDevices':

    windows

Loading required package: GenomeInfoDb
Loading required package: Biobase
Welcome to Bioconductor

    Vignettes contain introductory material; view with
    'browseVignettes()'. To cite Bioconductor, see
    'citation("Biobase")', and for packages 'citation("pkgname")'.


Attaching package: 'Biobase'

The following object is masked from 'package:MatrixGenerics':

    rowMedians

The following objects are masked from 'package:matrixStats':

    anyMissing, rowMedians

    Welcome to 'BASiCS'. If you used 'BASiCS' before its release in
    Bioconductor, please visit:
    https://github.com/catavallejos/BASiCS/wiki.
> 
> test_check("BASiCS")
== testthat results  ===========================================================
[ OK: 398 | SKIPPED: 0 | WARNINGS: 0 | FAILED: 0 ]
> 
> proc.time()
   user  system elapsed 
 147.92    1.75  150.12 

Example timings

BASiCS.Rcheck/examples_i386/BASiCS-Ex.timings

nameusersystemelapsed
BASiCS_Chain-methods1.390.021.41
BASiCS_Chain2.050.022.06
BASiCS_CorrectOffset0.040.000.03
BASiCS_DenoisedCounts1.790.041.84
BASiCS_DenoisedRates1.460.031.49
BASiCS_DetectVG0.680.080.77
BASiCS_DiagHist0.680.000.67
BASiCS_DiagPlot0.390.000.39
BASiCS_DivideAndConquer 1.42 0.0411.08
BASiCS_Draw0.170.000.17
BASiCS_EffectiveSize0.140.000.14
BASiCS_Filter000
BASiCS_LoadChain1.080.001.08
BASiCS_MCMC4.340.054.45
BASiCS_MockSCE0.250.000.25
BASiCS_PlotDE2.830.032.86
BASiCS_PlotOffset0.580.020.64
BASiCS_PlotVG0.300.010.31
BASiCS_PriorParam0.20.00.2
BASiCS_ShowFit0.20.00.2
BASiCS_Sim0.330.000.32
BASiCS_Summary-methods000
BASiCS_Summary1.120.001.12
BASiCS_TestDE4.570.024.57
BASiCS_VarThresholdSearchHVG_LVG2.870.032.91
BASiCS_VarianceDecomp0.120.000.14
Summary-BASiCS_Chain-method0.050.000.05
dim-BASiCS_Chain-method0.000.010.01
dimnames-BASiCS_Chain-method0.000.020.02
displayChainBASiCS-BASiCS_Chain-method0.170.030.25
displaySummaryBASiCS-BASiCS_Summary-method0.160.030.20
makeExampleBASiCS_Data0.20.00.2
newBASiCS_Chain2.520.022.53
plot-BASiCS_Chain-method0.120.010.14
plot-BASiCS_Summary-method0.100.020.12
show-BASiCS_ResultDE-method0.090.040.16
show-BASiCS_ResultVG-method0.140.000.15
show-BASiCS_ResultsDE-method0.110.000.12
subset-BASiCS_Chain-method0.590.080.68

BASiCS.Rcheck/examples_x64/BASiCS-Ex.timings

nameusersystemelapsed
BASiCS_Chain-methods1.960.011.99
BASiCS_Chain2.730.072.80
BASiCS_CorrectOffset0.020.010.03
BASiCS_DenoisedCounts1.840.001.85
BASiCS_DenoisedRates2.080.022.09
BASiCS_DetectVG0.970.031.00
BASiCS_DiagHist0.750.000.75
BASiCS_DiagPlot0.450.090.55
BASiCS_DivideAndConquer 1.83 0.0212.11
BASiCS_Draw0.190.000.18
BASiCS_EffectiveSize0.150.000.16
BASiCS_Filter0.000.010.02
BASiCS_LoadChain1.190.001.20
BASiCS_MCMC4.730.054.81
BASiCS_MockSCE0.240.000.24
BASiCS_PlotDE2.450.002.56
BASiCS_PlotOffset0.780.000.80
BASiCS_PlotVG0.460.000.47
BASiCS_PriorParam0.210.000.22
BASiCS_ShowFit0.210.000.21
BASiCS_Sim0.430.000.44
BASiCS_Summary-methods0.000.020.01
BASiCS_Summary1.330.001.33
BASiCS_TestDE4.940.034.97
BASiCS_VarThresholdSearchHVG_LVG2.640.032.67
BASiCS_VarianceDecomp0.160.000.16
Summary-BASiCS_Chain-method0.040.000.05
dim-BASiCS_Chain-method0.000.010.01
dimnames-BASiCS_Chain-method0.020.000.02
displayChainBASiCS-BASiCS_Chain-method0.140.050.19
displaySummaryBASiCS-BASiCS_Summary-method0.090.050.14
makeExampleBASiCS_Data0.140.000.14
newBASiCS_Chain2.990.013.03
plot-BASiCS_Chain-method0.090.070.19
plot-BASiCS_Summary-method0.140.010.17
show-BASiCS_ResultDE-method0.130.060.23
show-BASiCS_ResultVG-method0.120.030.17
show-BASiCS_ResultsDE-method0.140.000.14
subset-BASiCS_Chain-method0.970.000.97