Back to Multiple platform build/check report for BioC 3.12
[A]BCDEFGHIJKLMNOPQRSTUVWXYZ

INSTALL report for Autotuner on riesling1

This page was generated on 2020-10-24 11:04:32 -0400 (Sat, 24 Oct 2020).

TO THE DEVELOPERS/MAINTAINERS OF THE Autotuner PACKAGE: Please make sure to use the following settings in order to reproduce any error or warning you see on this page.
Package 103/1974HostnameOS / ArchINSTALLBUILDCHECKBUILD BIN
Autotuner 1.3.0
Craig McLean
Snapshot Date: 2020-10-23 14:40:36 -0400 (Fri, 23 Oct 2020)
URL: https://git.bioconductor.org/packages/Autotuner
Branch: master
Last Commit: 8433395
Last Changed Date: 2020-09-24 18:49:53 -0400 (Thu, 24 Sep 2020)
malbec1 Linux (Ubuntu 18.04.4 LTS) / x86_64  OK  OK  OK UNNEEDED, same version exists in internal repository
nebbiolo1 Linux (Ubuntu 20.04.1 LTS) / x86_64  OK  OK  OK 
tokay1 Windows Server 2012 R2 Standard / x64  OK  OK  OK  OK UNNEEDED, same version exists in internal repository
riesling1 Windows Server 2019 Standard / x64 [ OK ] OK  OK  OK 
merida1 macOS 10.14.6 Mojave / x86_64  OK  OK  OK  OK UNNEEDED, same version exists in internal repository

Summary

Package: Autotuner
Version: 1.3.0
Command: C:\cygwin\bin\curl.exe -O http://172.29.0.3/BBS/3.12/bioc/src/contrib/Autotuner_1.3.0.tar.gz && rm -rf Autotuner.buildbin-libdir && mkdir Autotuner.buildbin-libdir && D:\biocbuild\bbs-3.12-bioc\R\bin\R.exe CMD INSTALL --merge-multiarch --build --library=Autotuner.buildbin-libdir Autotuner_1.3.0.tar.gz && D:\biocbuild\bbs-3.12-bioc\R\bin\R.exe CMD INSTALL Autotuner_1.3.0.zip && rm Autotuner_1.3.0.tar.gz Autotuner_1.3.0.zip
StartedAt: 2020-10-23 22:33:33 -0400 (Fri, 23 Oct 2020)
EndedAt: 2020-10-23 22:34:41 -0400 (Fri, 23 Oct 2020)
EllapsedTime: 68.2 seconds
RetCode: 0
Status:  OK  

Command output

##############################################################################
##############################################################################
###
### Running command:
###
###   C:\cygwin\bin\curl.exe -O http://172.29.0.3/BBS/3.12/bioc/src/contrib/Autotuner_1.3.0.tar.gz && rm -rf Autotuner.buildbin-libdir && mkdir Autotuner.buildbin-libdir && D:\biocbuild\bbs-3.12-bioc\R\bin\R.exe CMD INSTALL --merge-multiarch --build --library=Autotuner.buildbin-libdir Autotuner_1.3.0.tar.gz && D:\biocbuild\bbs-3.12-bioc\R\bin\R.exe CMD INSTALL Autotuner_1.3.0.zip && rm Autotuner_1.3.0.tar.gz Autotuner_1.3.0.zip
###
##############################################################################
##############################################################################


  % Total    % Received % Xferd  Average Speed   Time    Time     Time  Current
                                 Dload  Upload   Total   Spent    Left  Speed

  0     0    0     0    0     0      0      0 --:--:-- --:--:-- --:--:--     0
100 3762k  100 3762k    0     0  55.6M      0 --:--:-- --:--:-- --:--:-- 56.5M

install for i386

* installing *source* package 'Autotuner' ...
** using staged installation
** R
** data
*** moving datasets to lazyload DB
** inst
** byte-compile and prepare package for lazy loading
** help
*** installing help indices
  converting help for package 'Autotuner'
    finding HTML links ... done
    Autotuner-class                         html  
    EICparams                               html  
    TIC_params                              html  
    ThresholdingAlgo                        html  
    checkBounds                             html  
    checkEICPeaks                           html  
    createAutotuner                         html  
    dissectScans                            html  
    eicParamsEsts                           html  
    estimatePPM                             html  
    estimateSNThresh                        html  
    extract_peaks                           html  
    filterPeaksfromNoise                    html  
    filterPpmError                          html  
    findPeakWidth                           html  
    findTruePeaks                           html  
    getAutoFactorCol                        html  
    getAutoFile_col                         html  
    getAutoFile_paths                       html  
    getAutoIntensity                        html  
    getAutoMetadata                         html  
    getAutoPeak_difference                  html  
    getAutoPeak_table                       html  
    getAutoPeaks                            html  
    getAutoTime                             html  
    initialize-Autotuner-method             html  
    isolatePeaks                            html  
    mzDb                                    html  
    observedPeak                            html  
    peak_time_difference                    html  
    peakwidth_est                           html  
    peakwidth_table                         html  
    plot_peaks                              html  
    plot_signals                            html  
    returnParams                            html  
    setAutoFactorCol                        html  
    setAutoFile_col                         html  
    setAutoFile_paths                       html  
    setAutoIntensity                        html  
    setAutoMetadata                         html  
    setAutoPeak_difference                  html  
    setAutoPeak_table                       html  
    setAutoPeaks                            html  
    setAutoTime                             html  
** building package indices
** installing vignettes
** testing if installed package can be loaded from temporary location
** testing if installed package can be loaded from final location
** testing if installed package keeps a record of temporary installation path

install for x64

* installing *source* package 'Autotuner' ...
** testing if installed package can be loaded
* MD5 sums
packaged installation of 'Autotuner' as Autotuner_1.3.0.zip
* DONE (Autotuner)
* installing to library 'D:/biocbuild/bbs-3.12-bioc/R/library'
package 'Autotuner' successfully unpacked and MD5 sums checked