Back to Multiple platform build/check report for BioC 3.12
[A]BCDEFGHIJKLMNOPQRSTUVWXYZ

BUILD report for Autotuner on riesling1

This page was generated on 2020-10-24 11:04:32 -0400 (Sat, 24 Oct 2020).

TO THE DEVELOPERS/MAINTAINERS OF THE Autotuner PACKAGE: Please make sure to use the following settings in order to reproduce any error or warning you see on this page.
Package 103/1974HostnameOS / ArchINSTALLBUILDCHECKBUILD BIN
Autotuner 1.3.0
Craig McLean
Snapshot Date: 2020-10-23 14:40:36 -0400 (Fri, 23 Oct 2020)
URL: https://git.bioconductor.org/packages/Autotuner
Branch: master
Last Commit: 8433395
Last Changed Date: 2020-09-24 18:49:53 -0400 (Thu, 24 Sep 2020)
malbec1 Linux (Ubuntu 18.04.4 LTS) / x86_64  OK  OK  OK UNNEEDED, same version exists in internal repository
nebbiolo1 Linux (Ubuntu 20.04.1 LTS) / x86_64  OK  OK  OK 
tokay1 Windows Server 2012 R2 Standard / x64  OK  OK  OK  OK UNNEEDED, same version exists in internal repository
riesling1 Windows Server 2019 Standard / x64  OK [ OK ] OK  OK 
merida1 macOS 10.14.6 Mojave / x86_64  OK  OK  OK  OK UNNEEDED, same version exists in internal repository

Summary

Package: Autotuner
Version: 1.3.0
Command: chmod a+r Autotuner -R && D:\biocbuild\bbs-3.12-bioc\R\bin\R.exe CMD build --keep-empty-dirs --no-resave-data Autotuner
StartedAt: 2020-10-23 23:25:55 -0400 (Fri, 23 Oct 2020)
EndedAt: 2020-10-23 23:27:19 -0400 (Fri, 23 Oct 2020)
EllapsedTime: 83.8 seconds
RetCode: 0
Status:  OK  
PackageFile: Autotuner_1.3.0.tar.gz
PackageFileSize: 2.048 MiB

Command output

##############################################################################
##############################################################################
###
### Running command:
###
###   chmod a+r Autotuner -R && D:\biocbuild\bbs-3.12-bioc\R\bin\R.exe CMD build --keep-empty-dirs --no-resave-data Autotuner
###
##############################################################################
##############################################################################


* checking for file 'Autotuner/DESCRIPTION' ... OK
* preparing 'Autotuner':
* checking DESCRIPTION meta-information ... OK
* installing the package to build vignettes
* creating vignettes ... OK
* checking for LF line-endings in source and make files and shell scripts
* checking for empty or unneeded directories
* building 'Autotuner_1.3.0.tar.gz'