Back to Multiple platform build/check report for BioC 3.12
[A]BCDEFGHIJKLMNOPQRSTUVWXYZ

INSTALL report for Autotuner on nebbiolo1

This page was generated on 2020-09-20 10:14:28 -0400 (Sun, 20 Sep 2020).

TO THE DEVELOPERS/MAINTAINERS OF THE Autotuner PACKAGE: Please make sure to use the following settings in order to reproduce any error or warning you see on this page.
Package 98/1912HostnameOS / ArchINSTALLBUILDCHECKBUILD BIN
Autotuner 1.3.0
Craig McLean
Snapshot Date: 2020-09-19 14:40:23 -0400 (Sat, 19 Sep 2020)
URL: https://git.bioconductor.org/packages/Autotuner
Branch: master
Last Commit: cd8f7af
Last Changed Date: 2020-05-07 22:13:18 -0400 (Thu, 07 May 2020)
malbec1 Linux (Ubuntu 18.04.4 LTS) / x86_64  OK  OK  OK UNNEEDED, same version exists in internal repository
nebbiolo1 Linux (Ubuntu 20.04.1 LTS) / x86_64 [ OK ] OK  OK 
tokay1 Windows Server 2012 R2 Standard / x64  OK  OK  OK  OK UNNEEDED, same version exists in internal repository
riesling1 Windows Server 2019 Standard / x64  OK  OK  OK  OK 
merida1 macOS 10.14.6 Mojave / x86_64  OK  OK  OK  OK UNNEEDED, same version exists in internal repository

Summary

Package: Autotuner
Version: 1.3.0
Command: /home/biocbuild/bbs-3.12-bioc/R/bin/R CMD INSTALL Autotuner
StartedAt: 2020-09-19 16:36:07 -0400 (Sat, 19 Sep 2020)
EndedAt: 2020-09-19 16:37:13 -0400 (Sat, 19 Sep 2020)
EllapsedTime: 66.0 seconds
RetCode: 0
Status:  OK 

Command output

##############################################################################
##############################################################################
###
### Running command:
###
###   /home/biocbuild/bbs-3.12-bioc/R/bin/R CMD INSTALL Autotuner
###
##############################################################################
##############################################################################


* installing to library ‘/home/biocbuild/bbs-3.12-bioc/R/library’
* installing *source* package ‘Autotuner’ ...
** using staged installation
** R
** data
** inst
** byte-compile and prepare package for lazy loading
** help
*** installing help indices
** building package indices
** installing vignettes
** testing if installed package can be loaded from temporary location
** testing if installed package can be loaded from final location
** testing if installed package keeps a record of temporary installation path
* DONE (Autotuner)