Back to Multiple platform build/check report for BioC 3.12
[A]BCDEFGHIJKLMNOPQRSTUVWXYZ

CHECK report for Autotuner on nebbiolo1

This page was generated on 2020-09-19 10:18:17 -0400 (Sat, 19 Sep 2020).

TO THE DEVELOPERS/MAINTAINERS OF THE Autotuner PACKAGE: Please make sure to use the following settings in order to reproduce any error or warning you see on this page.
Package 98/1912HostnameOS / ArchINSTALLBUILDCHECKBUILD BIN
Autotuner 1.3.0
Craig McLean
Snapshot Date: 2020-09-18 14:43:25 -0400 (Fri, 18 Sep 2020)
URL: https://git.bioconductor.org/packages/Autotuner
Branch: master
Last Commit: cd8f7af
Last Changed Date: 2020-05-07 22:13:18 -0400 (Thu, 07 May 2020)
malbec1 Linux (Ubuntu 18.04.4 LTS) / x86_64  OK  OK  OK UNNEEDED, same version exists in internal repository
nebbiolo1 Linux (Ubuntu 20.04.1 LTS) / x86_64  OK  OK [ OK ]
tokay1 Windows Server 2012 R2 Standard / x64  OK  OK  OK  OK UNNEEDED, same version exists in internal repository
riesling1 Windows Server 2019 Standard / x64  OK  OK  OK  OK 
merida1 macOS 10.14.6 Mojave / x86_64  OK  OK  OK  OK UNNEEDED, same version exists in internal repository

Summary

Package: Autotuner
Version: 1.3.0
Command: /home/biocbuild/bbs-3.12-bioc/R/bin/R CMD check --install=check:Autotuner.install-out.txt --library=/home/biocbuild/bbs-3.12-bioc/R/library --no-vignettes --timings Autotuner_1.3.0.tar.gz
StartedAt: 2020-09-18 22:23:39 -0400 (Fri, 18 Sep 2020)
EndedAt: 2020-09-18 22:26:53 -0400 (Fri, 18 Sep 2020)
EllapsedTime: 194.7 seconds
RetCode: 0
Status:  OK 
CheckDir: Autotuner.Rcheck
Warnings: 0

Command output

##############################################################################
##############################################################################
###
### Running command:
###
###   /home/biocbuild/bbs-3.12-bioc/R/bin/R CMD check --install=check:Autotuner.install-out.txt --library=/home/biocbuild/bbs-3.12-bioc/R/library --no-vignettes --timings Autotuner_1.3.0.tar.gz
###
##############################################################################
##############################################################################


* using log directory ‘/home/biocbuild/bbs-3.12-bioc/meat/Autotuner.Rcheck’
* using R version 4.0.2 (2020-06-22)
* using platform: x86_64-pc-linux-gnu (64-bit)
* using session charset: UTF-8
* using option ‘--no-vignettes’
* checking for file ‘Autotuner/DESCRIPTION’ ... OK
* checking extension type ... Package
* this is package ‘Autotuner’ version ‘1.3.0’
* package encoding: UTF-8
* checking package namespace information ... OK
* checking package dependencies ... OK
* checking if this is a source package ... OK
* checking if there is a namespace ... OK
* checking for hidden files and directories ... OK
* checking for portable file names ... OK
* checking for sufficient/correct file permissions ... OK
* checking whether package ‘Autotuner’ can be installed ... OK
* checking installed package size ... OK
* checking package directory ... OK
* checking ‘build’ directory ... OK
* checking DESCRIPTION meta-information ... OK
* checking top-level files ... OK
* checking for left-over files ... OK
* checking index information ... OK
* checking package subdirectories ... OK
* checking R files for non-ASCII characters ... OK
* checking R files for syntax errors ... OK
* checking whether the package can be loaded ... OK
* checking whether the package can be loaded with stated dependencies ... OK
* checking whether the package can be unloaded cleanly ... OK
* checking whether the namespace can be loaded with stated dependencies ... OK
* checking whether the namespace can be unloaded cleanly ... OK
* checking dependencies in R code ... OK
* checking S3 generic/method consistency ... OK
* checking replacement functions ... OK
* checking foreign function calls ... OK
* checking R code for possible problems ... OK
* checking Rd files ... OK
* checking Rd metadata ... OK
* checking Rd cross-references ... OK
* checking for missing documentation entries ... OK
* checking for code/documentation mismatches ... OK
* checking Rd \usage sections ... OK
* checking Rd contents ... OK
* checking for unstated dependencies in examples ... OK
* checking contents of ‘data’ directory ... OK
* checking data for non-ASCII characters ... OK
* checking data for ASCII and uncompressed saves ... OK
* checking files in ‘vignettes’ ... OK
* checking examples ... OK
Examples with CPU (user + system) or elapsed time > 5s
                  user system elapsed
createAutotuner 14.132  0.797  14.953
* checking for unstated dependencies in ‘tests’ ... OK
* checking tests ...
  Running ‘testthat.R’
 OK
* checking for unstated dependencies in vignettes ... OK
* checking package vignettes in ‘inst/doc’ ... OK
* checking running R code from vignettes ... SKIPPED
* checking re-building of vignette outputs ... SKIPPED
* checking PDF version of manual ... OK
* DONE

Status: OK


Installation output

Autotuner.Rcheck/00install.out

##############################################################################
##############################################################################
###
### Running command:
###
###   /home/biocbuild/bbs-3.12-bioc/R/bin/R CMD INSTALL Autotuner
###
##############################################################################
##############################################################################


* installing to library ‘/home/biocbuild/bbs-3.12-bioc/R/library’
* installing *source* package ‘Autotuner’ ...
** using staged installation
** R
** data
** inst
** byte-compile and prepare package for lazy loading
** help
*** installing help indices
** building package indices
** installing vignettes
** testing if installed package can be loaded from temporary location
** testing if installed package can be loaded from final location
** testing if installed package keeps a record of temporary installation path
* DONE (Autotuner)

Tests output

Autotuner.Rcheck/tests/testthat.Rout


R version 4.0.2 (2020-06-22) -- "Taking Off Again"
Copyright (C) 2020 The R Foundation for Statistical Computing
Platform: x86_64-pc-linux-gnu (64-bit)

R is free software and comes with ABSOLUTELY NO WARRANTY.
You are welcome to redistribute it under certain conditions.
Type 'license()' or 'licence()' for distribution details.

R is a collaborative project with many contributors.
Type 'contributors()' for more information and
'citation()' on how to cite R or R packages in publications.

Type 'demo()' for some demos, 'help()' for on-line help, or
'help.start()' for an HTML browser interface to help.
Type 'q()' to quit R.

> library(testthat)
> 
> 
> test_check("Autotuner")
Loading required package: Autotuner
Loading required package: Biobase
Loading required package: BiocGenerics
Loading required package: parallel

Attaching package: 'BiocGenerics'

The following objects are masked from 'package:parallel':

    clusterApply, clusterApplyLB, clusterCall, clusterEvalQ,
    clusterExport, clusterMap, parApply, parCapply, parLapply,
    parLapplyLB, parRapply, parSapply, parSapplyLB

The following objects are masked from 'package:stats':

    IQR, mad, sd, var, xtabs

The following objects are masked from 'package:base':

    Filter, Find, Map, Position, Reduce, anyDuplicated, append,
    as.data.frame, basename, cbind, colnames, dirname, do.call,
    duplicated, eval, evalq, get, grep, grepl, intersect, is.unsorted,
    lapply, mapply, match, mget, order, paste, pmax, pmax.int, pmin,
    pmin.int, rank, rbind, rownames, sapply, setdiff, sort, table,
    tapply, union, unique, unsplit, which.max, which.min

Welcome to Bioconductor

    Vignettes contain introductory material; view with
    'browseVignettes()'. To cite Bioconductor, see
    'citation("Biobase")', and for packages 'citation("pkgname")'.

Loading required package: MSnbase
Loading required package: mzR
Loading required package: Rcpp
Loading required package: S4Vectors
Loading required package: stats4

Attaching package: 'S4Vectors'

The following object is masked from 'package:base':

    expand.grid

Loading required package: ProtGenerics

Attaching package: 'ProtGenerics'

The following object is masked from 'package:stats':

    smooth


This is MSnbase version 2.15.6 
  Visit https://lgatto.github.io/MSnbase/ to get started.


Attaching package: 'MSnbase'

The following object is masked from 'package:base':

    trimws

     ____________________________________________________________
    / __  / / / /__  __/ _   /__  __/ / / /\     / / ____/ __   / 
   / / / / / / /  / / / / / /  / / / / / /  \   / / /___/ /_/  /  
  / /_/ / / / /  / / / / / /  / / / / / / /\ \ / / ____/  _   \ 
 / __  / /_/ /  / / / /_/ /  / / / /_/ / /  \   /  /__/  / /  /
/_/ /_/_____/  /_/ /_____/  /_/ /_____/_/    \ /_____/__/ /__/   v.1.3.0
https://github.com/crmclean/autotuner

══ testthat results  ═══════════════════════════════════════════════════════════
[ OK: 69 | SKIPPED: 0 | WARNINGS: 0 | FAILED: 0 ]
> 
> proc.time()
   user  system elapsed 
 57.435   2.600  60.317 

Example timings

Autotuner.Rcheck/Autotuner-Ex.timings

nameusersystemelapsed
ThresholdingAlgo0.0890.0120.102
createAutotuner14.132 0.79714.953
getAutoFactorCol0.0040.0000.004
getAutoFile_col0.0040.0000.004
getAutoFile_paths0.0040.0000.004
getAutoIntensity0.0030.0000.003
getAutoMetadata0.0030.0000.003
getAutoPeak_difference0.0030.0000.003
getAutoPeak_table0.0030.0000.003
getAutoPeaks0.0040.0000.003
getAutoTime0.0040.0000.004
isolatePeaks0.3570.0960.454
plot_peaks0.0120.0000.012
plot_signals0.2020.0080.210
returnParams0.0080.0000.008
setAutoFactorCol0.0070.0000.007
setAutoFile_col0.0050.0000.005
setAutoFile_paths0.0030.0000.003
setAutoIntensity0.0040.0000.004
setAutoMetadata0.0040.0010.003
setAutoPeak_difference0.0000.0030.003
setAutoPeak_table0.0040.0000.004
setAutoPeaks0.0040.0000.004
setAutoTime0.0030.0000.003