Back to Multiple platform build/check report for BioC 3.12
[A]BCDEFGHIJKLMNOPQRSTUVWXYZ

CHECK report for AssessORF on nebbiolo1

This page was generated on 2021-02-22 12:33:07 -0500 (Mon, 22 Feb 2021).

To the developers/maintainers of the AssessORF package:
Please make sure to use the following settings in order to reproduce any error or warning you see on this page.
Package 96/1974HostnameOS / ArchINSTALLBUILDCHECKBUILD BIN
AssessORF 1.8.0
Deepank Korandla
Snapshot Date: 2021-02-21 14:52:07 -0500 (Sun, 21 Feb 2021)
URL: https://git.bioconductor.org/packages/AssessORF
Branch: RELEASE_3_12
Last Commit: 3cb4cb1
Last Changed Date: 2020-10-27 11:40:18 -0500 (Tue, 27 Oct 2020)
malbec1Linux (Ubuntu 18.04.5 LTS) / x86_64  OK    OK    OK  UNNEEDED, same version exists in internal repository
nebbiolo1Linux (Ubuntu 20.04.2 LTS) / x86_64  OK    OK    OK  
tokay1Windows Server 2012 R2 Standard / x64  OK    OK    OK    OK  UNNEEDED, same version exists in internal repository
merida1macOS 10.14.6 Mojave / x86_64  OK    OK    OK    OK  UNNEEDED, same version exists in internal repository

Summary

Package: AssessORF
Version: 1.8.0
Command: /home/biocbuild/bbs-3.12-bioc/R/bin/R CMD check --install=check:AssessORF.install-out.txt --library=/home/biocbuild/bbs-3.12-bioc/R/library --no-vignettes --timings AssessORF_1.8.0.tar.gz
StartedAt: 2021-02-21 20:15:01 -0500 (Sun, 21 Feb 2021)
EndedAt: 2021-02-21 20:17:00 -0500 (Sun, 21 Feb 2021)
EllapsedTime: 119.4 seconds
RetCode: 0
Status:   OK  
CheckDir: AssessORF.Rcheck
Warnings: 0

Command output

##############################################################################
##############################################################################
###
### Running command:
###
###   /home/biocbuild/bbs-3.12-bioc/R/bin/R CMD check --install=check:AssessORF.install-out.txt --library=/home/biocbuild/bbs-3.12-bioc/R/library --no-vignettes --timings AssessORF_1.8.0.tar.gz
###
##############################################################################
##############################################################################


* using log directory ‘/home/biocbuild/bbs-3.12-bioc/meat/AssessORF.Rcheck’
* using R version 4.0.3 (2020-10-10)
* using platform: x86_64-pc-linux-gnu (64-bit)
* using session charset: UTF-8
* using option ‘--no-vignettes’
* checking for file ‘AssessORF/DESCRIPTION’ ... OK
* checking extension type ... Package
* this is package ‘AssessORF’ version ‘1.8.0’
* package encoding: UTF-8
* checking package namespace information ... OK
* checking package dependencies ... OK
* checking if this is a source package ... OK
* checking if there is a namespace ... OK
* checking for hidden files and directories ... OK
* checking for portable file names ... OK
* checking for sufficient/correct file permissions ... OK
* checking whether package ‘AssessORF’ can be installed ... OK
* checking installed package size ... OK
* checking package directory ... OK
* checking ‘build’ directory ... OK
* checking DESCRIPTION meta-information ... OK
* checking top-level files ... OK
* checking for left-over files ... OK
* checking index information ... OK
* checking package subdirectories ... OK
* checking R files for non-ASCII characters ... OK
* checking R files for syntax errors ... OK
* checking whether the package can be loaded ... OK
* checking whether the package can be loaded with stated dependencies ... OK
* checking whether the package can be unloaded cleanly ... OK
* checking whether the namespace can be loaded with stated dependencies ... OK
* checking whether the namespace can be unloaded cleanly ... OK
* checking dependencies in R code ... OK
* checking S3 generic/method consistency ... OK
* checking replacement functions ... OK
* checking foreign function calls ... OK
* checking R code for possible problems ... OK
* checking Rd files ... OK
* checking Rd metadata ... OK
* checking Rd cross-references ... OK
* checking for missing documentation entries ... OK
* checking for code/documentation mismatches ... OK
* checking Rd \usage sections ... OK
* checking Rd contents ... OK
* checking for unstated dependencies in examples ... OK
* checking files in ‘vignettes’ ... OK
* checking examples ... OK
Examples with CPU (user + system) or elapsed time > 5s
                    user system elapsed
MapAssessmentData 13.802  0.488  14.293
AssessGenes        8.732  0.180   8.914
plot.Assessment    7.696  0.596   8.292
* checking for unstated dependencies in vignettes ... OK
* checking package vignettes in ‘inst/doc’ ... OK
* checking running R code from vignettes ... SKIPPED
* checking re-building of vignette outputs ... SKIPPED
* checking PDF version of manual ... OK
* DONE

Status: OK


Installation output

AssessORF.Rcheck/00install.out

##############################################################################
##############################################################################
###
### Running command:
###
###   /home/biocbuild/bbs-3.12-bioc/R/bin/R CMD INSTALL AssessORF
###
##############################################################################
##############################################################################


* installing to library ‘/home/biocbuild/bbs-3.12-bioc/R/library’
* installing *source* package ‘AssessORF’ ...
** using staged installation
** R
** inst
** byte-compile and prepare package for lazy loading
** help
*** installing help indices
** building package indices
** installing vignettes
** testing if installed package can be loaded from temporary location
** testing if installed package can be loaded from final location
** testing if installed package keeps a record of temporary installation path
* DONE (AssessORF)

Tests output


Example timings

AssessORF.Rcheck/AssessORF-Ex.timings

nameusersystemelapsed
AssessGenes8.7320.1808.914
CompareAssessmentResults0.0220.0000.023
MapAssessmentData13.802 0.48814.293
ScoreAssessmentResults0.0060.0000.005
as.matrix.Assessment0.0020.0040.006
mosaicplot.Assessment0.0230.0040.027
plot.Assessment7.6960.5968.292
print.Assessment0.7080.0200.728