Back to Multiple platform build/check report for BioC 3.12
[A]BCDEFGHIJKLMNOPQRSTUVWXYZ

INSTALL report for ArrayTV on nebbiolo1

This page was generated on 2021-03-03 12:11:33 -0500 (Wed, 03 Mar 2021).

To the developers/maintainers of the ArrayTV package:
Please make sure to use the following settings in order to reproduce any error or warning you see on this page.
Package 87/1974HostnameOS / ArchINSTALLBUILDCHECKBUILD BIN
ArrayTV 1.28.0
Eitan Halper-Stromberg
Snapshot Date: 2021-03-02 14:50:31 -0500 (Tue, 02 Mar 2021)
URL: https://git.bioconductor.org/packages/ArrayTV
Branch: RELEASE_3_12
Last Commit: f8ad413
Last Changed Date: 2020-10-27 10:52:44 -0500 (Tue, 27 Oct 2020)
malbec1Linux (Ubuntu 18.04.5 LTS) / x86_64  OK    ERROR  skipped
nebbiolo1Linux (Ubuntu 20.04.2 LTS) / x86_64  OK    ERROR  skipped
tokay1Windows Server 2012 R2 Standard / x64  OK    ERROR  skippedskipped
merida1macOS 10.14.6 Mojave / x86_64  OK    ERROR  skippedskipped

Summary

Package: ArrayTV
Version: 1.28.0
Command: /home/biocbuild/bbs-3.12-bioc/R/bin/R CMD INSTALL ArrayTV
StartedAt: 2021-03-02 16:44:25 -0500 (Tue, 02 Mar 2021)
EndedAt: 2021-03-02 16:45:37 -0500 (Tue, 02 Mar 2021)
EllapsedTime: 72.0 seconds
RetCode: 0
Status:   OK  

Command output

##############################################################################
##############################################################################
###
### Running command:
###
###   /home/biocbuild/bbs-3.12-bioc/R/bin/R CMD INSTALL ArrayTV
###
##############################################################################
##############################################################################


* installing to library ‘/home/biocbuild/bbs-3.12-bioc/R/library’
* installing *source* package ‘ArrayTV’ ...
** using staged installation
** R
** inst
** byte-compile and prepare package for lazy loading
** help
*** installing help indices
** building package indices
** installing vignettes
** testing if installed package can be loaded from temporary location
Warning: Package 'ArrayTV' is deprecated and will be removed from Bioconductor
  version 3.13
** testing if installed package can be loaded from final location
Warning: Package 'ArrayTV' is deprecated and will be removed from Bioconductor
  version 3.13
** testing if installed package keeps a record of temporary installation path
* DONE (ArrayTV)