Back to Multiple platform build/check report for BioC 3.12
[A]BCDEFGHIJKLMNOPQRSTUVWXYZ

BUILD report for AnnotationDbi on riesling1

This page was generated on 2020-10-21 12:13:41 -0400 (Wed, 21 Oct 2020).

TO THE DEVELOPERS/MAINTAINERS OF THE AnnotationDbi PACKAGE: Please make sure to use the following settings in order to reproduce any error or warning you see on this page.
Package 60/1939HostnameOS / ArchINSTALLBUILDCHECKBUILD BIN
AnnotationDbi 1.51.3
Bioconductor Package Maintainer
Snapshot Date: 2020-10-20 14:40:34 -0400 (Tue, 20 Oct 2020)
URL: https://git.bioconductor.org/packages/AnnotationDbi
Branch: master
Last Commit: cb334af
Last Changed Date: 2020-07-24 15:10:07 -0400 (Fri, 24 Jul 2020)
malbec1 Linux (Ubuntu 18.04.4 LTS) / x86_64  OK  OK  OK UNNEEDED, same version exists in internal repository
nebbiolo1 Linux (Ubuntu 20.04.1 LTS) / x86_64  OK  OK  OK 
tokay1 Windows Server 2012 R2 Standard / x64  OK  OK  OK  OK UNNEEDED, same version exists in internal repository
riesling1 Windows Server 2019 Standard / x64  OK [ OK ] OK  OK 
merida1 macOS 10.14.6 Mojave / x86_64  OK  OK  OK  OK UNNEEDED, same version exists in internal repository

Summary

Package: AnnotationDbi
Version: 1.51.3
Command: chmod a+r AnnotationDbi -R && D:\biocbuild\bbs-3.12-bioc\R\bin\R.exe CMD build --keep-empty-dirs --no-resave-data AnnotationDbi
StartedAt: 2020-10-20 17:49:36 -0400 (Tue, 20 Oct 2020)
EndedAt: 2020-10-20 17:51:06 -0400 (Tue, 20 Oct 2020)
EllapsedTime: 89.8 seconds
RetCode: 0
Status:  OK  
PackageFile: AnnotationDbi_1.51.3.tar.gz
PackageFileSize: 4.138 MiB

Command output

##############################################################################
##############################################################################
###
### Running command:
###
###   chmod a+r AnnotationDbi -R && D:\biocbuild\bbs-3.12-bioc\R\bin\R.exe CMD build --keep-empty-dirs --no-resave-data AnnotationDbi
###
##############################################################################
##############################################################################


* checking for file 'AnnotationDbi/DESCRIPTION' ... OK
* preparing 'AnnotationDbi':
* checking DESCRIPTION meta-information ... OK
* installing the package to build vignettes
* creating vignettes ... OK
* checking for LF line-endings in source and make files and shell scripts
* checking for empty or unneeded directories
* building 'AnnotationDbi_1.51.3.tar.gz'