Back to Multiple platform build/check report for BioC 3.12 |
|
This page was generated on 2021-01-16 11:52:53 -0500 (Sat, 16 Jan 2021).
TO THE DEVELOPERS/MAINTAINERS OF THE AnnotationDbi PACKAGE: Please make sure to use the following settings in order to reproduce any error or warning you see on this page. |
Package 62/1974 | Hostname | OS / Arch | INSTALL | BUILD | CHECK | BUILD BIN | ||||||
AnnotationDbi 1.52.0 Bioconductor Package Maintainer
| malbec1 | Linux (Ubuntu 18.04.5 LTS) / x86_64 | OK | OK | OK | ![]() | ||||||
nebbiolo1 | Linux (Ubuntu 20.04.1 LTS) / x86_64 | [ OK ] | OK | OK | ||||||||
tokay1 | Windows Server 2012 R2 Standard / x64 | OK | OK | OK | OK | ![]() | ||||||
merida1 | macOS 10.14.6 Mojave / x86_64 | OK | OK | OK | OK | ![]() |
Package: AnnotationDbi |
Version: 1.52.0 |
Command: /home/biocbuild/bbs-3.12-bioc/R/bin/R CMD INSTALL AnnotationDbi |
StartedAt: 2021-01-15 16:16:23 -0500 (Fri, 15 Jan 2021) |
EndedAt: 2021-01-15 16:17:33 -0500 (Fri, 15 Jan 2021) |
EllapsedTime: 69.1 seconds |
RetCode: 0 |
Status: OK |
############################################################################## ############################################################################## ### ### Running command: ### ### /home/biocbuild/bbs-3.12-bioc/R/bin/R CMD INSTALL AnnotationDbi ### ############################################################################## ############################################################################## * installing to library ‘/home/biocbuild/bbs-3.12-bioc/R/library’ * installing *source* package ‘AnnotationDbi’ ... ** using staged installation ** R ** inst ** byte-compile and prepare package for lazy loading Creating a new generic function for ‘packageName’ in package ‘AnnotationDbi’ Creating a generic function for ‘ls’ from package ‘base’ in package ‘AnnotationDbi’ Creating a generic function for ‘eapply’ from package ‘base’ in package ‘AnnotationDbi’ Creating a generic function for ‘exists’ from package ‘base’ in package ‘AnnotationDbi’ Creating a generic function for ‘sample’ from package ‘base’ in package ‘AnnotationDbi’ ** help *** installing help indices ** building package indices ** installing vignettes ** testing if installed package can be loaded from temporary location ** testing if installed package can be loaded from final location ** testing if installed package keeps a record of temporary installation path * DONE (AnnotationDbi)