Back to Multiple platform build/check report for BioC 3.12
[A]BCDEFGHIJKLMNOPQRSTUVWXYZ

BUILD report for AnVIL on riesling1

This page was generated on 2020-10-24 11:04:29 -0400 (Sat, 24 Oct 2020).

TO THE DEVELOPERS/MAINTAINERS OF THE AnVIL PACKAGE: Please make sure to use the following settings in order to reproduce any error or warning you see on this page.
Package 73/1974HostnameOS / ArchINSTALLBUILDCHECKBUILD BIN
AnVIL 1.1.23
Martin Morgan
Snapshot Date: 2020-10-23 14:40:36 -0400 (Fri, 23 Oct 2020)
URL: https://git.bioconductor.org/packages/AnVIL
Branch: master
Last Commit: 986ae49
Last Changed Date: 2020-10-09 11:06:16 -0400 (Fri, 09 Oct 2020)
malbec1 Linux (Ubuntu 18.04.4 LTS) / x86_64  OK  OK  OK UNNEEDED, same version exists in internal repository
nebbiolo1 Linux (Ubuntu 20.04.1 LTS) / x86_64  OK  OK  OK 
tokay1 Windows Server 2012 R2 Standard / x64  OK  OK  OK  OK UNNEEDED, same version exists in internal repository
riesling1 Windows Server 2019 Standard / x64  OK [ OK ] OK  OK 
merida1 macOS 10.14.6 Mojave / x86_64  OK  OK  OK  OK UNNEEDED, same version exists in internal repository

Summary

Package: AnVIL
Version: 1.1.23
Command: chmod a+r AnVIL -R && D:\biocbuild\bbs-3.12-bioc\R\bin\R.exe CMD build --keep-empty-dirs --no-resave-data AnVIL
StartedAt: 2020-10-23 23:24:11 -0400 (Fri, 23 Oct 2020)
EndedAt: 2020-10-23 23:25:48 -0400 (Fri, 23 Oct 2020)
EllapsedTime: 96.2 seconds
RetCode: 0
Status:  OK  
PackageFile: AnVIL_1.1.23.tar.gz
PackageFileSize: 817.4 KiB

Command output

##############################################################################
##############################################################################
###
### Running command:
###
###   chmod a+r AnVIL -R && D:\biocbuild\bbs-3.12-bioc\R\bin\R.exe CMD build --keep-empty-dirs --no-resave-data AnVIL
###
##############################################################################
##############################################################################


* checking for file 'AnVIL/DESCRIPTION' ... OK
* preparing 'AnVIL':
* checking DESCRIPTION meta-information ... OK
* installing the package to build vignettes
* creating vignettes ... OK
* checking for LF line-endings in source and make files and shell scripts
* checking for empty or unneeded directories
* building 'AnVIL_1.1.23.tar.gz'