Back to Multiple platform build/check report for BioC 3.12 |
|
This page was generated on 2021-02-27 12:10:33 -0500 (Sat, 27 Feb 2021).
To the developers/maintainers of the AllelicImbalance package: Please make sure to use the following settings in order to reproduce any error or warning you see on this page. |
Package 44/1974 | Hostname | OS / Arch | INSTALL | BUILD | CHECK | BUILD BIN | ||||||||
AllelicImbalance 1.28.0 Jesper R Gadin
| malbec1 | Linux (Ubuntu 18.04.5 LTS) / x86_64 | OK | OK | OK | ![]() | ||||||||
nebbiolo1 | Linux (Ubuntu 20.04.2 LTS) / x86_64 | OK | OK | NA | ||||||||||
tokay1 | Windows Server 2012 R2 Standard / x64 | OK | OK | OK | OK | ![]() | ||||||||
merida1 | macOS 10.14.6 Mojave / x86_64 | OK | OK | OK | OK | ![]() | ||||||||
Package: AllelicImbalance |
Version: 1.28.0 |
Command: /home/biocbuild/bbs-3.12-bioc/R/bin/R CMD INSTALL AllelicImbalance |
StartedAt: 2021-02-26 17:54:12 -0500 (Fri, 26 Feb 2021) |
EndedAt: 2021-02-26 17:55:14 -0500 (Fri, 26 Feb 2021) |
EllapsedTime: 62.7 seconds |
RetCode: 0 |
Status: OK |
############################################################################## ############################################################################## ### ### Running command: ### ### /home/biocbuild/bbs-3.12-bioc/R/bin/R CMD INSTALL AllelicImbalance ### ############################################################################## ############################################################################## * installing to library ‘/home/biocbuild/bbs-3.12-bioc/R/library’ * installing *source* package ‘AllelicImbalance’ ... ** using staged installation ** R ** data *** moving datasets to lazyload DB ** inst ** byte-compile and prepare package for lazy loading Creating a generic function for 'chisq.test' from package 'stats' in package 'AllelicImbalance' Creating a generic function for 'binom.test' from package 'stats' in package 'AllelicImbalance' ** help *** installing help indices ** building package indices ** installing vignettes ** testing if installed package can be loaded from temporary location ** testing if installed package can be loaded from final location ** testing if installed package keeps a record of temporary installation path * DONE (AllelicImbalance)