Back to Multiple platform build/check report for BioC 3.12
[A]BCDEFGHIJKLMNOPQRSTUVWXYZ

BUILD BIN report for AgiMicroRna on riesling1

This page was generated on 2020-10-24 11:04:25 -0400 (Sat, 24 Oct 2020).

TO THE DEVELOPERS/MAINTAINERS OF THE AgiMicroRna PACKAGE: Please make sure to use the following settings in order to reproduce any error or warning you see on this page.
Package 40/1974HostnameOS / ArchINSTALLBUILDCHECKBUILD BIN
AgiMicroRna 2.39.0
Pedro Lopez-Romero
Snapshot Date: 2020-10-23 14:40:36 -0400 (Fri, 23 Oct 2020)
URL: https://git.bioconductor.org/packages/AgiMicroRna
Branch: master
Last Commit: bb62809
Last Changed Date: 2020-04-27 14:20:03 -0400 (Mon, 27 Apr 2020)
malbec1 Linux (Ubuntu 18.04.4 LTS) / x86_64  OK  OK  OK UNNEEDED, same version exists in internal repository
nebbiolo1 Linux (Ubuntu 20.04.1 LTS) / x86_64  OK  OK  OK 
tokay1 Windows Server 2012 R2 Standard / x64  OK  OK  OK  OK UNNEEDED, same version exists in internal repository
riesling1 Windows Server 2019 Standard / x64  OK  OK  OK [ OK ]
merida1 macOS 10.14.6 Mojave / x86_64  OK  OK  OK  OK UNNEEDED, same version exists in internal repository

Summary

Package: AgiMicroRna
Version: 2.39.0
Command: rm -rf AgiMicroRna.buildbin-libdir && mkdir AgiMicroRna.buildbin-libdir && D:\biocbuild\bbs-3.12-bioc\R\bin\R.exe CMD INSTALL --merge-multiarch --build --library=AgiMicroRna.buildbin-libdir AgiMicroRna_2.39.0.tar.gz
StartedAt: 2020-10-24 04:45:19 -0400 (Sat, 24 Oct 2020)
EndedAt: 2020-10-24 04:47:11 -0400 (Sat, 24 Oct 2020)
EllapsedTime: 111.4 seconds
RetCode: 0
Status:  OK  
PackageFile: AgiMicroRna_2.39.0.zip
PackageFileSize: 3.491 MiB

Command output

##############################################################################
##############################################################################
###
### Running command:
###
###   rm -rf AgiMicroRna.buildbin-libdir && mkdir AgiMicroRna.buildbin-libdir && D:\biocbuild\bbs-3.12-bioc\R\bin\R.exe CMD INSTALL --merge-multiarch --build --library=AgiMicroRna.buildbin-libdir AgiMicroRna_2.39.0.tar.gz
###
##############################################################################
##############################################################################



install for i386

* installing *source* package 'AgiMicroRna' ...
** using staged installation
** R
** data
** inst
** byte-compile and prepare package for lazy loading
** help
*** installing help indices
  converting help for package 'AgiMicroRna'
    finding HTML links ... done
    HeatMapMicroRna                         html  
    PCAplotMicroRna                         html  
    RleMicroRna                             html  
    basicLimma                              html  
    boxplotMicroRna                         html  
    cvArray                                 html  
    dd.micro                                html  
    ddPROC                                  html  
    dim.uRNAList                            html  
    dimnames.uRNAList                       html  
    esetMicroRna                            html  
    filterMicroRna                          html  
    getDecideTests                          html  
    hierclusMicroRna                        html  
    mvaBASIC                                html  
    mvaMicroRna                             html  
    plotDensityMicroRna                     html  
    pvalHistogram                           html  
    qcPlots                                 html  
    readMicroRnaAFE                         html  
    readTargets                             html  
    rmaMicroRna                             html  
    significantMicroRna                     html  
    summary.uRNAList                        html  
    targets.micro                           html  
    tgsMicroRna                             html  
    tgsNormalization                        html  
    uRNAList                                html  
    writeEset                               html  
** building package indices
** installing vignettes
** testing if installed package can be loaded from temporary location
** testing if installed package can be loaded from final location
** testing if installed package keeps a record of temporary installation path

install for x64

* installing *source* package 'AgiMicroRna' ...
** testing if installed package can be loaded
* MD5 sums
packaged installation of 'AgiMicroRna' as AgiMicroRna_2.39.0.zip
* DONE (AgiMicroRna)