Back to Multiple platform build/check report for BioC 3.12
[A]BCDEFGHIJKLMNOPQRSTUVWXYZ

BUILD report for AgiMicroRna on nebbiolo1

This page was generated on 2020-09-21 11:04:40 -0400 (Mon, 21 Sep 2020).

TO THE DEVELOPERS/MAINTAINERS OF THE AgiMicroRna PACKAGE: Please make sure to use the following settings in order to reproduce any error or warning you see on this page.
Package 38/1912HostnameOS / ArchINSTALLBUILDCHECKBUILD BIN
AgiMicroRna 2.39.0
Pedro Lopez-Romero
Snapshot Date: 2020-09-20 14:41:51 -0400 (Sun, 20 Sep 2020)
URL: https://git.bioconductor.org/packages/AgiMicroRna
Branch: master
Last Commit: bb62809
Last Changed Date: 2020-04-27 14:20:03 -0400 (Mon, 27 Apr 2020)
malbec1 Linux (Ubuntu 18.04.4 LTS) / x86_64  OK  OK  OK UNNEEDED, same version exists in internal repository
nebbiolo1 Linux (Ubuntu 20.04.1 LTS) / x86_64  OK [ OK ] OK 
tokay1 Windows Server 2012 R2 Standard / x64  OK  OK  OK  OK UNNEEDED, same version exists in internal repository
riesling1 Windows Server 2019 Standard / x64  OK  OK  OK  OK 
merida1 macOS 10.14.6 Mojave / x86_64  OK  OK  OK  OK UNNEEDED, same version exists in internal repository

Summary

Package: AgiMicroRna
Version: 2.39.0
Command: /home/biocbuild/bbs-3.12-bioc/R/bin/R CMD build --keep-empty-dirs --no-resave-data AgiMicroRna
StartedAt: 2020-09-20 17:40:35 -0400 (Sun, 20 Sep 2020)
EndedAt: 2020-09-20 17:43:12 -0400 (Sun, 20 Sep 2020)
EllapsedTime: 157.1 seconds
RetCode: 0
Status:  OK 
PackageFile: AgiMicroRna_2.39.0.tar.gz
PackageFileSize: 3.005 MiB

Command output

##############################################################################
##############################################################################
###
### Running command:
###
###   /home/biocbuild/bbs-3.12-bioc/R/bin/R CMD build --keep-empty-dirs --no-resave-data AgiMicroRna
###
##############################################################################
##############################################################################


* checking for file ‘AgiMicroRna/DESCRIPTION’ ... OK
* preparing ‘AgiMicroRna’:
* checking DESCRIPTION meta-information ... OK
* installing the package to build vignettes
* creating vignettes ... OK
* checking for LF line-endings in source and make files and shell scripts
* checking for empty or unneeded directories
* looking to see if a ‘data/datalist’ file should be added
* building ‘AgiMicroRna_2.39.0.tar.gz’