Back to Multiple platform build/check report for BioC 3.12
[A]BCDEFGHIJKLMNOPQRSTUVWXYZ

BUILD BIN report for AffyExpress on riesling1

This page was generated on 2020-10-18 12:33:02 -0400 (Sun, 18 Oct 2020).

TO THE DEVELOPERS/MAINTAINERS OF THE AffyExpress PACKAGE: Please make sure to use the following settings in order to reproduce any error or warning you see on this page.
Package 27/1874HostnameOS / ArchINSTALLBUILDCHECKBUILD BIN
AffyExpress 1.55.0
Xuejun Arthur Li
Snapshot Date: 2020-10-17 14:41:49 -0400 (Sat, 17 Oct 2020)
URL: https://git.bioconductor.org/packages/AffyExpress
Branch: master
Last Commit: 900fba3
Last Changed Date: 2020-04-27 14:15:41 -0400 (Mon, 27 Apr 2020)
malbec1 Linux (Ubuntu 18.04.4 LTS) / x86_64  OK  OK  OK UNNEEDED, same version exists in internal repository
nebbiolo1 Linux (Ubuntu 20.04.1 LTS) / x86_64  OK  OK  OK 
tokay1 Windows Server 2012 R2 Standard / x64  OK  OK  OK  OK UNNEEDED, same version exists in internal repository
riesling1 Windows Server 2019 Standard / x64  OK  OK  OK [ OK ]
merida1 macOS 10.14.6 Mojave / x86_64  OK  OK  OK  OK UNNEEDED, same version exists in internal repository

Summary

Package: AffyExpress
Version: 1.55.0
Command: rm -rf AffyExpress.buildbin-libdir && mkdir AffyExpress.buildbin-libdir && D:\biocbuild\bbs-3.12-bioc\R\bin\R.exe CMD INSTALL --merge-multiarch --build --library=AffyExpress.buildbin-libdir AffyExpress_1.55.0.tar.gz
StartedAt: 2020-10-17 22:39:02 -0400 (Sat, 17 Oct 2020)
EndedAt: 2020-10-17 22:40:36 -0400 (Sat, 17 Oct 2020)
EllapsedTime: 94.0 seconds
RetCode: 0
Status:  OK  
PackageFile: AffyExpress_1.55.0.zip
PackageFileSize: 715.9 KiB

Command output

##############################################################################
##############################################################################
###
### Running command:
###
###   rm -rf AffyExpress.buildbin-libdir && mkdir AffyExpress.buildbin-libdir && D:\biocbuild\bbs-3.12-bioc\R\bin\R.exe CMD INSTALL --merge-multiarch --build --library=AffyExpress.buildbin-libdir AffyExpress_1.55.0.tar.gz
###
##############################################################################
##############################################################################



install for i386

* installing *source* package 'AffyExpress' ...
** using staged installation
** R
** data
** inst
** byte-compile and prepare package for lazy loading
** help
*** installing help indices
  converting help for package 'AffyExpress'
    finding HTML links ... done
    AffyInteraction                         html  
    AffyQA                                  html  
    AffyRegress                             html  
    Filter                                  html  
    import.data                             html  
    interaction.result2html                 html  
    make.contrast                           html  
    make.design                             html  
    post.interaction                        html  
    pre.process                             html  
    regress                                 html  
    result2html                             html  
    select.sig.gene                         html  
    testData                                html  
** building package indices
** installing vignettes
** testing if installed package can be loaded from temporary location
** testing if installed package can be loaded from final location
** testing if installed package keeps a record of temporary installation path

install for x64

* installing *source* package 'AffyExpress' ...
** testing if installed package can be loaded
* MD5 sums
packaged installation of 'AffyExpress' as AffyExpress_1.55.0.zip
* DONE (AffyExpress)