Back to Multiple platform build/check report for BioC 3.12
[A]BCDEFGHIJKLMNOPQRSTUVWXYZ

BUILD report for ATACseqQC on riesling1

This page was generated on 2020-10-21 12:13:44 -0400 (Wed, 21 Oct 2020).

TO THE DEVELOPERS/MAINTAINERS OF THE ATACseqQC PACKAGE: Please make sure to use the following settings in order to reproduce any error or warning you see on this page.
Package 95/1939HostnameOS / ArchINSTALLBUILDCHECKBUILD BIN
ATACseqQC 1.13.9
Jianhong Ou
Snapshot Date: 2020-10-20 14:40:34 -0400 (Tue, 20 Oct 2020)
URL: https://git.bioconductor.org/packages/ATACseqQC
Branch: master
Last Commit: 0f07f90
Last Changed Date: 2020-10-17 12:33:37 -0400 (Sat, 17 Oct 2020)
malbec1 Linux (Ubuntu 18.04.4 LTS) / x86_64  OK  OK  OK UNNEEDED, same version exists in internal repository
nebbiolo1 Linux (Ubuntu 20.04.1 LTS) / x86_64  OK  OK  OK 
tokay1 Windows Server 2012 R2 Standard / x64  OK  OK  OK  OK UNNEEDED, same version exists in internal repository
riesling1 Windows Server 2019 Standard / x64  OK [ OK ] OK  OK 
merida1 macOS 10.14.6 Mojave / x86_64  OK  OK  OK  OK UNNEEDED, same version exists in internal repository

Summary

Package: ATACseqQC
Version: 1.13.9
Command: chmod a+r ATACseqQC -R && D:\biocbuild\bbs-3.12-bioc\R\bin\R.exe CMD build --keep-empty-dirs --no-resave-data ATACseqQC
StartedAt: 2020-10-20 17:51:34 -0400 (Tue, 20 Oct 2020)
EndedAt: 2020-10-20 17:57:35 -0400 (Tue, 20 Oct 2020)
EllapsedTime: 361.7 seconds
RetCode: 0
Status:  OK  
PackageFile: ATACseqQC_1.13.9.tar.gz
PackageFileSize: 12.54 MiB

Command output

##############################################################################
##############################################################################
###
### Running command:
###
###   chmod a+r ATACseqQC -R && D:\biocbuild\bbs-3.12-bioc\R\bin\R.exe CMD build --keep-empty-dirs --no-resave-data ATACseqQC
###
##############################################################################
##############################################################################


* checking for file 'ATACseqQC/DESCRIPTION' ... OK
* preparing 'ATACseqQC':
* checking DESCRIPTION meta-information ... OK
* installing the package to build vignettes
* creating vignettes ... OK
* checking for LF line-endings in source and make files and shell scripts
* checking for empty or unneeded directories
* building 'ATACseqQC_1.13.9.tar.gz'