Back to Multiple platform build/check report for BioC 3.12
[A]BCDEFGHIJKLMNOPQRSTUVWXYZ

BUILD report for ASEB on riesling1

This page was generated on 2020-10-21 12:13:43 -0400 (Wed, 21 Oct 2020).

TO THE DEVELOPERS/MAINTAINERS OF THE ASEB PACKAGE: Please make sure to use the following settings in order to reproduce any error or warning you see on this page.
Package 87/1939HostnameOS / ArchINSTALLBUILDCHECKBUILD BIN
ASEB 1.33.0
Likun Wang
Snapshot Date: 2020-10-20 14:40:34 -0400 (Tue, 20 Oct 2020)
URL: https://git.bioconductor.org/packages/ASEB
Branch: master
Last Commit: 399b394
Last Changed Date: 2020-04-27 14:28:02 -0400 (Mon, 27 Apr 2020)
malbec1 Linux (Ubuntu 18.04.4 LTS) / x86_64  OK  OK  OK UNNEEDED, same version exists in internal repository
nebbiolo1 Linux (Ubuntu 20.04.1 LTS) / x86_64  OK  OK  OK 
tokay1 Windows Server 2012 R2 Standard / x64  OK  OK  OK  OK UNNEEDED, same version exists in internal repository
riesling1 Windows Server 2019 Standard / x64  OK [ OK ] OK  OK 
merida1 macOS 10.14.6 Mojave / x86_64  OK  OK  OK  OK UNNEEDED, same version exists in internal repository

Summary

Package: ASEB
Version: 1.33.0
Command: chmod a+r ASEB -R && D:\biocbuild\bbs-3.12-bioc\R\bin\R.exe CMD build --keep-empty-dirs --no-resave-data ASEB
StartedAt: 2020-10-20 17:51:06 -0400 (Tue, 20 Oct 2020)
EndedAt: 2020-10-20 17:52:02 -0400 (Tue, 20 Oct 2020)
EllapsedTime: 55.6 seconds
RetCode: 0
Status:  OK  
PackageFile: ASEB_1.33.0.tar.gz
PackageFileSize: 500 KiB

Command output

##############################################################################
##############################################################################
###
### Running command:
###
###   chmod a+r ASEB -R && D:\biocbuild\bbs-3.12-bioc\R\bin\R.exe CMD build --keep-empty-dirs --no-resave-data ASEB
###
##############################################################################
##############################################################################


* checking for file 'ASEB/DESCRIPTION' ... OK
* preparing 'ASEB':
* checking DESCRIPTION meta-information ... OK
* cleaning src
* installing the package to build vignettes
* creating vignettes ... OK
* cleaning src
* checking for LF line-endings in source and make files and shell scripts
* checking for empty or unneeded directories
* building 'ASEB_1.33.0.tar.gz'