Back to Multiple platform build/check report for BioC 3.12
[A]BCDEFGHIJKLMNOPQRSTUVWXYZ

INSTALL report for ASEB on nebbiolo1

This page was generated on 2020-12-01 11:55:48 -0500 (Tue, 01 Dec 2020).

TO THE DEVELOPERS/MAINTAINERS OF THE ASEB PACKAGE: Please make sure to use the following settings in order to reproduce any error or warning you see on this page.
Package 91/1974HostnameOS / ArchINSTALLBUILDCHECKBUILD BIN
ASEB 1.34.0
Likun Wang
Snapshot Date: 2020-11-30 14:42:56 -0500 (Mon, 30 Nov 2020)
URL: https://git.bioconductor.org/packages/ASEB
Branch: RELEASE_3_12
Last Commit: 21baac1
Last Changed Date: 2020-10-27 10:44:11 -0500 (Tue, 27 Oct 2020)
malbec1 Linux (Ubuntu 18.04.4 LTS) / x86_64  OK  OK  OK UNNEEDED, same version exists in internal repository
nebbiolo1 Linux (Ubuntu 20.04.1 LTS) / x86_64 [ OK ] OK  OK 
tokay1 Windows Server 2012 R2 Standard / x64  OK  OK  OK  OK UNNEEDED, same version exists in internal repository
merida1 macOS 10.14.6 Mojave / x86_64  OK  OK  OK  OK UNNEEDED, same version exists in internal repository

Summary

Package: ASEB
Version: 1.34.0
Command: /home/biocbuild/bbs-3.12-bioc/R/bin/R CMD INSTALL ASEB
StartedAt: 2020-11-30 16:02:26 -0500 (Mon, 30 Nov 2020)
EndedAt: 2020-11-30 16:03:28 -0500 (Mon, 30 Nov 2020)
EllapsedTime: 62.0 seconds
RetCode: 0
Status:  OK 

Command output

##############################################################################
##############################################################################
###
### Running command:
###
###   /home/biocbuild/bbs-3.12-bioc/R/bin/R CMD INSTALL ASEB
###
##############################################################################
##############################################################################


* installing to library ‘/home/biocbuild/bbs-3.12-bioc/R/library’
* installing *source* package ‘ASEB’ ...
** using staged installation
** libs
g++ -std=gnu++11 -I"/home/biocbuild/bbs-3.12-bioc/R/include" -DNDEBUG   -I/usr/local/include   -fpic  -g -O2  -Wall -c asebC.cpp -o asebC.o
g++ -std=gnu++11 -shared -L/home/biocbuild/bbs-3.12-bioc/R/lib -L/usr/local/lib -o ASEB.so asebC.o -L/home/biocbuild/bbs-3.12-bioc/R/lib -lR
installing to /home/biocbuild/bbs-3.12-bioc/R/library/00LOCK-ASEB/00new/ASEB/libs
** R
** inst
** byte-compile and prepare package for lazy loading
** help
*** installing help indices
** building package indices
** installing vignettes
** testing if installed package can be loaded from temporary location
** checking absolute paths in shared objects and dynamic libraries
** testing if installed package can be loaded from final location
** testing if installed package keeps a record of temporary installation path
* DONE (ASEB)