Back to Multiple platform build/check report for BioC 3.12
[A]BCDEFGHIJKLMNOPQRSTUVWXYZ

CHECK report for ABSSeq on nebbiolo1

This page was generated on 2020-09-21 11:06:11 -0400 (Mon, 21 Sep 2020).

TO THE DEVELOPERS/MAINTAINERS OF THE ABSSeq PACKAGE: Please make sure to use the following settings in order to reproduce any error or warning you see on this page.
Package 10/1912HostnameOS / ArchINSTALLBUILDCHECKBUILD BIN
ABSSeq 1.43.0
Wentao Yang
Snapshot Date: 2020-09-20 14:41:51 -0400 (Sun, 20 Sep 2020)
URL: https://git.bioconductor.org/packages/ABSSeq
Branch: master
Last Commit: 2181a4f
Last Changed Date: 2020-04-27 14:39:30 -0400 (Mon, 27 Apr 2020)
malbec1 Linux (Ubuntu 18.04.4 LTS) / x86_64  OK  OK  OK UNNEEDED, same version exists in internal repository
nebbiolo1 Linux (Ubuntu 20.04.1 LTS) / x86_64  OK  OK [ OK ]
tokay1 Windows Server 2012 R2 Standard / x64  OK  OK  OK  OK UNNEEDED, same version exists in internal repository
riesling1 Windows Server 2019 Standard / x64  OK  OK  OK  OK 
merida1 macOS 10.14.6 Mojave / x86_64  OK  OK  OK  OK UNNEEDED, same version exists in internal repository

Summary

Package: ABSSeq
Version: 1.43.0
Command: /home/biocbuild/bbs-3.12-bioc/R/bin/R CMD check --install=check:ABSSeq.install-out.txt --library=/home/biocbuild/bbs-3.12-bioc/R/library --no-vignettes --timings ABSSeq_1.43.0.tar.gz
StartedAt: 2020-09-20 20:39:49 -0400 (Sun, 20 Sep 2020)
EndedAt: 2020-09-20 20:41:36 -0400 (Sun, 20 Sep 2020)
EllapsedTime: 107.2 seconds
RetCode: 0
Status:  OK 
CheckDir: ABSSeq.Rcheck
Warnings: 0

Command output

##############################################################################
##############################################################################
###
### Running command:
###
###   /home/biocbuild/bbs-3.12-bioc/R/bin/R CMD check --install=check:ABSSeq.install-out.txt --library=/home/biocbuild/bbs-3.12-bioc/R/library --no-vignettes --timings ABSSeq_1.43.0.tar.gz
###
##############################################################################
##############################################################################


* using log directory ‘/home/biocbuild/bbs-3.12-bioc/meat/ABSSeq.Rcheck’
* using R version 4.0.2 (2020-06-22)
* using platform: x86_64-pc-linux-gnu (64-bit)
* using session charset: UTF-8
* using option ‘--no-vignettes’
* checking for file ‘ABSSeq/DESCRIPTION’ ... OK
* checking extension type ... Package
* this is package ‘ABSSeq’ version ‘1.43.0’
* checking package namespace information ... OK
* checking package dependencies ... OK
* checking if this is a source package ... OK
* checking if there is a namespace ... OK
* checking for hidden files and directories ... OK
* checking for portable file names ... OK
* checking for sufficient/correct file permissions ... OK
* checking whether package ‘ABSSeq’ can be installed ... OK
* checking installed package size ... OK
* checking package directory ... OK
* checking ‘build’ directory ... OK
* checking DESCRIPTION meta-information ... OK
* checking top-level files ... OK
* checking for left-over files ... OK
* checking index information ... OK
* checking package subdirectories ... OK
* checking R files for non-ASCII characters ... OK
* checking R files for syntax errors ... OK
* checking whether the package can be loaded ... OK
* checking whether the package can be loaded with stated dependencies ... OK
* checking whether the package can be unloaded cleanly ... OK
* checking whether the namespace can be loaded with stated dependencies ... OK
* checking whether the namespace can be unloaded cleanly ... OK
* checking dependencies in R code ... NOTE
'library' or 'require' call to ‘edgeR’ in package code.
  Please use :: or requireNamespace() instead.
  See section 'Suggested packages' in the 'Writing R Extensions' manual.
Package in Depends field not imported from: ‘methods’
  These packages need to be imported from (in the NAMESPACE file)
  for when this namespace is loaded but not attached.
* checking S3 generic/method consistency ... OK
* checking replacement functions ... OK
* checking foreign function calls ... OK
* checking R code for possible problems ... NOTE
ABSDataSet: no visible global function definition for ‘new’
ABSSeqlm: no visible global function definition for ‘pnorm’
ABSSeqlm: no visible global function definition for ‘p.adjust’
ReplaceOutliersByMAD: no visible global function definition for ‘is’
ReplaceOutliersByMAD: no visible global function definition for
  ‘model.matrix’
ReplaceOutliersByMAD: no visible global function definition for
  ‘predict’
aFoldcomplexDesign: no visible binding for global variable ‘sd’
aFoldcomplexDesign: no visible binding for global variable ‘var’
aFoldcomplexDesign: no visible global function definition for ‘sd’
callDEs: no visible global function definition for ‘is’
callDEs: no visible binding for global variable ‘p.adjust.methods’
callDEs: no visible global function definition for ‘pnorm’
callDEs: no visible global function definition for ‘pnbinom’
callDEs: no visible global function definition for ‘p.adjust’
callParameter: no visible global function definition for ‘is’
callParameter: no visible binding for global variable ‘var’
callParameter: no visible global function definition for ‘quantile’
callParameter: no visible global function definition for ‘predict’
callParameter: no visible global function definition for ‘model.matrix’
callParameterwithoutReplicates: no visible global function definition
  for ‘is’
callParameterwithoutReplicates: no visible binding for global variable
  ‘sd’
callParameterwithoutReplicates: no visible global function definition
  for ‘predict’
callParameterwithoutReplicates: no visible binding for global variable
  ‘var’
callParameterwithoutReplicates: no visible global function definition
  for ‘quantile’
callParameterwithoutReplicates: no visible global function definition
  for ‘model.matrix’
callPergroup: no visible binding for global variable ‘var’
estimateSizeFactorsForMatrix: no visible binding for global variable
  ‘median’
genAFold: no visible binding for global variable ‘var’
genAFold: no visible binding for global variable ‘sd’
genAFold: no visible global function definition for ‘sd’
normalFactors: no visible global function definition for ‘is’
normalFactors: no visible global function definition for ‘validObject’
normalFactors : rowQuar: no visible global function definition for
  ‘quantile’
normalFactors: no visible global function definition for
  ‘calcNormFactors’
plotDifftoBase: no visible global function definition for ‘is’
preAFold: no visible global function definition for ‘quantile’
preAFold: no visible global function definition for ‘var’
preAFold: no visible global function definition for ‘predict’
preAFoldComplex: no visible global function definition for ‘quantile’
preAFoldComplex: no visible global function definition for ‘var’
preAFoldComplex: no visible global function definition for ‘predict’
qtotalNormalized : rowQuar: no visible global function definition for
  ‘quantile’
qtotalNormalized : rowQuar: no visible global function definition for
  ‘sd’
qtotalNormalized : rowQuar: no visible global function definition for
  ‘median’
qtotalNormalized : rowQuar : <anonymous>: no visible global function
  definition for ‘median’
replaceByrow: no visible global function definition for ‘median’
replaceByrow: no visible global function definition for ‘mad’
LevelstoNormFC<-,ABSDataSet-numeric: no visible global function
  definition for ‘validObject’
[[<-,SumInfo-character-missing: no visible global function definition
  for ‘as’
counts<-,ABSDataSet-matrix: no visible global function definition for
  ‘validObject’
excounts<-,ABSDataSet-matrix: no visible global function definition for
  ‘validObject’
groups<-,ABSDataSet-factor: no visible global function definition for
  ‘validObject’
maxRates<-,ABSDataSet-numeric: no visible global function definition
  for ‘validObject’
minRates<-,ABSDataSet-numeric: no visible global function definition
  for ‘validObject’
minimalDispersion<-,ABSDataSet-numeric: no visible global function
  definition for ‘validObject’
normMethod<-,ABSDataSet-character: no visible global function
  definition for ‘validObject’
paired<-,ABSDataSet-logical: no visible global function definition for
  ‘validObject’
sFactors<-,ABSDataSet-numeric: no visible global function definition
  for ‘validObject’
Undefined global functions or variables:
  as calcNormFactors is mad median model.matrix new p.adjust
  p.adjust.methods pnbinom pnorm predict quantile sd validObject var
Consider adding
  importFrom("methods", "as", "is", "new", "validObject")
  importFrom("stats", "mad", "median", "model.matrix", "p.adjust",
             "p.adjust.methods", "pnbinom", "pnorm", "predict",
             "quantile", "sd", "var")
to your NAMESPACE file (and ensure that your DESCRIPTION Imports field
contains 'methods').
* checking Rd files ... OK
* checking Rd metadata ... OK
* checking Rd cross-references ... OK
* checking for missing documentation entries ... OK
* checking for code/documentation mismatches ... OK
* checking Rd \usage sections ... OK
* checking Rd contents ... OK
* checking for unstated dependencies in examples ... OK
* checking contents of ‘data’ directory ... OK
* checking data for non-ASCII characters ... OK
* checking data for ASCII and uncompressed saves ... OK
* checking files in ‘vignettes’ ... OK
* checking examples ... OK
Examples with CPU (user + system) or elapsed time > 5s
                      user system elapsed
plotDifftoBase       8.843  0.004   8.847
callParameter        8.604  0.143   8.748
callDEs              8.687  0.008   8.696
results              8.485  0.004   8.489
ABSSeq               8.187  0.051   8.240
ReplaceOutliersByMAD 6.732  0.000   6.732
excounts             6.553  0.000   6.554
ABSSeqlm             5.969  0.013   5.981
* checking for unstated dependencies in vignettes ... OK
* checking package vignettes in ‘inst/doc’ ... OK
* checking running R code from vignettes ... SKIPPED
* checking re-building of vignette outputs ... SKIPPED
* checking PDF version of manual ... OK
* DONE

Status: 2 NOTEs
See
  ‘/home/biocbuild/bbs-3.12-bioc/meat/ABSSeq.Rcheck/00check.log’
for details.



Installation output

ABSSeq.Rcheck/00install.out

##############################################################################
##############################################################################
###
### Running command:
###
###   /home/biocbuild/bbs-3.12-bioc/R/bin/R CMD INSTALL ABSSeq
###
##############################################################################
##############################################################################


* installing to library ‘/home/biocbuild/bbs-3.12-bioc/R/library’
* installing *source* package ‘ABSSeq’ ...
** using staged installation
** R
** data
** inst
** byte-compile and prepare package for lazy loading
** help
*** installing help indices
** building package indices
** installing vignettes
** testing if installed package can be loaded from temporary location
** testing if installed package can be loaded from final location
** testing if installed package keeps a record of temporary installation path
* DONE (ABSSeq)

Tests output


Example timings

ABSSeq.Rcheck/ABSSeq-Ex.timings

nameusersystemelapsed
ABSDataSet0.0490.0000.049
ABSSeq8.1870.0518.240
ABSSeqlm5.9690.0135.981
LevelstoNormFC0.0340.0000.034
ReplaceOutliersByMAD6.7320.0006.732
aFoldcomplexDesign3.4770.0003.478
callDEs8.6870.0088.696
callParameter8.6040.1438.748
callParameterwithoutReplicates1.3750.0151.390
counts0.0290.0030.032
estimateSizeFactorsForMatrix0.0410.0010.042
excounts6.5530.0006.554
genAFold3.6440.0083.653
groups0.0350.0000.035
maxRates0.0330.0000.034
minRates0.0310.0040.034
minimalDispersion0.0300.0040.035
normMethod0.0350.0000.034
normalFactors2.3840.0002.384
paired0.0350.0000.036
plotDifftoBase8.8430.0048.847
qtotalNormalized2.5590.0002.559
results8.4850.0048.489
sFactors2.5010.0072.508
simuN50.0300.0000.029