Back to Build/check report for BioC 3.11 experimental data

Build/check report for BioC 3.11 experimental data

Results for leeBamViews

This page was generated on 2020-09-21 15:54:32 -0400 (Mon, 21 Sep 2020).

Package 195/391HostnameOS / ArchINSTALLBUILDCHECK
leeBamViews 1.24.0
VJ Carey
Snapshot Date: 2020-09-21 07:30:12 -0400 (Mon, 21 Sep 2020)
URL: https://git.bioconductor.org/packages/leeBamViews
Branch: RELEASE_3_11
Last Commit: 2c92b71
Last Changed Date: 2020-04-27 15:03:16 -0400 (Mon, 27 Apr 2020)
malbec2 Linux (Ubuntu 18.04.4 LTS) / x86_64  OK  OK  OK UNNEEDED, same version exists in internal repository