Back to Build/check report for BioC 3.11 experimental data

Build/check report for BioC 3.11 experimental data

Results for curatedAdipoArray

This page was generated on 2020-09-17 15:55:19 -0400 (Thu, 17 Sep 2020).

Package 77/391HostnameOS / ArchINSTALLBUILDCHECK
curatedAdipoArray 1.0.0
Mahmoud Ahmed
Snapshot Date: 2020-09-17 07:30:14 -0400 (Thu, 17 Sep 2020)
URL: https://git.bioconductor.org/packages/curatedAdipoArray
Branch: RELEASE_3_11
Last Commit: 65e0846
Last Changed Date: 2020-04-27 16:44:36 -0400 (Mon, 27 Apr 2020)
malbec2 Linux (Ubuntu 18.04.4 LTS) / x86_64  OK  OK  OK UNNEEDED, same version exists in internal repository