Build/check report for BioC 3.11 experimental data

This page was generated on 2019-11-18 17:49:39 -0500 (Mon, 18 Nov 2019).

git log

Snapshot Date: 2019-11-18 09:30:12 -0500 (Mon, 18 Nov 2019)

HostnameOSArch (*)Platform label (**)R versionInstalled pkgs
malbec2Linux (Ubuntu 18.04.3 LTS)x86_64x86_64-linux-gnuR Under development (unstable) (2019-10-24 r77329) -- "Unsuffered Consequences" 3720
Click on any hostname to see more info about the system (e.g. compilers)      (*) as reported by 'uname -p', except on Windows and Mac OS X      (**) as reported by 'gcc -v'

Package status is indicated by one of the following glyphs
 TIMEOUT  INSTALL, BUILD, CHECK or BUILD BIN of package took more than 80 minutes Use the check boxes to show only packages with the selected status types.
 ERROR  Bad DESCRIPTION file or INSTALL, BUILD or BUILD BIN of package failed, or CHECK produced errors
 WARNINGS  CHECK of package produced warnings
 OK  INSTALL, BUILD, CHECK or BUILD BIN of package was OK
 skipped  CHECK or BUILD BIN of package was skipped because the BUILD step failed
 NA  BUILD, CHECK or BUILD BIN result is not available because of an anomaly in the Build System
Click on any glyph in the report below to access the detailed results.
Package propagation status is indicated by one of the following LEDs
YES YES: Package was propagated because it didn't previously exist or version was bumped
NO NO: Package was not propagated because of a problem (impossible dependencies, or version lower than what is already propagated)
UNNEEDED UNNEEDED: Package was not propagated because it is already in the repository with this version. A version bump is required in order to propagate it

A crossed-out package name indicates the package is deprecated


SUMMARYOS / ArchINSTALLBUILDCHECK
malbec2 Linux (Ubuntu 18.04.3 LTS) / x86_64 
02379
09372
0385284
PackageMaintainerINSTALLBUILDCHECK
1/381ABAData 1.17.0Steffi Grote OK  OK  OK UNNEEDED, same version exists in internal repository
2/381adductData 1.3.0Josie Hayes OK  OK  OK UNNEEDED, same version exists in internal repository
3/381affycompData 1.25.0Harris Jaffee OK  OK  OK UNNEEDED, same version exists in internal repository
4/381affydata 1.35.0Harris Jaffee OK  OK  WARNINGS UNNEEDED, same version exists in internal repository
5/381Affyhgu133A2Expr 1.23.0Zhicheng Ji OK  OK  OK UNNEEDED, same version exists in internal repository
6/381Affyhgu133aExpr 1.25.0Zhicheng Ji OK  OK  OK UNNEEDED, same version exists in internal repository
7/381Affyhgu133Plus2Expr 1.21.0Zhicheng Ji OK  OK  OK UNNEEDED, same version exists in internal repository
8/381AffymetrixDataTestFiles 0.25.0Henrik Bengtsson OK  OK  OK UNNEEDED, same version exists in internal repository
9/381Affymoe4302Expr 1.25.0Zhicheng Ji OK  OK  OK UNNEEDED, same version exists in internal repository
10/381airway 1.7.0Michael Love OK  OK  WARNINGS UNNEEDED, same version exists in internal repository
11/381ALL 1.29.0Robert Gentleman OK  OK  OK UNNEEDED, same version exists in internal repository
12/381ALLMLL 1.27.0B. M. Bolstad OK  OK  OK UNNEEDED, same version exists in internal repository
13/381alpineData 1.13.0Michael Love OK  OK  OK UNNEEDED, same version exists in internal repository
14/381AmpAffyExample 1.27.0Rafael A. Irizarry OK  OK  WARNINGS UNNEEDED, same version exists in internal repository
15/381AneuFinderData 1.15.0Aaron Taudt OK  OK  WARNINGS UNNEEDED, same version exists in internal repository
16/381antiProfilesData 1.23.0Hector Corrada Bravo OK  OK  OK UNNEEDED, same version exists in internal repository
17/381aracne.networks 1.13.0Federico M. Giorgi , Mariano Alvarez OK  OK  WARNINGS UNNEEDED, same version exists in internal repository
18/381ARRmData 1.23.0Jean-Philippe Fortin OK  OK  OK UNNEEDED, same version exists in internal repository
19/381AshkenazimSonChr21 1.17.0Who to complain to OK  OK  OK UNNEEDED, same version exists in internal repository
20/381ASICSdata 1.7.0Gaëlle Lefort OK  OK  OK UNNEEDED, same version exists in internal repository
21/381AssessORFData 1.5.0Deepank Korandla OK  OK  OK UNNEEDED, same version exists in internal repository
22/381bcellViper 1.23.0Mariano Javier Alvarez OK  OK  OK UNNEEDED, same version exists in internal repository
23/381beadarrayExampleData 1.25.0Mark Dunning OK  OK  OK UNNEEDED, same version exists in internal repository
24/381BeadArrayUseCases 1.25.0Mike Smith OK  OK  OK UNNEEDED, same version exists in internal repository
25/381benchmarkfdrData2019 1.1.0Stephanie Hicks OK  OK  OK UNNEEDED, same version exists in internal repository
26/381beta7 1.25.0Jean Yang OK  OK  WARNINGS UNNEEDED, same version exists in internal repository
27/381biotmleData 1.11.0Nima Hejazi OK  OK  OK UNNEEDED, same version exists in internal repository
28/381biscuiteerData 1.1.0"Tim Triche, Jr." OK  OK  OK UNNEEDED, same version exists in internal repository
29/381bladderbatch 1.25.0Jeffrey T. Leek OK  OK  WARNINGS UNNEEDED, same version exists in internal repository
30/381blimaTestingData 1.7.0Vojtech Kulvait OK  OK  OK UNNEEDED, same version exists in internal repository
31/381BloodCancerMultiOmics2017 1.7.0Malgorzata Oles OK  OK  WARNINGS UNNEEDED, same version exists in internal repository
32/381bodymapRat 1.3.0Stephanie Hicks OK  OK  OK UNNEEDED, same version exists in internal repository
33/381brainImageRdata 1.5.0Sara Linker OK  OK  OK UNNEEDED, same version exists in internal repository
34/381breakpointRdata 1.5.0David Porubsky OK  OK  OK UNNEEDED, same version exists in internal repository
35/381breastCancerMAINZ 1.25.0Markus Schroeder , Benjamin Haibe-Kains OK  OK  WARNINGS UNNEEDED, same version exists in internal repository
36/381breastCancerNKI 1.25.0Markus Schroeder , Benjamin Haibe-Kains OK  OK  WARNINGS UNNEEDED, same version exists in internal repository
37/381breastCancerTRANSBIG 1.25.0Markus Schroeder , Benjamin Haibe-Kains OK  OK  WARNINGS UNNEEDED, same version exists in internal repository
38/381breastCancerUNT 1.25.0Markus Schroeder , Benjamin Haibe-Kains OK  OK  WARNINGS UNNEEDED, same version exists in internal repository
39/381breastCancerUPP 1.25.0Markus Schroeder , Benjamin Haibe-Kains OK  OK  WARNINGS UNNEEDED, same version exists in internal repository
40/381breastCancerVDX 1.25.0Markus Schroeder , Benjamin Haibe-Kains OK  OK  WARNINGS UNNEEDED, same version exists in internal repository
41/381brgedata 1.9.0Carlos Ruiz-Arenas OK  OK  WARNINGS UNNEEDED, same version exists in internal repository
42/381bronchialIL13 1.25.0Vince Carey OK  OK  OK UNNEEDED, same version exists in internal repository
43/381bsseqData 0.25.0Kasper Daniel Hansen OK  OK  OK UNNEEDED, same version exists in internal repository
44/381cancerdata 1.25.0Daniel Kosztyla OK  OK  OK UNNEEDED, same version exists in internal repository
45/381CardinalWorkflows 1.19.0Kylie A. Bemis OK  OK  OK UNNEEDED, same version exists in internal repository
46/381ccdata 1.13.0Alex Pickering OK  OK  WARNINGS UNNEEDED, same version exists in internal repository
47/381CCl4 1.25.0Audrey Kauffmann OK  OK  WARNINGS UNNEEDED, same version exists in internal repository
48/381ccTutorial 1.25.0Joern Toedling OK  OK  OK UNNEEDED, same version exists in internal repository
49/381celarefData 1.5.0Sarah Williams OK  OK  OK UNNEEDED, same version exists in internal repository
50/381CellMapperData 1.13.0Brad Nelms OK  OK  OK UNNEEDED, same version exists in internal repository
51/381ceu1kg 0.25.0VJ Carey OK  OK  OK UNNEEDED, same version exists in internal repository
52/381ceu1kgv 0.29.0VJ Carey OK  OK  OK UNNEEDED, same version exists in internal repository
53/381ceuhm3 0.25.0VJ Carey OK  OK  OK UNNEEDED, same version exists in internal repository
54/381cgdv17 0.25.0VJ Carey OK  OK  OK UNNEEDED, same version exists in internal repository
55/381ChAMPdata 2.19.0Yuan Tian OK  OK  OK UNNEEDED, same version exists in internal repository
56/381ChIC.data 1.7.0Carmen Maria Livi OK  OK  OK UNNEEDED, same version exists in internal repository
57/381ChimpHumanBrainData 1.25.0Sean Davis OK  OK  OK UNNEEDED, same version exists in internal repository
58/381chipenrich.data 2.11.0Raymond G. Cavalcante OK  OK  OK UNNEEDED, same version exists in internal repository
59/381ChIPexoQualExample 1.11.0Rene Welch OK  OK  OK UNNEEDED, same version exists in internal repository
60/381chipseqDBData 1.3.0Aaron Lun OK  OK  OK UNNEEDED, same version exists in internal repository
61/381ChIPXpressData 1.25.0George Wu OK  OK  WARNINGS UNNEEDED, same version exists in internal repository
62/381chromstaRData 1.13.0Aaron Taudt OK  OK  OK UNNEEDED, same version exists in internal repository
63/381CLL 1.27.0Robert Gentleman OK  OK  OK UNNEEDED, same version exists in internal repository
64/381CLLmethylation 1.7.0Malgorzata Oles , Andreas Mock OK  OK  OK UNNEEDED, same version exists in internal repository
65/381CluMSIDdata 1.3.0Tobias Depke OK  OK  OK UNNEEDED, same version exists in internal repository
66/381cMap2data 1.23.0J. Saez-Rodriguez OK  OK  OK UNNEEDED, same version exists in internal repository
67/381cnvGSAdata 1.23.0Joseph Lugo OK  OK  WARNINGS UNNEEDED, same version exists in internal repository
68/381COHCAPanno 1.23.0Charles Warden OK  OK  OK UNNEEDED, same version exists in internal repository
69/381colonCA 1.29.0W Sylvia Merk OK  OK  WARNINGS UNNEEDED, same version exists in internal repository
70/381CONFESSdata 1.15.0Diana LOW OK  OK  OK UNNEEDED, same version exists in internal repository
71/381ConnectivityMap 1.23.0Paul Shannon OK  OK  OK UNNEEDED, same version exists in internal repository
72/381COPDSexualDimorphism.data 1.23.0J Fah Sathirapongsasuti OK  OK  WARNINGS UNNEEDED, same version exists in internal repository
73/381CopyhelpeR 1.19.0Oscar Krijgsman OK  OK  OK UNNEEDED, same version exists in internal repository
74/381CopyNeutralIMA 1.5.0Xavier Pastor Hostench OK  OK  OK UNNEEDED, same version exists in internal repository
75/381COSMIC.67 1.23.0Julian Gehring OK  OK  OK UNNEEDED, same version exists in internal repository
76/381CRCL18 1.7.0Claudio Isella OK  OK  OK UNNEEDED, same version exists in internal repository
77/381curatedAdipoChIP 1.3.0Mahmoud Ahmed OK  OK  OK UNNEEDED, same version exists in internal repository
78/381curatedAdipoRNA 1.3.0Mahmoud Ahmed OK  OK  OK UNNEEDED, same version exists in internal repository
79/381curatedBladderData 1.23.0Markus Riester OK  OK  OK UNNEEDED, same version exists in internal repository
80/381curatedBreastData 2.15.0Katie Planey OK  OK  OK UNNEEDED, same version exists in internal repository
81/381curatedCRCData 2.19.0Princy Parsana OK  OK  OK UNNEEDED, same version exists in internal repository
82/381curatedMetagenomicData 1.17.0Lucas Schiffer OK  OK  OK UNNEEDED, same version exists in internal repository
83/381curatedOvarianData 1.25.0Levi Waldron OK  OK  OK UNNEEDED, same version exists in internal repository
84/381curatedTCGAData 1.9.0Marcel Ramos OK  ERROR  skipped 
85/381DAPARdata 1.17.0Samuel Wieczorek OK  OK  WARNINGS UNNEEDED, same version exists in internal repository
86/381davidTiling 1.27.0Wolfgang Huber OK  OK  WARNINGS UNNEEDED, same version exists in internal repository
87/381depmap 1.1.0Laurent Gatto OK  OK  OK UNNEEDED, same version exists in internal repository
88/381derfinderData 2.5.0Leonardo Collado-Torres OK  OK  WARNINGS UNNEEDED, same version exists in internal repository
89/381DeSousa2013 1.23.0Xin Wang OK  OK  OK UNNEEDED, same version exists in internal repository
90/381diffloopdata 1.15.0Caleb Lareau OK  OK  OK UNNEEDED, same version exists in internal repository
91/381diggitdata 1.19.0Mariano Javier Alvarez OK  OK  OK UNNEEDED, same version exists in internal repository
92/381DLBCL 1.27.0Marcus Dittrich OK  OK  WARNINGS UNNEEDED, same version exists in internal repository
93/381DmelSGI 1.19.0Bernd Fischer OK  OK  OK UNNEEDED, same version exists in internal repository
94/381DMRcatedata 2.5.0Tim Peters OK  OK  OK UNNEEDED, same version exists in internal repository
95/381DonaPLLP2013 1.25.0Joseph D. Barry OK  OK  OK UNNEEDED, same version exists in internal repository
96/381DREAM4 1.23.0Paul Shannon OK  OK  WARNINGS UNNEEDED, same version exists in internal repository
97/381dressCheck 0.25.0Vincent Carey OK  OK  OK UNNEEDED, same version exists in internal repository
98/381DrugVsDiseasedata 1.23.0J. Saez-Rodriguez OK  OK  OK UNNEEDED, same version exists in internal repository
99/381dsQTL 0.25.0VJ Carey OK  OK  OK UNNEEDED, same version exists in internal repository
100/381DuoClustering2018 1.5.0Angelo Duò OK  OK  OK UNNEEDED, same version exists in internal repository
101/381DvDdata 1.23.0J. Saez-Rodriguez OK  OK  OK UNNEEDED, same version exists in internal repository
102/381dyebiasexamples 1.27.0Philip Lijnzaad OK  OK  WARNINGS UNNEEDED, same version exists in internal repository
103/381EatonEtAlChIPseq 0.25.0Patrick Aboyoun OK  OK  WARNINGS UNNEEDED, same version exists in internal repository
104/381ecoliLeucine 1.27.0Laurent Gautier OK  OK  WARNINGS UNNEEDED, same version exists in internal repository
105/381EGSEAdata 1.15.0Monther Alhamdoosh OK  OK  OK UNNEEDED, same version exists in internal repository
106/381ELMER.data 2.11.0Tiago Chedraoui Silva OK  OK  OK UNNEEDED, same version exists in internal repository
107/381estrogen 1.33.0Wolfgang Huber OK  OK  OK UNNEEDED, same version exists in internal repository
108/381etec16s 1.15.0Joseph N. Paulson OK  OK  OK UNNEEDED, same version exists in internal repository
109/381faahKO 1.27.0Colin A. Smith OK  OK  OK UNNEEDED, same version exists in internal repository
110/381fabiaData 1.25.0Sepp Hochreiter OK  OK  OK UNNEEDED, same version exists in internal repository
111/381facsDorit 1.29.0Florian Hahne OK  OK  OK UNNEEDED, same version exists in internal repository
112/381FANTOM3and4CAGE 1.23.0Vanja Haberle OK  OK  OK UNNEEDED, same version exists in internal repository
113/381ffpeExampleData 1.25.0Levi Waldron OK  OK  OK UNNEEDED, same version exists in internal repository
114/381fibroEset 1.29.0Sylvia Merk OK  OK  WARNINGS UNNEEDED, same version exists in internal repository
115/381FIs 1.15.0Herbert Braselmann OK  OK  OK UNNEEDED, same version exists in internal repository
116/381fission 1.7.0Michael Love OK  OK  OK UNNEEDED, same version exists in internal repository
117/381Fletcher2013a 1.23.0Mauro Castro OK  OK  OK UNNEEDED, same version exists in internal repository
118/381Fletcher2013b 1.23.1Mauro Castro OK  OK  OK UNNEEDED, same version exists in internal repository
119/381flowFitExampleData 1.23.0Davide Rambaldi OK  OK  OK UNNEEDED, same version exists in internal repository
120/381flowPloidyData 1.13.0Tyler Smith OK  OK  OK UNNEEDED, same version exists in internal repository
121/381FlowSorted.Blood.450k 1.25.0Andrew E Jaffe OK  OK  OK UNNEEDED, same version exists in internal repository
122/381FlowSorted.Blood.EPIC 1.5.2Lucas A. Salas OK  OK  ERROR 
123/381FlowSorted.CordBlood.450k 1.15.0Shan V. Andrews OK  OK  OK UNNEEDED, same version exists in internal repository
124/381FlowSorted.CordBloodCombined.450k 1.3.1Lucas A. Salas OK  OK  OK UNNEEDED, same version exists in internal repository
125/381FlowSorted.CordBloodNorway.450k 1.13.0kristina gervin OK  OK  OK UNNEEDED, same version exists in internal repository
126/381FlowSorted.DLPFC.450k 1.23.0Andrew E Jaffe OK  OK  OK UNNEEDED, same version exists in internal repository
127/381flowWorkspaceData 2.23.1Mike Jiang OK  OK  OK UNNEEDED, same version exists in internal repository
128/381frmaExampleData 1.23.0Matthew N. McCall OK  OK  WARNINGS UNNEEDED, same version exists in internal repository
129/381FunciSNP.data 1.23.0Simon G. Coetzee OK  OK  ERROR 
130/381furrowSeg 1.15.0Joseph Barry OK  OK  WARNINGS UNNEEDED, same version exists in internal repository
131/381gageData 2.25.0Weijun Luo OK  OK  OK UNNEEDED, same version exists in internal repository
132/381gaschYHS 1.25.0Vince Carey OK  OK  OK UNNEEDED, same version exists in internal repository
133/381gatingMLData 2.27.0J. Spidlen OK  OK  OK UNNEEDED, same version exists in internal repository
134/381gcspikelite 1.25.0Mark Robinson OK  OK  WARNINGS UNNEEDED, same version exists in internal repository
135/381geneLenDataBase 1.23.0Matthew Young , Nadia Davidson OK  OK  WARNINGS UNNEEDED, same version exists in internal repository
136/381genomationData 1.19.0Vedran Franke OK  OK  OK UNNEEDED, same version exists in internal repository
137/381GeuvadisTranscriptExpr 1.15.0Malgorzata Nowicka OK  OK  OK UNNEEDED, same version exists in internal repository
138/381geuvPack 1.19.0VJ Carey OK  OK  OK UNNEEDED, same version exists in internal repository
139/381geuvStore2 1.17.0VJ Carey OK  OK  WARNINGS UNNEEDED, same version exists in internal repository
140/381GGdata 1.25.0VJ Carey OK  OK  OK UNNEEDED, same version exists in internal repository
141/381GIGSEAdata 1.5.0Shijia Zhu OK  OK  OK UNNEEDED, same version exists in internal repository
142/381golubEsets 1.29.0Vince Carey OK  OK  OK UNNEEDED, same version exists in internal repository
143/381grndata 1.19.0Pau Bellot OK  OK  OK UNNEEDED, same version exists in internal repository
144/381GSBenchMark 1.7.0Bahman Afsari OK  OK  OK UNNEEDED, same version exists in internal repository
145/381GSE62944 1.15.0Bioconductor Package Maintainer OK  OK  OK UNNEEDED, same version exists in internal repository
146/381gskb 1.19.0Valerie Bares OK  OK  OK UNNEEDED, same version exists in internal repository
147/381GSVAdata 1.23.0Robert Castelo OK  OK  OK UNNEEDED, same version exists in internal repository
148/381GWASdata 1.25.0Stephanie Gogarten , Adrienne Stilp OK  OK  OK UNNEEDED, same version exists in internal repository
149/381h5vcData 2.7.0Paul Theodor Pyl OK  OK  OK UNNEEDED, same version exists in internal repository
150/381hapmap100khind 1.29.0Benilton Carvalho OK  OK  OK UNNEEDED, same version exists in internal repository
151/381hapmap100kxba 1.29.0Benilton Carvalho OK  OK  OK UNNEEDED, same version exists in internal repository
152/381hapmap500knsp 1.29.0Benilton Carvalho OK  OK  OK UNNEEDED, same version exists in internal repository
153/381hapmap500ksty 1.29.0Benilton Carvalho OK  OK  OK UNNEEDED, same version exists in internal repository
154/381hapmapsnp5 1.29.0Benilton Carvalho OK  OK  OK UNNEEDED, same version exists in internal repository
155/381hapmapsnp6 1.29.0Benilton Carvalho OK  OK  OK UNNEEDED, same version exists in internal repository
156/381harbChIP 1.25.0VJ Carey OK  OK  OK UNNEEDED, same version exists in internal repository
157/381HarmanData 1.15.0Jason Ross OK  OK  OK UNNEEDED, same version exists in internal repository
158/381HarmonizedTCGAData 1.9.0Tianle Ma OK  OK  OK UNNEEDED, same version exists in internal repository
159/381HCAData 1.3.0Federico Marini OK  ERROR  skipped 
160/381HD2013SGI 1.27.0Bernd Fischer OK  OK  OK UNNEEDED, same version exists in internal repository
161/381HDCytoData 1.7.3Lukas M. Weber OK  ERROR  skipped 
162/381healthyFlowData 1.25.0Ariful Azad OK  OK  OK UNNEEDED, same version exists in internal repository
163/381HEEBOdata 1.25.0Agnes Paquet OK  OK  WARNINGS UNNEEDED, same version exists in internal repository
164/381HelloRangesData 1.13.0Michael Lawrence OK  OK  OK UNNEEDED, same version exists in internal repository
165/381hgu133abarcodevecs 1.25.0Matthew N. McCall OK  OK  OK UNNEEDED, same version exists in internal repository
166/381hgu133plus2barcodevecs 1.25.0Matthew N. McCall OK  OK  OK UNNEEDED, same version exists in internal repository
167/381hgu133plus2CellScore 1.7.0Nancy Mah OK  OK  OK UNNEEDED, same version exists in internal repository
168/381hgu2beta7 1.27.0Bioconductor Package Maintainer OK  OK  WARNINGS UNNEEDED, same version exists in internal repository
169/381HiCDataHumanIMR90 1.7.0Nicolas Servant OK  OK  OK UNNEEDED, same version exists in internal repository
170/381HiCDataLymphoblast 1.23.0Borbala Mifsud OK  OK  OK UNNEEDED, same version exists in internal repository
171/381Hiiragi2013 1.23.0Andrzej Oles OK  OK  OK UNNEEDED, same version exists in internal repository
172/381HIVcDNAvantWout03 1.27.0Chris Fraley OK  OK  WARNINGS UNNEEDED, same version exists in internal repository
173/381HMP16SData 1.7.0Lucas Schiffer OK  ERROR  skipped 
174/381HMP2Data 1.1.0John Stansfield OK  OK  OK UNNEEDED, same version exists in internal repository
175/381hmyriB36 1.23.0Vincent Carey OK  OK  OK UNNEEDED, same version exists in internal repository
176/381HSMMSingleCell 1.7.0Cole Trapnell OK  OK  WARNINGS UNNEEDED, same version exists in internal repository
177/381HumanAffyData 1.13.0Brad Nelms OK  OK  OK UNNEEDED, same version exists in internal repository
178/381humanStemCell 0.27.0R. Gentleman OK  OK  WARNINGS UNNEEDED, same version exists in internal repository
179/381IHWpaper 1.15.0Nikos Ignatiadis OK  OK  OK UNNEEDED, same version exists in internal repository
180/381Illumina450ProbeVariants.db 1.23.0Tiffany Morris OK  OK  OK UNNEEDED, same version exists in internal repository
181/381IlluminaDataTestFiles 1.25.0Kasper Daniel Hansen OK  OK  OK UNNEEDED, same version exists in internal repository
182/381ITALICSData 2.25.0Guillem Rigaill OK  OK  WARNINGS UNNEEDED, same version exists in internal repository
183/381Iyer517 1.29.0Vince Carey OK  OK  OK UNNEEDED, same version exists in internal repository
184/381JASPAR2014 1.23.0Ge Tan OK  OK  OK UNNEEDED, same version exists in internal repository
185/381JASPAR2016 1.15.0Ge Tan OK  OK  OK UNNEEDED, same version exists in internal repository
186/381JctSeqData 1.17.0Stephen Hartley OK  OK  OK UNNEEDED, same version exists in internal repository
187/381KEGGandMetacoreDzPathwaysGEO 1.7.0Gaurav Bhatti OK  OK  OK UNNEEDED, same version exists in internal repository
188/381KEGGdzPathwaysGEO 1.25.0Gaurav Bhatti OK  OK  OK UNNEEDED, same version exists in internal repository
189/381kidpack 1.29.0Wolfgang Huber OK  OK  WARNINGS UNNEEDED, same version exists in internal repository
190/381KOdata 1.13.0Shana White OK  OK  OK UNNEEDED, same version exists in internal repository
191/381leeBamViews 1.23.0VJ Carey OK  ERROR  skipped 
192/381leukemiasEset 1.23.0Sara Aibar OK  OK  OK UNNEEDED, same version exists in internal repository
193/381LiebermanAidenHiC2009 0.25.0Felix Klein OK  OK  WARNINGS UNNEEDED, same version exists in internal repository
194/381ListerEtAlBSseq 1.19.0Kamal Kishore OK  OK  WARNINGS UNNEEDED, same version exists in internal repository
195/381lumiBarnes 1.27.0Pan Du OK  OK  WARNINGS UNNEEDED, same version exists in internal repository
196/381LungCancerACvsSCCGEO 1.23.0Adi Laurentiu Tarca OK  OK  OK UNNEEDED, same version exists in internal repository
197/381LungCancerLines 0.25.0Cory Barr OK  OK  OK UNNEEDED, same version exists in internal repository
198/381lungExpression 0.25.0Robert Scharpf OK  OK  OK UNNEEDED, same version exists in internal repository
199/381lydata 1.13.0Alex Pickering OK  OK  OK UNNEEDED, same version exists in internal repository
200/381M3DExampleData 1.13.0Tallulah Andrews OK  OK  WARNINGS UNNEEDED, same version exists in internal repository
201/381macrophage 1.3.0Michael Love OK  OK  OK UNNEEDED, same version exists in internal repository
202/381mammaPrintData 1.23.0Luigi Marchionni OK  OK  OK UNNEEDED, same version exists in internal repository
203/381mAPKLData 1.19.0Argiris Sakellariou OK  OK  WARNINGS UNNEEDED, same version exists in internal repository
204/381maqcExpression4plex 1.31.0Benilton Carvalho OK  OK  OK UNNEEDED, same version exists in internal repository
205/381MAQCsubset 1.25.0VJ Carey OK  OK  OK UNNEEDED, same version exists in internal repository
206/381MAQCsubsetAFX 1.25.0Laurent Gatto OK  OK  OK UNNEEDED, same version exists in internal repository
207/381MAQCsubsetILM 1.25.0Laurent Gatto OK  OK  OK UNNEEDED, same version exists in internal repository
208/381mCSEAdata 1.7.0Jordi Martorell Marugán OK  OK  OK UNNEEDED, same version exists in internal repository
209/381mcsurvdata 1.5.0Adria Caballe Mestres OK  OK  OK UNNEEDED, same version exists in internal repository
210/381MEDIPSData 1.23.0Lukas Chavez OK  OK  WARNINGS UNNEEDED, same version exists in internal repository
211/381MEEBOdata 1.25.0Agnes Paquet OK  OK  WARNINGS UNNEEDED, same version exists in internal repository
212/381MetaGxBreast 1.7.0Michael Zon OK  OK  OK UNNEEDED, same version exists in internal repository
213/381MetaGxOvarian 1.7.0Michael Zon OK  OK  WARNINGS UNNEEDED, same version exists in internal repository
214/381MetaGxPancreas 1.7.0Michael Zon OK  OK  OK UNNEEDED, same version exists in internal repository
215/381metaMSdata 1.23.0Ron Wehrens OK  OK  OK UNNEEDED, same version exists in internal repository
216/381MethylAidData 1.19.0M. van Iterson OK  OK  OK UNNEEDED, same version exists in internal repository
217/381methyvimData 1.9.0Nima Hejazi OK  OK  OK UNNEEDED, same version exists in internal repository
218/381microRNAome 1.9.0Matthew N. McCall OK  OK  OK UNNEEDED, same version exists in internal repository
219/381MIGSAdata 1.11.0Juan C. Rodriguez OK  OK  OK UNNEEDED, same version exists in internal repository
220/381minfiData 0.33.0Kasper Daniel Hansen OK  OK  OK UNNEEDED, same version exists in internal repository
221/381minfiDataEPIC 1.13.0Kasper Daniel Hansen OK  OK  OK UNNEEDED, same version exists in internal repository
222/381minionSummaryData 1.17.0Mike Smith OK  OK  OK UNNEEDED, same version exists in internal repository
223/381miRcompData 1.17.0Matthew N. McCall OK  OK  OK UNNEEDED, same version exists in internal repository
224/381miRNATarget 1.25.0Y-h. Taguchi OK  OK  OK UNNEEDED, same version exists in internal repository
225/381mitoODEdata 1.23.0Gregoire Pau OK  OK  OK UNNEEDED, same version exists in internal repository
226/381MMAPPR2data 1.1.0Jonathon Hill OK  OK  OK UNNEEDED, same version exists in internal repository
227/381MMDiffBamSubset 1.23.0Gabriele Schweikert OK  OK  OK UNNEEDED, same version exists in internal repository
228/381MOFAdata 1.3.1Britta Velten OK  OK  OK UNNEEDED, same version exists in internal repository
229/381mosaicsExample 1.25.0Dongjun Chung OK  OK  OK UNNEEDED, same version exists in internal repository
230/381mouse4302barcodevecs 1.25.0Matthew N. McCall OK  OK  OK UNNEEDED, same version exists in internal repository
231/381MouseGastrulationData 1.1.0Jonathan Griffiths OK  OK  OK UNNEEDED, same version exists in internal repository
232/381msd16s 1.7.0Joseph N. Paulson OK  OK  OK UNNEEDED, same version exists in internal repository
233/381msdata 0.27.0Steffen Neumann , Laurent Gatto OK  OK  OK UNNEEDED, same version exists in internal repository
234/381MSMB 1.5.0Wolfgang Huber OK  OK  WARNINGS UNNEEDED, same version exists in internal repository
235/381msPurityData 1.15.0Thomas N. Lawson OK  OK  OK UNNEEDED, same version exists in internal repository
236/381msqc1 1.15.2Christian Panse OK  OK  OK UNNEEDED, same version exists in internal repository
237/381MSstatsBioData 1.9.0Meena Choi OK  OK  WARNINGS UNNEEDED, same version exists in internal repository
238/381mtbls2 1.17.0Steffen Neumann OK  OK  OK UNNEEDED, same version exists in internal repository
239/381MTseekerData 1.5.0Tim Triche, Jr. OK  OK  WARNINGS YES, package does not exist in internal repository.
240/381MUGAExampleData 1.7.0Daniel Gatti OK  OK  OK UNNEEDED, same version exists in internal repository
241/381Mulder2012 0.27.0Xin Wang ERROR  ERROR  skipped 
242/381muscData 1.1.0Helena L. Crowell OK  OK  OK UNNEEDED, same version exists in internal repository
243/381mvoutData 1.23.0VJ Carey OK  OK  OK UNNEEDED, same version exists in internal repository
244/381nanotubes 1.3.0Malte Thodberg OK  OK  OK UNNEEDED, same version exists in internal repository
245/381NCIgraphData 1.23.0Laurent Jacob OK  OK  WARNINGS UNNEEDED, same version exists in internal repository
246/381NestLink 1.3.0Christian Panse OK  OK  OK UNNEEDED, same version exists in internal repository
247/381Neve2006 0.25.0VJ Carey OK  OK  OK UNNEEDED, same version exists in internal repository
248/381NGScopyData 1.7.0Xiaobei Zhao OK  OK  OK UNNEEDED, same version exists in internal repository
249/381oct4 1.3.0Michael Love OK  OK  OK UNNEEDED, same version exists in internal repository
250/381OMICsPCAdata 1.5.0Subhadeep Das OK  OK  OK UNNEEDED, same version exists in internal repository
251/381OnassisJavaLibs 1.9.0Eugenia Galeota OK  OK  OK UNNEEDED, same version exists in internal repository
252/381parathyroidSE 1.25.0Michael Love OK  OK  OK UNNEEDED, same version exists in internal repository
253/381pasilla 1.15.0Alejandro Reyes OK  OK  OK UNNEEDED, same version exists in internal repository
254/381pasillaBamSubset 0.25.0Hervé Pagès OK  OK  OK UNNEEDED, same version exists in internal repository
255/381PasillaTranscriptExpr 1.15.0Malgorzata Nowicka OK  OK  OK UNNEEDED, same version exists in internal repository
256/381PathNetData 1.23.0Jason B. Smith OK  OK  OK UNNEEDED, same version exists in internal repository
257/381pathprintGEOData 1.17.0Sokratis Kariotis OK  OK  WARNINGS UNNEEDED, same version exists in internal repository
258/381pcaGoPromoter.Hs.hg19 1.23.0Morten Hansen OK  OK  OK UNNEEDED, same version exists in internal repository
259/381pcaGoPromoter.Mm.mm9 1.23.0Morten Hansen OK  OK  OK UNNEEDED, same version exists in internal repository
260/381pcaGoPromoter.Rn.rn4 1.23.0Morten Hansen, OK  OK  OK UNNEEDED, same version exists in internal repository
261/381PCHiCdata 1.15.0Paula Freire-Pritchett OK  OK  OK UNNEEDED, same version exists in internal repository
262/381pcxnData 2.9.0Sokratis Kariotis OK  OK  WARNINGS UNNEEDED, same version exists in internal repository
263/381pd.atdschip.tiling 0.25.0Kristof De Beuf OK  OK  WARNINGS UNNEEDED, same version exists in internal repository
264/381pepDat 1.7.0Renan Sauteraud OK  OK  OK UNNEEDED, same version exists in internal repository
265/381PepsNMRData 1.5.0Manon Martin OK  OK  OK UNNEEDED, same version exists in internal repository
266/381PhyloProfileData 1.1.0Vinh Tran OK  OK  OK UNNEEDED, same version exists in internal repository
267/381plasFIA 1.15.0Alexis Delabriere OK  OK  OK UNNEEDED, same version exists in internal repository
268/381ppiData 0.25.0Bioconductor Package Maintainer OK  OK  WARNINGS UNNEEDED, same version exists in internal repository
269/381prebsdata 1.23.0Karolis Uziela OK  OK  OK UNNEEDED, same version exists in internal repository
270/381PREDAsampledata 0.27.0Francesco Ferrari OK  OK  OK UNNEEDED, same version exists in internal repository
271/381ProData 1.25.0Xiaochun Li OK  OK  OK UNNEEDED, same version exists in internal repository
272/381pRolocdata 1.25.0Laurent Gatto OK  OK  OK UNNEEDED, same version exists in internal repository
273/381prostateCancerCamcap 1.15.0Mark Dunning OK  OK  OK UNNEEDED, same version exists in internal repository
274/381prostateCancerGrasso 1.15.0Mark Dunning OK  OK  OK UNNEEDED, same version exists in internal repository
275/381prostateCancerStockholm 1.15.0Mark Dunning OK  OK  OK UNNEEDED, same version exists in internal repository
276/381prostateCancerTaylor 1.15.0Mark Dunning OK  OK  OK UNNEEDED, same version exists in internal repository
277/381prostateCancerVarambally 1.15.0Mark Dunning OK  OK  OK UNNEEDED, same version exists in internal repository
278/381PtH2O2lipids 1.13.0James Collins OK  OK  WARNINGS UNNEEDED, same version exists in internal repository
279/381pumadata 2.23.0Xuejun liu OK  OK  ERROR 
280/381PWMEnrich.Dmelanogaster.background 4.21.0Robert Stojnic OK  OK  WARNINGS UNNEEDED, same version exists in internal repository
281/381PWMEnrich.Hsapiens.background 4.21.0Robert Stojnic OK  OK  WARNINGS UNNEEDED, same version exists in internal repository
282/381PWMEnrich.Mmusculus.background 4.21.0Robert Stojnic OK  OK  OK UNNEEDED, same version exists in internal repository
283/381pwrEWAS.data 1.1.0Stefan Graw OK  OK  OK UNNEEDED, same version exists in internal repository
284/381QDNAseq.hg19 1.17.0Daoud Sie OK  OK  OK UNNEEDED, same version exists in internal repository
285/381QDNAseq.mm10 1.17.0Daoud Sie OK  OK  OK UNNEEDED, same version exists in internal repository
286/381qPLEXdata 1.5.0Kamal Kishore Developer OK  OK  WARNINGS UNNEEDED, same version exists in internal repository
287/381QUBICdata 1.15.0Yu Zhang OK  OK  OK UNNEEDED, same version exists in internal repository
288/381rcellminerData 2.9.0Augustin Luna , Vinodh Rajapakse OK  OK  WARNINGS UNNEEDED, same version exists in internal repository
289/381RcisTarget.hg19.motifDBs.cisbpOnly.500bp 1.7.0Sara Aibar OK  OK  OK UNNEEDED, same version exists in internal repository
290/381ReactomeGSA.data 1.1.0Johannes Griss OK  OK  OK UNNEEDED, same version exists in internal repository
291/381RegParallel 1.5.0Kevin Blighe OK  OK  OK UNNEEDED, same version exists in internal repository
292/381restfulSEData 1.9.0Bioconductor Package Maintainer OK  ERROR  skipped 
293/381RforProteomics 1.25.0Laurent Gatto OK  OK  WARNINGS UNNEEDED, same version exists in internal repository
294/381RGMQLlib 1.7.0Simone Pallotta OK  OK  OK UNNEEDED, same version exists in internal repository
295/381rheumaticConditionWOLLBOLD 1.25.0Alejandro Quiroz-Zarate OK  OK  OK UNNEEDED, same version exists in internal repository
296/381RIPSeekerData 1.23.0Alejandro Reyes OK  OK  WARNINGS UNNEEDED, same version exists in internal repository
297/381RITANdata 1.11.0Michael Zimmermann OK  OK  OK UNNEEDED, same version exists in internal repository
298/381RMassBankData 1.25.0Michael Stravs, Emma Schymanski OK  OK  OK UNNEEDED, same version exists in internal repository
299/381RNAinteractMAPK 1.25.0Bernd Fischer OK  OK  OK UNNEEDED, same version exists in internal repository
300/381RNAmodR.Data 1.1.0Felix G.M. Ernst OK  OK  OK UNNEEDED, same version exists in internal repository
301/381RNAseqData.HNRNPC.bam.chr14 0.25.0Hervé Pagès OK  OK  OK UNNEEDED, same version exists in internal repository
302/381RNASeqRData 1.5.0Kuan-Hao Chao OK  OK  OK UNNEEDED, same version exists in internal repository
303/381RnaSeqSampleSizeData 1.19.0Shilin Zhao OK  OK  OK UNNEEDED, same version exists in internal repository
304/381RnBeads.hg19 1.19.0RnBeadsAnnotationCreator OK  OK  WARNINGS UNNEEDED, same version exists in internal repository
305/381RnBeads.hg38 1.19.0RnBeadsAnnotationCreator OK  OK  OK UNNEEDED, same version exists in internal repository
306/381RnBeads.mm10 1.19.0RnBeadsAnnotationCreator OK  OK  OK UNNEEDED, same version exists in internal repository
307/381RnBeads.mm9 1.19.0RnBeadsAnnotationCreator OK  OK  WARNINGS UNNEEDED, same version exists in internal repository
308/381RnBeads.rn5 1.19.0RnBeadsAnnotationCreator OK  OK  OK UNNEEDED, same version exists in internal repository
309/381RRBSdata 1.7.0Katja Hebestreit ERROR  ERROR  skipped 
310/381rRDPData 1.7.0Michael Hahsler OK  OK  OK UNNEEDED, same version exists in internal repository
311/381RTCGA.clinical 20151101.17.0Marcin Kosinski OK  OK  OK UNNEEDED, same version exists in internal repository
312/381RTCGA.CNV 1.15.0Marcin Kosinski OK  OK  OK UNNEEDED, same version exists in internal repository
313/381RTCGA.methylation 1.15.0Marcin Kosinski OK  OK  OK UNNEEDED, same version exists in internal repository
314/381RTCGA.miRNASeq 1.15.0Marcin Kosinski OK  OK  OK UNNEEDED, same version exists in internal repository
315/381RTCGA.mRNA 1.15.0Marcin Kosinski OK  OK  OK UNNEEDED, same version exists in internal repository
316/381RTCGA.mutations 20151101.17.0Marcin Kosinski OK  OK  OK UNNEEDED, same version exists in internal repository
317/381RTCGA.PANCAN12 1.15.0Marcin Kosinski OK  OK  OK UNNEEDED, same version exists in internal repository
318/381RTCGA.rnaseq 20151101.17.0Marcin Kosinski OK  OK  OK UNNEEDED, same version exists in internal repository
319/381RTCGA.RPPA 1.15.0Marcin Kosinski OK  OK  OK UNNEEDED, same version exists in internal repository
320/381RUVnormalizeData 1.7.0Laurent Jacob OK  OK  OK UNNEEDED, same version exists in internal repository
321/381sampleClassifierData 1.11.0Khadija El Amrani OK  OK  OK UNNEEDED, same version exists in internal repository
322/381SBGNview.data 1.1.0Xiaoxi Dong OK  OK  OK UNNEEDED, same version exists in internal repository
323/381SCLCBam 1.19.0Oscar Krijgsman OK  OK  OK UNNEEDED, same version exists in internal repository
324/381scRNAseq 2.1.3Aaron Lun OK  OK  OK UNNEEDED, same version exists in internal repository
325/381seq2pathway.data 1.19.0Xinan Holly Yang OK  OK  WARNINGS UNNEEDED, same version exists in internal repository
326/381seqc 1.21.0Yang Liao and Wei Shi OK  OK  OK UNNEEDED, same version exists in internal repository
327/381seqCNA.annot 1.23.0David Mosen-Ansorena OK  OK  OK UNNEEDED, same version exists in internal repository
328/381serumStimulation 1.23.0Morten Hansen, OK  OK  OK UNNEEDED, same version exists in internal repository
329/381sesameData 1.5.0Wanding Zhou OK  OK  OK UNNEEDED, same version exists in internal repository
330/381seventyGeneData 1.23.0Luigi Marchionni OK  OK  OK UNNEEDED, same version exists in internal repository
331/381shinyMethylData 1.7.0Jean-Philippe Fortin OK  OK  OK UNNEEDED, same version exists in internal repository
332/381signatureSearchData 1.1.0Yuzhu Duan OK  OK  OK UNNEEDED, same version exists in internal repository
333/381simpIntLists 1.23.0Kircicegi Korkmaz OK  OK  WARNINGS UNNEEDED, same version exists in internal repository
334/381Single.mTEC.Transcriptomes 1.15.0Alejandro Reyes OK  OK  OK UNNEEDED, same version exists in internal repository
335/381SNAData 1.33.0Denise Scholtens OK  OK  OK UNNEEDED, same version exists in internal repository
336/381SNAGEEdata 1.23.0David Venet OK  OK  OK UNNEEDED, same version exists in internal repository
337/381SNPhoodData 1.17.0Christian Arnold OK  OK  OK UNNEEDED, same version exists in internal repository
338/381SomatiCAData 1.25.0Mengjie Chen OK  OK  WARNINGS UNNEEDED, same version exists in internal repository
339/381SomaticCancerAlterations 1.23.0Julian Gehring OK  OK  WARNINGS UNNEEDED, same version exists in internal repository
340/381SpikeIn 1.29.0Rafael A. Irizarry OK  OK  WARNINGS UNNEEDED, same version exists in internal repository
341/381SpikeInSubset 1.27.0Rafael A. Irizarry OK  OK  WARNINGS UNNEEDED, same version exists in internal repository
342/381stemHypoxia 1.23.0Cristobal Fresno OK  OK  OK UNNEEDED, same version exists in internal repository
343/381stjudem 1.27.0Joern Toedling OK  OK  OK UNNEEDED, same version exists in internal repository
344/381SVM2CRMdata 1.19.0Guidantonio Malagoli Tagliazucchi OK  OK  WARNINGS UNNEEDED, same version exists in internal repository
345/381synapterdata 1.25.0Laurent Gatto OK  OK  OK UNNEEDED, same version exists in internal repository
346/381systemPipeRdata 1.15.0Thomas Girke OK  OK  OK UNNEEDED, same version exists in internal repository
347/381TabulaMurisData 1.5.0Charlotte Soneson OK  ERROR  skipped 
348/381TargetScoreData 1.23.0Yue Li OK  OK  OK UNNEEDED, same version exists in internal repository
349/381TargetSearchData 1.25.0Alvaro Cuadros-Inostroza OK  OK  OK UNNEEDED, same version exists in internal repository
350/381tartare 1.1.0Christian Panse OK  OK  OK UNNEEDED, same version exists in internal repository
351/381TBX20BamSubset 1.23.0D. Bindreither OK  OK  OK UNNEEDED, same version exists in internal repository
352/381TCGAbiolinksGUI.data 1.7.0Tiago Chedraoui Silva OK  OK  OK UNNEEDED, same version exists in internal repository
353/381TCGAcrcmiRNA 1.7.0Claudio Isella OK  OK  OK UNNEEDED, same version exists in internal repository
354/381TCGAcrcmRNA 1.7.0Claudio Isella OK  OK  OK UNNEEDED, same version exists in internal repository
355/381TCGAMethylation450k 1.23.0Sean Davis OK  OK  OK UNNEEDED, same version exists in internal repository
356/381tcgaWGBSData.hg19 1.5.0Divy Kangeyan OK  OK  OK UNNEEDED, same version exists in internal repository
357/381TCGAWorkflowData 1.11.0Tiago Chedraoui Silva OK  OK  WARNINGS UNNEEDED, same version exists in internal repository
358/381TENxBrainData 1.7.0Bioconductor Package Maintainer OK  OK  OK UNNEEDED, same version exists in internal repository
359/381TENxBUSData 1.1.0Lambda Moses OK  OK  OK UNNEEDED, same version exists in internal repository
360/381TENxPBMCData 1.5.0Stephanie Hicks OK  OK  OK UNNEEDED, same version exists in internal repository
361/381TimerQuant 1.17.0Joseph Barry OK  OK  OK UNNEEDED, same version exists in internal repository
362/381tinesath1cdf 1.25.0Tine Casneuf OK  OK  WARNINGS UNNEEDED, same version exists in internal repository
363/381tinesath1probe 1.25.0Tine Casneuf OK  OK  WARNINGS UNNEEDED, same version exists in internal repository
364/381tissueTreg 1.7.0Charles Imbusch OK  OK  OK UNNEEDED, same version exists in internal repository
365/381tofsimsData 1.15.0Lorenz Gerber OK  OK  OK UNNEEDED, same version exists in internal repository
366/381topdownrdata 1.9.0Sebastian Gibb OK  OK  OK UNNEEDED, same version exists in internal repository
367/381tweeDEseqCountData 1.25.0Juan R Gonzalez OK  OK  OK UNNEEDED, same version exists in internal repository
368/381tximportData 1.15.0Michael Love OK  OK  OK UNNEEDED, same version exists in internal repository
369/381VariantToolsData 1.11.0Michael Lawrence OK  OK  WARNINGS UNNEEDED, same version exists in internal repository
370/381vulcandata 1.9.0Federico M. Giorgi OK  OK  OK UNNEEDED, same version exists in internal repository
371/381waveTilingData 1.23.0Kristof De Beuf OK  OK  WARNINGS UNNEEDED, same version exists in internal repository
372/381WES.1KG.WUGSC 1.19.0Yuchao Jiang OK  OK  OK UNNEEDED, same version exists in internal repository
373/381XhybCasneuf 1.25.0Tineke Casneuf OK  OK  WARNINGS UNNEEDED, same version exists in internal repository
374/381yeastCC 1.27.0Sandrine Dudoit OK  OK  WARNINGS UNNEEDED, same version exists in internal repository
375/381yeastExpData 0.33.0R. Gentleman OK  OK  WARNINGS UNNEEDED, same version exists in internal repository
376/381yeastGSData 0.25.0R. Gentleman OK  OK  WARNINGS UNNEEDED, same version exists in internal repository
377/381yeastNagalakshmi 1.23.0Bioconductor Package Maintainer OK  OK  OK UNNEEDED, same version exists in internal repository
378/381yeastRNASeq 0.25.0J. Bullard OK  OK  WARNINGS UNNEEDED, same version exists in internal repository
379/381yri1kgv 0.29.0VJ Carey OK  OK  OK UNNEEDED, same version exists in internal repository
380/381yriMulti 0.17.0VJ Carey OK  OK  WARNINGS UNNEEDED, same version exists in internal repository
381/381zebrafishRNASeq 1.7.0Davide Risso OK  OK  OK UNNEEDED, same version exists in internal repository