Build/check report for BioC 3.11 annotations

This page was generated on 2020-04-22 17:30:05 -0400 (Wed, 22 Apr 2020).

git log

Snapshot Date: 2020-04-22 10:00:01 -0400 (Wed, 22 Apr 2020)

HostnameOSArch (*)Platform label (**)R versionInstalled pkgs
malbec2Linux (Ubuntu 18.04.4 LTS)x86_64x86_64-linux-gnu4.0.0 RC (2020-04-19 r78255) -- "Arbor Day" 3719
Click on any hostname to see more info about the system (e.g. compilers)      (*) as reported by 'uname -p', except on Windows and Mac OS X      (**) as reported by 'gcc -v'

Package status is indicated by one of the following glyphs
 TIMEOUT  INSTALL, BUILD, CHECK or BUILD BIN of package took more than 40 minutes Use the check boxes to show only packages with the selected status types.
 ERROR  Bad DESCRIPTION file or INSTALL, BUILD or BUILD BIN of package failed, or CHECK produced errors
 WARNINGS  CHECK of package produced warnings
 OK  INSTALL, BUILD, CHECK or BUILD BIN of package was OK
 skipped  CHECK or BUILD BIN of package was skipped because the BUILD step failed
 NA  BUILD, CHECK or BUILD BIN result is not available because of an anomaly in the Build System
Click on any glyph in the report below to access the detailed results.
Package propagation status is indicated by one of the following LEDs
YES YES: Package was propagated because it didn't previously exist or version was bumped
NO NO: Package was not propagated because of a problem (impossible dependencies, or version lower than what is already propagated)
UNNEEDED UNNEEDED: Package was not propagated because it is already in the repository with this version. A version bump is required in order to propagate it

A crossed-out package name indicates the package is deprecated


SUMMARYOS / ArchINSTALLBUILDCHECK
malbec2 Linux (Ubuntu 18.04.4 LTS) / x86_64 
0010
028
0008
PackageMaintainerINSTALLBUILDCHECK
1/10ENCODExplorerData 0.99.5Eric Fournier OK  OK  OK UNNEEDED, same version exists in internal repository
2/10EpiTxDb.Hs.hg38 0.99.3Felix G.M. Ernst OK  OK  OK UNNEEDED, same version exists in internal repository
3/10EpiTxDb.Mm.mm10 0.99.4Felix G.M. Ernst OK  OK  OK UNNEEDED, same version exists in internal repository
4/10EpiTxDb.Sc.sacCer3 0.99.3Felix G.M. Ernst OK  OK  OK UNNEEDED, same version exists in internal repository
5/10EuPathDB 1.0.1Keith Hughitt OK  ERROR  skipped 
6/10GenomicState 0.99.11Leonardo Collado-Torres OK  ERROR  skipped 
7/10JASPAR2020 0.99.8Damir Baranasic OK  OK  OK YES, package does not exist in internal repository.
8/10org.Mxanthus.db 1.0.27Eduardo Illueca Fern├índez OK  OK  OK UNNEEDED, same version exists in internal repository
9/10PANTHER.db 1.0.10Julius Muller OK  OK  OK UNNEEDED, same version exists in internal repository
10/10rat2302frmavecs 0.99.11Sylvain Gubian OK  OK  OK UNNEEDED, same version exists in internal repository