Long Tests report for BioC 3.11

See here for how to subscribe to these builds.

This page was generated on 2020-09-26 17:30:04 -0400 (Sat, 26 Sep 2020).

Approx. Package Snapshot Date (git pull): 2020-09-26 09:00:02 -0400 (Sat, 26 Sep 2020)

HostnameOSArch (*)Platform label (**)R versionInstalled pkgs
malbec2Linux (Ubuntu 18.04.4 LTS)x86_64x86_64-linux-gnu4.0.2 (2020-06-22) -- "Taking Off Again" 3868
tokay2Windows Server 2012 R2 Standardx64mingw32 / x86_64-w64-mingw324.0.2 (2020-06-22) -- "Taking Off Again" 3653
machv2macOS 10.14.6 Mojavex86_64x86_64-apple-darwin18.7.04.0.2 (2020-06-22) -- "Taking Off Again" 3678
Click on any hostname to see more info about the system (e.g. compilers)      (*) as reported by 'uname -p', except on Windows and Mac OS X      (**) as reported by 'gcc -v'

Package status is indicated by one of the following glyphs
 TIMEOUT  CHECK of package took more than 360 minutes Use the check boxes to show only packages with the selected status types.
 ERROR  Bad DESCRIPTION file or CHECK of package produced errors
 WARNINGS  CHECK of package produced warnings
 OK  CHECK of package was OK
 NA  CHECK result is not available because of an anomaly in the Build System
Click on any glyph in the report below to access the detailed results.

SUMMARYOS / ArchCHECK
malbec2 Linux (Ubuntu 18.04.4 LTS) / x86_64 
0115
tokay2 Windows Server 2012 R2 Standard / x64 
0223
machv2 macOS 10.14.6 Mojave / x86_64 
0115
Package 1/7HostnameOS / ArchCHECK
APAlyzer 1.2.0
Ruijia Wang
Last Commit: 8c1a739
Last Changed Date: 2020-04-27 15:29:12 -0400
malbec2 Linux (Ubuntu 18.04.4 LTS) / x86_64  OK 
tokay2 Windows Server 2012 R2 Standard / x64  OK 
machv2 macOS 10.14.6 Mojave / x86_64  OK 
Package 2/7HostnameOS / ArchCHECK
beachmat 2.4.0
Aaron Lun
Last Commit: f8ee009
Last Changed Date: 2020-04-27 15:08:50 -0400
malbec2 Linux (Ubuntu 18.04.4 LTS) / x86_64  OK 
tokay2 Windows Server 2012 R2 Standard / x64  ERROR 
machv2 macOS 10.14.6 Mojave / x86_64  OK 
Package 3/7HostnameOS / ArchCHECK
cBioPortalData 2.0.10
Marcel Ramos
Last Commit: a52b1ab
Last Changed Date: 2020-08-26 18:14:19 -0400
malbec2 Linux (Ubuntu 18.04.4 LTS) / x86_64  ERROR 
tokay2 Windows Server 2012 R2 Standard / x64  ERROR 
machv2 macOS 10.14.6 Mojave / x86_64  ERROR 
Package 4/7HostnameOS / ArchCHECK
GenomicFeatures 1.40.1
Bioconductor Package Maintainer
Last Commit: ee9accf
Last Changed Date: 2020-07-07 04:54:13 -0400
malbec2 Linux (Ubuntu 18.04.4 LTS) / x86_64  WARNINGS 
tokay2 Windows Server 2012 R2 Standard / x64  WARNINGS 
machv2 macOS 10.14.6 Mojave / x86_64  WARNINGS 
Package 5/7HostnameOS / ArchCHECK
HDF5Array 1.16.1
Hervé Pagès
Last Commit: 0b5a293
Last Changed Date: 2020-06-16 04:42:27 -0400
malbec2 Linux (Ubuntu 18.04.4 LTS) / x86_64  OK 
tokay2 Windows Server 2012 R2 Standard / x64  WARNINGS 
machv2 macOS 10.14.6 Mojave / x86_64  OK 
Package 6/7HostnameOS / ArchCHECK
rhdf5 2.32.2
Mike Smith
Last Commit: 6708cc9
Last Changed Date: 2020-06-09 05:29:44 -0400
malbec2 Linux (Ubuntu 18.04.4 LTS) / x86_64  OK 
tokay2 Windows Server 2012 R2 Standard / x64  OK 
machv2 macOS 10.14.6 Mojave / x86_64  OK 
Package 7/7HostnameOS / ArchCHECK
xcms 3.10.2
Steffen Neumann
Last Commit: 4ff8895
Last Changed Date: 2020-09-18 09:32:16 -0400
malbec2 Linux (Ubuntu 18.04.4 LTS) / x86_64  OK 
tokay2 Windows Server 2012 R2 Standard / x64  OK 
machv2 macOS 10.14.6 Mojave / x86_64  OK