Back to Multiple platform build/check report for BioC 3.11
ABCDEFGHIJKLMNOPQR[S]TUVWXYZ

BUILD BIN report for signeR on tokay2

This page was generated on 2020-08-08 12:54:29 -0400 (Sat, 08 Aug 2020).

TO THE DEVELOPERS/MAINTAINERS OF THE signeR PACKAGE: Please make sure to use the following settings in order to reproduce any error or warning you see on this page.
Package 1656/1905HostnameOS / ArchINSTALLBUILDCHECKBUILD BIN
signeR 1.14.0
Renan Valieris
Snapshot Date: 2020-08-07 14:50:16 -0400 (Fri, 07 Aug 2020)
URL: https://git.bioconductor.org/packages/signeR
Branch: RELEASE_3_11
Last Commit: 4fcdc43
Last Changed Date: 2020-04-27 15:01:35 -0400 (Mon, 27 Apr 2020)
malbec2 Linux (Ubuntu 18.04.4 LTS) / x86_64  OK  OK  OK UNNEEDED, same version exists in internal repository
tokay2 Windows Server 2012 R2 Standard / x64  OK  OK  OK [ OK ]UNNEEDED, same version exists in internal repository
machv2 macOS 10.14.6 Mojave / x86_64  OK  OK  OK  OK UNNEEDED, same version exists in internal repository

Summary

Package: signeR
Version: 1.14.0
Command: rm -rf signeR.buildbin-libdir && mkdir signeR.buildbin-libdir && C:\Users\biocbuild\bbs-3.11-bioc\R\bin\R.exe CMD INSTALL --merge-multiarch --build --library=signeR.buildbin-libdir signeR_1.14.0.tar.gz
StartedAt: 2020-08-08 11:23:43 -0400 (Sat, 08 Aug 2020)
EndedAt: 2020-08-08 11:25:30 -0400 (Sat, 08 Aug 2020)
EllapsedTime: 107.7 seconds
RetCode: 0
Status:  OK  
PackageFile: signeR_1.14.0.zip
PackageFileSize: 1.374 MiB

Command output

##############################################################################
##############################################################################
###
### Running command:
###
###   rm -rf signeR.buildbin-libdir && mkdir signeR.buildbin-libdir && C:\Users\biocbuild\bbs-3.11-bioc\R\bin\R.exe CMD INSTALL --merge-multiarch --build --library=signeR.buildbin-libdir signeR_1.14.0.tar.gz
###
##############################################################################
##############################################################################



install for i386

* installing *source* package 'signeR' ...
** using staged installation
** libs
"C:/rtools40/mingw32/bin/"g++  -std=gnu++11 -I"C:/Users/BIOCBU~1/BBS-3~1.11-/R/include" -DNDEBUG  -I'C:/Users/biocbuild/bbs-3.11-bioc/R/library/Rcpp/include' -I'C:/Users/biocbuild/bbs-3.11-bioc/R/library/RcppArmadillo/include'   -I"C:/extsoft/include"     -O2 -Wall  -mfpmath=sse -msse2 -mstackrealign -c RcppExports.cpp -o RcppExports.o
"C:/rtools40/mingw32/bin/"g++  -std=gnu++11 -I"C:/Users/BIOCBU~1/BBS-3~1.11-/R/include" -DNDEBUG  -I'C:/Users/biocbuild/bbs-3.11-bioc/R/library/Rcpp/include' -I'C:/Users/biocbuild/bbs-3.11-bioc/R/library/RcppArmadillo/include'   -I"C:/extsoft/include"     -O2 -Wall  -mfpmath=sse -msse2 -mstackrealign -c gibbs_2.cpp -o gibbs_2.o
"C:/rtools40/mingw32/bin/"gcc  -I"C:/Users/BIOCBU~1/BBS-3~1.11-/R/include" -DNDEBUG  -I'C:/Users/biocbuild/bbs-3.11-bioc/R/library/Rcpp/include' -I'C:/Users/biocbuild/bbs-3.11-bioc/R/library/RcppArmadillo/include'   -I"C:/extsoft/include"     -O2 -Wall  -std=gnu99 -mfpmath=sse -msse2 -mstackrealign -c signeR_init.c -o signeR_init.o
C:/rtools40/mingw32/bin/g++ -shared -s -static-libgcc -o signeR.dll tmp.def RcppExports.o gibbs_2.o signeR_init.o -LC:/Users/BIOCBU~1/BBS-3~1.11-/R/bin/i386 -lRlapack -LC:/Users/BIOCBU~1/BBS-3~1.11-/R/bin/i386 -lRblas -lgfortran -lm -lquadmath -LC:/extsoft/lib/i386 -LC:/extsoft/lib -LC:/Users/BIOCBU~1/BBS-3~1.11-/R/bin/i386 -lR
installing to C:/Users/biocbuild/bbs-3.11-bioc/meat/signeR.buildbin-libdir/00LOCK-signeR/00new/signeR/libs/i386
** R
** inst
** byte-compile and prepare package for lazy loading
** help
*** installing help indices
  converting help for package 'signeR'
    finding HTML links ... done
    classify                                html  
    diffexp                                 html  
    genMatrix                               html  
    methods                                 html  
    plots                                   html  
    signeR-package                          html  
    signeR                                  html  
    signexp-class                           html  
** building package indices
** installing vignettes
** testing if installed package can be loaded from temporary location
** testing if installed package can be loaded from final location
** testing if installed package keeps a record of temporary installation path

install for x64

* installing *source* package 'signeR' ...
** libs
"C:/rtools40/mingw64/bin/"g++  -std=gnu++11 -I"C:/Users/BIOCBU~1/BBS-3~1.11-/R/include" -DNDEBUG  -I'C:/Users/biocbuild/bbs-3.11-bioc/R/library/Rcpp/include' -I'C:/Users/biocbuild/bbs-3.11-bioc/R/library/RcppArmadillo/include'   -I"C:/extsoft/include"     -O2 -Wall  -mfpmath=sse -msse2 -mstackrealign -c RcppExports.cpp -o RcppExports.o
"C:/rtools40/mingw64/bin/"g++  -std=gnu++11 -I"C:/Users/BIOCBU~1/BBS-3~1.11-/R/include" -DNDEBUG  -I'C:/Users/biocbuild/bbs-3.11-bioc/R/library/Rcpp/include' -I'C:/Users/biocbuild/bbs-3.11-bioc/R/library/RcppArmadillo/include'   -I"C:/extsoft/include"     -O2 -Wall  -mfpmath=sse -msse2 -mstackrealign -c gibbs_2.cpp -o gibbs_2.o
"C:/rtools40/mingw64/bin/"gcc  -I"C:/Users/BIOCBU~1/BBS-3~1.11-/R/include" -DNDEBUG  -I'C:/Users/biocbuild/bbs-3.11-bioc/R/library/Rcpp/include' -I'C:/Users/biocbuild/bbs-3.11-bioc/R/library/RcppArmadillo/include'   -I"C:/extsoft/include"     -O2 -Wall  -std=gnu99 -mfpmath=sse -msse2 -mstackrealign -c signeR_init.c -o signeR_init.o
C:/rtools40/mingw64/bin/g++ -shared -s -static-libgcc -o signeR.dll tmp.def RcppExports.o gibbs_2.o signeR_init.o -LC:/Users/BIOCBU~1/BBS-3~1.11-/R/bin/x64 -lRlapack -LC:/Users/BIOCBU~1/BBS-3~1.11-/R/bin/x64 -lRblas -lgfortran -lm -lquadmath -LC:/extsoft/lib/x64 -LC:/extsoft/lib -LC:/Users/BIOCBU~1/BBS-3~1.11-/R/bin/x64 -lR
installing to C:/Users/biocbuild/bbs-3.11-bioc/meat/signeR.buildbin-libdir/signeR/libs/x64
** testing if installed package can be loaded
* MD5 sums
packaged installation of 'signeR' as signeR_1.14.0.zip
* DONE (signeR)