Back to Multiple platform build/check report for BioC 3.11
ABCDEFGHIJKLMNOPQ[R]STUVWXYZ

Multiple platform build/check report for BioC 3.11

Results for receptLoss

This page was generated on 2020-09-23 11:43:45 -0400 (Wed, 23 Sep 2020).

Package 1451/1905HostnameOS / ArchINSTALLBUILDCHECKBUILD BIN
receptLoss 1.0.0
Daniel Pique
Snapshot Date: 2020-09-22 14:51:36 -0400 (Tue, 22 Sep 2020)
URL: https://git.bioconductor.org/packages/receptLoss
Branch: RELEASE_3_11
Last Commit: 3be5e80
Last Changed Date: 2020-04-27 15:34:18 -0400 (Mon, 27 Apr 2020)
malbec2 Linux (Ubuntu 18.04.4 LTS) / x86_64  OK  OK  OK UNNEEDED, same version exists in internal repository
tokay2 Windows Server 2012 R2 Standard / x64  OK  OK  OK  OK UNNEEDED, same version exists in internal repository
machv2 macOS 10.14.6 Mojave / x86_64  OK  OK  OK  OK UNNEEDED, same version exists in internal repository