Back to Multiple platform build/check report for BioC 3.11
ABCDEFGHIJKLMNOPQ[R]STUVWXYZ

Multiple platform build/check report for BioC 3.11

Results for rRDP

This page was generated on 2020-07-13 13:37:46 -0400 (Mon, 13 Jul 2020).

Package 1536/1905HostnameOS / ArchINSTALLBUILDCHECKBUILD BIN
rRDP 1.22.0
Michael Hahsler
Snapshot Date: 2020-07-12 15:50:18 -0400 (Sun, 12 Jul 2020)
URL: https://git.bioconductor.org/packages/rRDP
Branch: RELEASE_3_11
Last Commit: 6b6d9f7
Last Changed Date: 2020-04-27 14:43:25 -0400 (Mon, 27 Apr 2020)
malbec2 Linux (Ubuntu 18.04.4 LTS) / x86_64  OK  OK  OK UNNEEDED, same version exists in internal repository
tokay2 Windows Server 2012 R2 Standard / x64  OK  OK  OK  OK UNNEEDED, same version exists in internal repository
machv2 macOS 10.14.6 Mojave / x86_64  OK  OK  OK  OK UNNEEDED, same version exists in internal repository