Back to Multiple platform build/check report for BioC 3.11
ABCDEFGHIJKLMNOP[Q]RSTUVWXYZ

Multiple platform build/check report for BioC 3.11

Results for qsmooth

This page was generated on 2020-09-23 11:43:45 -0400 (Wed, 23 Sep 2020).

Package 1394/1905HostnameOS / ArchINSTALLBUILDCHECKBUILD BIN
qsmooth 1.4.0
Stephanie C. Hicks
Snapshot Date: 2020-09-22 14:51:36 -0400 (Tue, 22 Sep 2020)
URL: https://git.bioconductor.org/packages/qsmooth
Branch: RELEASE_3_11
Last Commit: f5ee169
Last Changed Date: 2020-04-27 15:24:58 -0400 (Mon, 27 Apr 2020)
malbec2 Linux (Ubuntu 18.04.4 LTS) / x86_64  OK  ERROR  skipped 
tokay2 Windows Server 2012 R2 Standard / x64  OK  ERROR  skipped  skipped 
machv2 macOS 10.14.6 Mojave / x86_64  OK  ERROR  skipped  skipped