Back to Multiple platform build/check report for BioC 3.11
ABCDEFGHIJKLMNO[P]QRSTUVWXYZ

Multiple platform build/check report for BioC 3.11

Results for pulsedSilac

This page was generated on 2020-10-17 11:54:15 -0400 (Sat, 17 Oct 2020).

Package 1377/1905HostnameOS / ArchINSTALLBUILDCHECKBUILD BIN
pulsedSilac 1.2.0
Marc Pag├Ęs-Gallego
Snapshot Date: 2020-10-16 14:40:19 -0400 (Fri, 16 Oct 2020)
URL: https://git.bioconductor.org/packages/pulsedSilac
Branch: RELEASE_3_11
Last Commit: 1f5efa5
Last Changed Date: 2020-04-27 15:30:59 -0400 (Mon, 27 Apr 2020)
malbec2 Linux (Ubuntu 18.04.4 LTS) / x86_64  OK  OK  OK UNNEEDED, same version exists in internal repository
tokay2 Windows Server 2012 R2 Standard / x64  OK  OK  OK  OK UNNEEDED, same version exists in internal repository
machv2 macOS 10.14.6 Mojave / x86_64  OK  OK  OK  OK UNNEEDED, same version exists in internal repository