Back to Multiple platform build/check report for BioC 3.11
A[B]CDEFGHIJKLMNOPQRSTUVWXYZ

Multiple platform build/check report for BioC 3.11

Results for biovizBase

This page was generated on 2020-09-23 11:43:39 -0400 (Wed, 23 Sep 2020).

Package 186/1905HostnameOS / ArchINSTALLBUILDCHECKBUILD BIN
biovizBase 1.36.0
Michael Lawrence
Snapshot Date: 2020-09-22 14:51:36 -0400 (Tue, 22 Sep 2020)
URL: https://git.bioconductor.org/packages/biovizBase
Branch: RELEASE_3_11
Last Commit: bfbea51
Last Changed Date: 2020-04-27 14:27:05 -0400 (Mon, 27 Apr 2020)
malbec2 Linux (Ubuntu 18.04.4 LTS) / x86_64  OK  OK  WARNINGS UNNEEDED, same version exists in internal repository
tokay2 Windows Server 2012 R2 Standard / x64  OK  OK  WARNINGS  OK UNNEEDED, same version exists in internal repository
machv2 macOS 10.14.6 Mojave / x86_64  OK  OK  WARNINGS  OK UNNEEDED, same version exists in internal repository