Back to Multiple platform build/check report for BioC 3.11
ABCDEFGHIJKLMNOPQR[S]TUVWXYZ

Multiple platform build/check report for BioC 3.11

Results for SummarizedExperiment

This page was generated on 2020-08-10 12:36:54 -0400 (Mon, 10 Aug 2020).

Package 1758/1905HostnameOS / ArchINSTALLBUILDCHECKBUILD BIN
SummarizedExperiment 1.18.2
Bioconductor Package Maintainer
Snapshot Date: 2020-08-09 14:50:19 -0400 (Sun, 09 Aug 2020)
URL: https://git.bioconductor.org/packages/SummarizedExperiment
Branch: RELEASE_3_11
Last Commit: e22fafe
Last Changed Date: 2020-07-09 13:43:22 -0400 (Thu, 09 Jul 2020)
malbec2 Linux (Ubuntu 18.04.4 LTS) / x86_64  OK  OK  OK UNNEEDED, same version exists in internal repository
tokay2 Windows Server 2012 R2 Standard / x64  OK  OK  WARNINGS  OK UNNEEDED, same version exists in internal repository
machv2 macOS 10.14.6 Mojave / x86_64  OK  OK  OK  OK UNNEEDED, same version exists in internal repository