Back to Multiple platform build/check report for BioC 3.11
ABCDEFGHIJKLMNOPQR[S]TUVWXYZ

Multiple platform build/check report for BioC 3.11

Results for SplicingGraphs

This page was generated on 2020-10-17 11:54:18 -0400 (Sat, 17 Oct 2020).

Package 1717/1905HostnameOS / ArchINSTALLBUILDCHECKBUILD BIN
SplicingGraphs 1.28.0
H. Pag├Ęs
Snapshot Date: 2020-10-16 14:40:19 -0400 (Fri, 16 Oct 2020)
URL: https://git.bioconductor.org/packages/SplicingGraphs
Branch: RELEASE_3_11
Last Commit: b8e7d74
Last Changed Date: 2020-04-27 14:34:27 -0400 (Mon, 27 Apr 2020)
malbec2 Linux (Ubuntu 18.04.4 LTS) / x86_64  OK  OK  WARNINGS UNNEEDED, same version exists in internal repository
tokay2 Windows Server 2012 R2 Standard / x64  OK  OK  TIMEOUT  NA 
machv2 macOS 10.14.6 Mojave / x86_64  OK  OK  WARNINGS  OK UNNEEDED, same version exists in internal repository