Back to Multiple platform build/check report for BioC 3.11
ABCD[E]FGHIJKLMNOPQRSTUVWXYZ

Multiple platform build/check report for BioC 3.11

Results for EBImage

This page was generated on 2020-10-17 11:54:10 -0400 (Sat, 17 Oct 2020).

Package 521/1905HostnameOS / ArchINSTALLBUILDCHECKBUILD BIN
EBImage 4.30.0
Andrzej OleĊ›
Snapshot Date: 2020-10-16 14:40:19 -0400 (Fri, 16 Oct 2020)
URL: https://git.bioconductor.org/packages/EBImage
Branch: RELEASE_3_11
Last Commit: 21c6d1a
Last Changed Date: 2020-04-27 14:13:04 -0400 (Mon, 27 Apr 2020)
malbec2 Linux (Ubuntu 18.04.4 LTS) / x86_64  OK  OK  OK UNNEEDED, same version exists in internal repository
tokay2 Windows Server 2012 R2 Standard / x64  OK  OK  ERROR  OK 
machv2 macOS 10.14.6 Mojave / x86_64  OK  OK  OK  OK UNNEEDED, same version exists in internal repository