Back to Multiple platform build/check report for BioC 3.11
AB[C]DEFGHIJKLMNOPQRSTUVWXYZ

Multiple platform build/check report for BioC 3.11

Results for CAMERA

This page was generated on 2020-05-30 14:24:10 -0400 (Sat, 30 May 2020).

Package 222/1905HostnameOS / ArchINSTALLBUILDCHECKBUILD BIN
CAMERA 1.44.0
Steffen Neumann
Snapshot Date: 2020-05-29 16:51:25 -0400 (Fri, 29 May 2020)
URL: https://git.bioconductor.org/packages/CAMERA
Branch: RELEASE_3_11
Last Commit: 2f05aa6
Last Changed Date: 2020-04-27 14:18:58 -0400 (Mon, 27 Apr 2020)
malbec2 Linux (Ubuntu 18.04.4 LTS) / x86_64  OK  OK  WARNINGS UNNEEDED, same version exists in internal repository
tokay2 Windows Server 2012 R2 Standard / x64  OK  OK  WARNINGS  OK UNNEEDED, same version exists in internal repository
machv2 macOS 10.14.6 Mojave / x86_64  OK  OK  WARNINGS  OK UNNEEDED, same version exists in internal repository