Back to Multiple platform build/check report for BioC 3.11
A[B]CDEFGHIJKLMNOPQRSTUVWXYZ

Multiple platform build/check report for BioC 3.11

Results for BASiCS

This page was generated on 2020-07-13 13:34:29 -0400 (Mon, 13 Jul 2020).

Package 115/1905HostnameOS / ArchINSTALLBUILDCHECKBUILD BIN
BASiCS 2.0.0
Catalina Vallejos
Snapshot Date: 2020-07-12 15:50:18 -0400 (Sun, 12 Jul 2020)
URL: https://git.bioconductor.org/packages/BASiCS
Branch: RELEASE_3_11
Last Commit: 15fd420
Last Changed Date: 2020-04-27 15:10:45 -0400 (Mon, 27 Apr 2020)
malbec2 Linux (Ubuntu 18.04.4 LTS) / x86_64  OK  OK  OK UNNEEDED, same version exists in internal repository
tokay2 Windows Server 2012 R2 Standard / x64  OK  OK  OK  OK UNNEEDED, same version exists in internal repository
machv2 macOS 10.14.6 Mojave / x86_64  OK  OK  OK  OK UNNEEDED, same version exists in internal repository