Back to Multiple platform build/check report for BioC 3.10
ABCDEFGHIJKLMNOPQR[S]TUVWXYZ

Multiple platform build/check report for BioC 3.10

Results for systemPipeR

This page was generated on 2020-02-16 12:22:39 -0500 (Sun, 16 Feb 2020).

Package 1702/1823HostnameOS / ArchINSTALLBUILDCHECKBUILD BIN
systemPipeR 1.20.0
Thomas Girke
Snapshot Date: 2020-02-15 16:45:44 -0500 (Sat, 15 Feb 2020)
URL: https://git.bioconductor.org/packages/systemPipeR
Branch: RELEASE_3_10
Last Commit: 70b884d
Last Changed Date: 2019-10-29 13:09:04 -0500 (Tue, 29 Oct 2019)
malbec1 Linux (Ubuntu 18.04.3 LTS) / x86_64  OK  OK  OK UNNEEDED, same version exists in internal repository
tokay1 Windows Server 2012 R2 Standard / x64  OK  OK  OK  OK UNNEEDED, same version exists in internal repository
merida1 OS X 10.11.6 El Capitan / x86_64  OK  OK  OK  OK UNNEEDED, same version exists in internal repository