Back to Multiple platform build/check report for BioC 3.10
ABCDEFGHIJKLMNOPQ[R]STUVWXYZ

Multiple platform build/check report for BioC 3.10

Results for rmelting

This page was generated on 2020-04-01 11:57:01 -0400 (Wed, 01 Apr 2020).

Package 1446/1823HostnameOS / ArchINSTALLBUILDCHECKBUILD BIN
rmelting 1.2.0
J. Aravind
Snapshot Date: 2020-03-31 16:45:50 -0400 (Tue, 31 Mar 2020)
URL: https://git.bioconductor.org/packages/rmelting
Branch: RELEASE_3_10
Last Commit: a7c397d
Last Changed Date: 2019-10-29 13:11:29 -0400 (Tue, 29 Oct 2019)
malbec1 Linux (Ubuntu 18.04.4 LTS) / x86_64  OK  OK  OK UNNEEDED, same version exists in internal repository
tokay1 Windows Server 2012 R2 Standard / x64  ERROR  OK  ERROR  ERROR 
merida1 OS X 10.11.6 El Capitan / x86_64  OK  OK  OK  OK UNNEEDED, same version exists in internal repository