Back to Multiple platform build/check report for BioC 3.10
ABCDEFGH[I]JKLMNOPQRSTUVWXYZ

Multiple platform build/check report for BioC 3.10

Results for isobar

This page was generated on 2020-04-06 11:59:57 -0400 (Mon, 06 Apr 2020).

Package 866/1823HostnameOS / ArchINSTALLBUILDCHECKBUILD BIN
isobar 1.32.0
Florian P Breitwieser
Snapshot Date: 2020-04-05 16:45:51 -0400 (Sun, 05 Apr 2020)
URL: https://git.bioconductor.org/packages/isobar
Branch: RELEASE_3_10
Last Commit: d229f6e
Last Changed Date: 2019-10-29 13:08:23 -0400 (Tue, 29 Oct 2019)
malbec1 Linux (Ubuntu 18.04.4 LTS) / x86_64  OK  OK  WARNINGS UNNEEDED, same version exists in internal repository
tokay1 Windows Server 2012 R2 Standard / x64  OK  OK  WARNINGS  OK UNNEEDED, same version exists in internal repository
merida1 OS X 10.11.6 El Capitan / x86_64  OK  OK  WARNINGS  OK UNNEEDED, same version exists in internal repository