Back to Multiple platform build/check report for BioC 3.10
ABCDEF[G]HIJKLMNOPQRSTUVWXYZ

Multiple platform build/check report for BioC 3.10

Results for ggtree

This page was generated on 2020-04-05 12:23:11 -0400 (Sun, 05 Apr 2020).

Package 704/1823HostnameOS / ArchINSTALLBUILDCHECKBUILD BIN
ggtree 2.0.2
Guangchuang Yu
Snapshot Date: 2020-04-04 16:46:08 -0400 (Sat, 04 Apr 2020)
URL: https://git.bioconductor.org/packages/ggtree
Branch: RELEASE_3_10
Last Commit: 29805a9
Last Changed Date: 2020-03-16 02:36:35 -0400 (Mon, 16 Mar 2020)
malbec1 Linux (Ubuntu 18.04.4 LTS) / x86_64  OK  OK  OK UNNEEDED, same version exists in internal repository
tokay1 Windows Server 2012 R2 Standard / x64  OK  OK  WARNINGS  OK UNNEEDED, same version exists in internal repository
merida1 OS X 10.11.6 El Capitan / x86_64  OK  OK  OK  OK UNNEEDED, same version exists in internal repository