Back to Multiple platform build/check report for BioC 3.10
AB[C]DEFGHIJKLMNOPQRSTUVWXYZ

Multiple platform build/check report for BioC 3.10

Results for cogena

This page was generated on 2020-04-05 12:22:30 -0400 (Sun, 05 Apr 2020).

Package 338/1823HostnameOS / ArchINSTALLBUILDCHECKBUILD BIN
cogena 1.20.0
Zhilong Jia
Snapshot Date: 2020-04-04 16:46:08 -0400 (Sat, 04 Apr 2020)
URL: https://git.bioconductor.org/packages/cogena
Branch: RELEASE_3_10
Last Commit: 6d9ab97
Last Changed Date: 2019-10-29 13:09:16 -0400 (Tue, 29 Oct 2019)
malbec1 Linux (Ubuntu 18.04.4 LTS) / x86_64  OK  OK  WARNINGS UNNEEDED, same version exists in internal repository
tokay1 Windows Server 2012 R2 Standard / x64  OK  OK  WARNINGS  OK UNNEEDED, same version exists in internal repository
merida1 OS X 10.11.6 El Capitan / x86_64  OK  OK  WARNINGS  OK UNNEEDED, same version exists in internal repository